BEGIN:VCALENDAR
VERSION:2.0
PRODID:-//Bridging Communities - ECPv6.15.20//NONSGML v1.0//EN
CALSCALE:GREGORIAN
METHOD:PUBLISH
X-WR-CALNAME:Bridging Communities
X-ORIGINAL-URL:https://bcoregon.org
X-WR-CALDESC:Events for Bridging Communities
REFRESH-INTERVAL;VALUE=DURATION:PT1H
X-Robots-Tag:noindex
X-PUBLISHED-TTL:PT1H
BEGIN:VTIMEZONE
TZID:America/Los_Angeles
BEGIN:DAYLIGHT
TZOFFSETFROM:-0800
TZOFFSETTO:-0700
TZNAME:PDT
DTSTART:20240310T100000
END:DAYLIGHT
BEGIN:STANDARD
TZOFFSETFROM:-0700
TZOFFSETTO:-0800
TZNAME:PST
DTSTART:20241103T090000
END:STANDARD
BEGIN:DAYLIGHT
TZOFFSETFROM:-0800
TZOFFSETTO:-0700
TZNAME:PDT
DTSTART:20250309T100000
END:DAYLIGHT
BEGIN:STANDARD
TZOFFSETFROM:-0700
TZOFFSETTO:-0800
TZNAME:PST
DTSTART:20251102T090000
END:STANDARD
BEGIN:DAYLIGHT
TZOFFSETFROM:-0800
TZOFFSETTO:-0700
TZNAME:PDT
DTSTART:20260308T100000
END:DAYLIGHT
BEGIN:STANDARD
TZOFFSETFROM:-0700
TZOFFSETTO:-0800
TZNAME:PST
DTSTART:20261101T090000
END:STANDARD
END:VTIMEZONE
BEGIN:VEVENT
DTSTART;TZID=America/Los_Angeles:20251202T100000
DTEND;TZID=America/Los_Angeles:20251202T110000
DTSTAMP:20260420T074559
CREATED:20250919T195513Z
LAST-MODIFIED:20251201T170613Z
UID:10000245-1764669600-1764673200@bcoregon.org
SUMMARY:Sip & Support  / Tomar & conectar
DESCRIPTION:Sip & Support – Grants Pass Parent GroupFinding community and sharing resources\, one sip at a time. \nCome as you are and join us for Sip & Support\, a new parent and caregiver group in Grants Pass. This is a relaxed space to enjoy your favorite drink\, connect with other parents of children with disabilities\, and share stories with people who truly understand the journey. \nThis group is peer-led\, which means it’s hosted by fellow parents who “get it.” You’ll leave with encouragement\, new ideas\, and maybe even a new friend. \n📅 When: Tuesday\, October 7\, 2025 | 10:00 – 11:00 am📍 Where: Rogue Roasters\, 610 SW 6th St\, Grants Pass \nNo RSVP needed—just drop in when you can. Purchase your own beverage and join the conversation. Support is available in both English and Spanish. \nQuestions?📧 info@bcoregon.org📞 (458) 278-0697 \n\nGrupo de Padres de Grants Pass: Tomar & conectar\nEncontrando comunidad y compartiendo recursos\, un sorbo a la vez. \nVen como eres y únete a Tomar & conectar\, un nuevo grupo para padres y cuidadores en Grants Pass. Este es un espacio relajado para disfrutar de tu bebida favorita\, conectar con otros padres de niños con discapacidades y compartir historias con personas que realmente comprenden la experiencia. \nEste grupo está dirigido por pares\, lo que significa que está organizado por padres que lo entienden. Saldrás con ánimo\, nuevas ideas y quizás incluso con un nuevo amigo. \n📅 Cuándo: Martes\, 7 de Octubre de 2025 | 10:00 – 11:00 a.m.\n📍 Dónde: Rogue Roasters\, 610 SW 6th St\, Grants Pass \nNo es necesario confirmar asistencia; simplemente acércate cuando puedas. Compra tu propia bebida y únete a la conversación. Hay apoyo disponible tanto en inglés como en español. \n¿Preguntas? \n📧 info@bcoregon.org\n📞 (458) 278-0697
URL:https://bcoregon.org/event/sip-support-tomar-conectar-2/2025-12-02/
LOCATION:Rogue Roasters\, 610 SW 6th St\, Grants Pass\, OR\, 97526\, United States
CATEGORIES:Support Groups
ATTACH;FMTTYPE=image/png:https://bcoregon.org/wp-content/uploads/2025/08/English-11.png
END:VEVENT
BEGIN:VEVENT
DTSTART;TZID=America/Los_Angeles:20251204T090000
DTEND;TZID=America/Los_Angeles:20251204T110000
DTSTAMP:20260420T074559
CREATED:20251105T200906Z
LAST-MODIFIED:20251107T220425Z
UID:10000218-1764838800-1764846000@bcoregon.org
SUMMARY:Parent Coffee / Café para padres
DESCRIPTION:☕️ Parent Coffee: Connect & Recharge! ☕️ \nNeed a break? Want to chat with other parents who share similar experiences? Looking for support and resources? Join us at Parent Coffee! \n🗓 When: 1st Thursday of every month\, 9am – 11am📍Where: Black Rock Coffee Bar\, Medford\, OR \nCome as you are! Whether you need a listening ear\, advice\, or just a warm cup of coffee\, we’re here for you. Let’s build community\, share experiences\, and support each other. ❤️ \n\n☕️ Café para padres: ¡Conéctate y recarga energías! ☕️ \n¿Necesitas un descanso? ​​¿Quieres conversar con otros padres que comparten experiencias similares? ¿Buscas apoyo y recursos? ¡Únete a nosotros en el Café para padres! \n🗓 Cuándo: el primer jueves de cada mes\, de 9:00 a.m. a 11:00 a.m.\n📍Dónde: Black Rock Coffee Bar\, Medford\, OR \n¡Ven tal como eres! Ya sea que necesites que te escuchen\, un consejo o simplemente una taza de café caliente\, estamos aquí para ti. Construyamos una comunidad\, compartamos experiencias y apoyémonos mutuamente. ❤️
URL:https://bcoregon.org/event/parent-coffee-cafe-para-padres-9-2/2025-12-04/
LOCATION:Black Rock Coffee Bar\, 151 Rossanley Dr. #101\, Medford\, OR\, 97501\, United States
CATEGORIES:Support Groups
ATTACH;FMTTYPE=image/png:https://bcoregon.org/wp-content/uploads/2025/02/FB-Event-Cover-2024-25.png
END:VEVENT
BEGIN:VEVENT
DTSTART;TZID=America/Los_Angeles:20251210T180000
DTEND;TZID=America/Los_Angeles:20251210T200000
DTSTAMP:20260420T074559
CREATED:20250926T044353Z
LAST-MODIFIED:20251201T170723Z
UID:10000253-1765389600-1765396800@bcoregon.org
SUMMARY:Charla Entre Padres en Línea en Español
DESCRIPTION:  \n🌟 Charla Entre Padres en Línea en Español 🌟 \n¿Tu hijo o hija tiene alguna discapacidad?¿Quieres conectarte con otros padres con experiencias similares?¿Buscas apoyo y recursos? \n¡Estamos aquí para ti! Únete a nuestro grupo de apoyo Charla Entre Padres y comparte un espacio seguro y acogedor con otras familias. Juntos podemos aprender\, apoyarnos y construir comunidad. 💛 \n🗓 Segundo Miércoles de Cada Mes⏰ 6:00 – 8:00 pm💻 Zoom: https://us06web.zoom.us/j/87032079282?pwd=Ft7s82pF6folHFQm7I2I9MAU9r0zI0.1📲 ID de la Reunión: 870 3207 9282🔐 Código: comunidad \n¿Preguntas?📞 Español o Inglés: (458) 278-0697 \n✉️ info@bcoregon.org \n¡Te esperamos con los brazos abiertos! 🤗 \n\n🌟 Online Parent Chat in Spanish 🌟 \nDoes your child have a disability?\nDo you want to connect with other parents with similar experiences?\nAre you looking for support and resources? \nWe are here for you! Join our Parent Chat support group and share a safe and welcoming space with other families. Together we can learn\, support each other\, and build community. 💛 \n🗓 Second Wednesday of Every Month\n⏰ 6:00 – 8:00 pm\n💻 Zoom: https://us06web.zoom.us/j/87032079282?pwd=Ft7s82pF6folHFQm7I2I9MAU9r0zI0.1\n📲 Meeting ID: 870 3207 9282\n🔐 Code: comunidad \nQuestions?\n📞 Spanish or English: (458) 278-0697 \n✉️ info@bcoregon.org \nWe are waiting for you with open arms! 🤗
URL:https://bcoregon.org/event/charla-entre-padres-en-linea-en-espanol-7/2025-12-10/
LOCATION:OR
CATEGORIES:Support Groups
ATTACH;FMTTYPE=image/png:https://bcoregon.org/wp-content/uploads/2025/09/Spanish-36.png
END:VEVENT
BEGIN:VEVENT
DTSTART;TZID=America/Los_Angeles:20251212T123000
DTEND;TZID=America/Los_Angeles:20251212T170000
DTSTAMP:20260420T074559
CREATED:20251121T211212Z
LAST-MODIFIED:20251121T211529Z
UID:10000317-1765542600-1765558800@bcoregon.org
SUMMARY:Sensory Friendly Santa 🎅❄️Santa Amigable con los Sentidos
DESCRIPTION:Sensory Friendly Santa 🎅❄️\nHosted by Community Living Case Management (CLCM)\nIn partnership with Autism Society of Oregon and Bridging Communities \nJoin us for a calm\, welcoming\, and sensory-friendly Santa experience for children\, teens\, and adults who experience disabilities. Families can meet Santa at their own pace in a quieter space with fewer crowds and lots of support. \nThis free event will include:\n• A sensory-friendly environment\n• Time and space to meet Santa\n• Activities and crafts\n• Refreshments and cookies\n• Staff on site to support families\n• A chance to take your own Santa photos 📸 \n📅 Date: December 12th\n⏰ Time: 12:30 PM – 5:00 PM\n📍 Location:\n 1215 NE 7th Street\, Suite C\nGrants Pass\, OR \nTo Register or Ask Questions\n Please contact Community Living Case Management (CLCM):\n📞 541-474-6072\nExtensions: X307 (Danielle) • X314 (David) • X308 (Crystal) • X319 (Gregory) • X313 (Tami) • X322 (Debra) \nPlease register by December 10th. \nAll abilities are welcome\, and there is no cost to attend. We look forward to sharing a fun and friendly holiday afternoon with your family! 🎄💚 \nSanta Amigable con los Sentidos 🎅❄️\nOrganizado por Community Living Case Management (CLCM)\nEn colaboración con Autism Society of Oregon y Bridging Communities \nAcompáñenos para una experiencia con Santa en un ambiente tranquilo\, acogedor y sensorialmente amigable. Este evento está diseñado para niños\, adolescentes y adultos que experimentan discapacidades. Las familias pueden conocer a Santa a su propio ritmo\, en un espacio con menos ruido y más apoyo. \nEste evento gratuito incluye:\n• Un ambiente sensorialmente amigable\n• Tiempo y espacio para conocer a Santa\n• Actividades y manualidades\n• Refrigerios y galletas\n• Personal disponible para apoyar a las familias\n• La oportunidad de tomar sus propias fotos con Santa 📸 \n📅 Fecha: 12 de diciembre\n⏰ Hora: 12:30 PM – 5:00 PM\n📍 Ubicación:\n1215 NE 7th Street\, Suite C\nGrants Pass\, OR \nPara registrarse o hacer preguntas\nPor favor comuníquese con Community Living Case Management (CLCM):\n📞 541-474-6072\nExtensiones: X307 (Danielle) • X314 (David) • X308 (Crystal) • X319 (Gregory) • X313 (Tami) • X322 (Debra) \nPor favor regístrese antes del 10 de diciembre. \nTodas las habilidades son bienvenidas. ¡Esperamos compartir una tarde festiva\, divertida y acogedora con su familia! 🎄💚
URL:https://bcoregon.org/event/sensory-friendly-santa-santa-amigable-con-los-sentidos/
LOCATION:1215 NE 7th Street\, 1215 NE 7th Street\, Suite C\, Grants Pass\, OR
ATTACH;FMTTYPE=image/png:https://bcoregon.org/wp-content/uploads/2025/11/Bring-your-camera-and-get-ready-to-meet-santa-1920-x-1080-px-1.png
END:VEVENT
BEGIN:VEVENT
DTSTART;TZID=America/Los_Angeles:20251212T173000
DTEND;TZID=America/Los_Angeles:20251212T190000
DTSTAMP:20260420T074559
CREATED:20251022T031013Z
LAST-MODIFIED:20251107T220031Z
UID:10000233-1765560600-1765566000@bcoregon.org
SUMMARY:All Abilities Gaming Socials / Juegos sociales para todas las habilidades
DESCRIPTION:Looking for a fun and inclusive way for your child to connect with others? Our All Abilities Gaming Social is the perfect opportunity! \n✨ Open to all skill levels\, this welcoming meetup helps kids build social skills\, make new friends\, and enjoy a variety of games—including video games\, board games\, and more—provided by the Oregon Autism Society and Bridging Communities. Or bring your own favorite game to share! \n📅 Who can join?\n🎮 Designed for ages 8-14\, but the whole family is welcome! \n🍽 Light dinner will be provided\n💰 FREE to attend\, but registration is required! \n📌 Sign up here: https://ashlandoregon.gov/371/Register-for-a-Program \nCome play\, connect\, and have fun in a supportive and inclusive space! We can’t wait to see you there! 🎉 \n\n¿Buscas una forma divertida e inclusiva para que tu hijo se conecte con los demás? ¡Nuestro Sociales de juegos para todas las habilidades es la oportunidad perfecta! \n✨ Abierto a todos los niveles de habilidad\, este acogedor encuentro ayuda a los niños a desarrollar habilidades sociales\, hacer nuevos amigos y disfrutar de una variedad de juegos\, incluidos video juegos\, juegos de mesa y más\, proporcionados por la Sociedad de Autismo de Oregón y Bridging Communities. ¡O trae tu propio juego favorito para compartir! \n📅 ¿Quién puede participar?\n🎮 Diseñado para edades de 8 a 14 años\, ¡pero toda la familia es bienvenida! \n🍽 Se proporcionará una cena ligera\n💰 ¡La asistencia es GRATUITA\, pero se requiere inscripción! \n📌 Regístrate aquí: https://ashlandoregon.gov/371/Register-for-a-Program \n¡Ven a jugar\, conectarte y divertirte en un espacio solidario e inclusivo! ¡Estamos ansiosos por verte allí! 🎉
URL:https://bcoregon.org/event/all-abilities-gaming-socials-juegos-sociales-para-todas-las-habilidades-7/2025-12-12/
LOCATION:Ashland Senior Center\, 1699 Homes Ave\, Ashland\, OR\, 97520\, United States
ATTACH;FMTTYPE=image/png:https://bcoregon.org/wp-content/uploads/2024/12/Cagmin-Social-Facebook-Cover-1.png
END:VEVENT
BEGIN:VEVENT
DTSTART;TZID=America/Los_Angeles:20251215T180000
DTEND;TZID=America/Los_Angeles:20251215T200000
DTSTAMP:20260420T074559
CREATED:20251121T193635Z
LAST-MODIFIED:20251121T195106Z
UID:10000301-1765821600-1765828800@bcoregon.org
SUMMARY:Navegando la Salud Mental (en Español) / Navigating Mental Health (in Spanish)
DESCRIPTION:🧠✨ Título del Evento / Event Title: Navegando la Salud Mental (en Español) / Navigating Mental Health (in Spanish) \n📅 Fecha / Date: Lunes\, 15 de diciembre de 2025 / Monday\, December 15\, 2025 \n🕕 Hora / Time: 6:00 – 8:00 p.m. \n📍 Lugar / Location: Bridging Communities – 1017 N Riverside Ave\, Medford\, OR 97501 \n👶🍎 Incluye / Includes: Cuidado de niños\, refrigerios ligeros / Childcare\, light refreshments \n🔗 Enlace de Registro / Registration Link: https://forms.gle/Fq7BZzTUeu4eSSov9 \n—————————– \n🧠✨ Bridging Communities les invita a una sesión informativa en Español diseñada para apoyar a familias y cuidadores en la comprensión de la salud mental y su conexión con las discapacidades intelectuales y del desarrollo (I/DD). Hablaremos sobre cómo reconocer señales comunes de ansiedad y depresión\, cómo encontrar apoyo y cómo cuidar de nosotros mismos y nuestras familias durante los meses de invierno. Este evento gratuito será completamente en Español e incluirá tiempo para preguntas\, conversación abierta\, cuidado de niños y refrigerios ligeros. ——————————- \n🧠✨ Bridging Communities invites you to an informational session held entirely in Spanish\, designed to support families and caregivers in understanding mental health and how it connects with intellectual and developmental disabilities (I/DD). We’ll discuss common signs of anxiety and depression\, how to find support\, and ways to care for ourselves and our families during the winter months. This free session includes time for questions\, open conversation\, childcare\, and light refreshments.
URL:https://bcoregon.org/event/navegando-la-salud-mental-en-espanol-navigating-mental-health-in-spanish/
LOCATION:Bridging Communities\, 1017 N Riverside Ave\, Medford\, OR\, 97501\, United States
ATTACH;FMTTYPE=image/png:https://bcoregon.org/wp-content/uploads/2025/11/Comprender-la-salud-mental-y-la-discapacidad-Understanding-Mental-Health-Disability-1920-x-1080-px-1.png
ORGANIZER;CN="Bridging Communities":MAILTO:info@bcoregon.org
END:VEVENT
BEGIN:VEVENT
DTSTART;TZID=America/Los_Angeles:20251216T180000
DTEND;TZID=America/Los_Angeles:20251216T200000
DTSTAMP:20260420T074559
CREATED:20251106T205125Z
LAST-MODIFIED:20251106T205126Z
UID:10000269-1765908000-1765915200@bcoregon.org
SUMMARY:Ashland Learning Differences Parent Support Group / Ashland Diferencias de Aprendizaje - Grupo de apoyo para padres
DESCRIPTION:📍 New Location Alert! / ¡Nueva ubicación! \nThe Ashland Learning Differences Parent Support Group has a new home! We’re excited to welcome you to our updated space — same great support\, now in a fresh location. Be sure to check the details below and join us for connection\, conversation\, and community. \nEl Ashland Diferencias de Aprendizaje – Grupo de apoyo para padres tiene una nueva sede. Nos complace darles la bienvenida a nuestro espacio renovado: el mismo excelente apoyo\, ahora en una nueva ubicación. Consulten los detalles a continuación y acompáñennos para conectar\, conversar y formar parte de nuestra comunidad. \n \n\n🌟 Ashland Learning Differences Parent Support Group 🌟 \nAre you a parent seeking support and understanding? You’re not alone! \nJoin us every fourth Tuesday from 6:00 – 8:00 pm at the Ashland Family YMCA for our Parent Support Group. Connect with other parents\, share your experiences\, and find a safe\, welcoming space to navigate the journey of raising neurodiverse children. \n💬 Open Discussions🤝 Supportive Connections🏠 Safe & Welcoming Environment \n✨ Spanish support available upon request! \nLearn more from our parent leader\, Kelly\, at 👉 kellyawdale.wixsite.com/ashlandldsg \n📅 Mark your calendar and join us! We can’t wait to meet you! \n\n  \n🌟 Ashland Diferencias de Aprendizaje – Grupo de apoyo para padres🌟 \n¿Es usted un padre que busca apoyo y comprensión? ¡No está solo! \nÚnase a nosotros cada cuarto martes de 6:00 a 8:00 p. m. en la Ashland Family YMCA para nuestro Grupo de Apoyo para Padres. Conéctese con otros padres\, comparta sus experiencias y encuentre un espacio seguro y acogedor para recorrer el camino de criar niños con neurodiversidad. \n💬 Discusiones abiertas\n🤝 Conexiones de apoyo\n🏠 Entorno seguro y acogedor \n✨ ¡Asistencia en español disponible a pedido! \nObtenga más información de nuestra líder de padres\, Kelly\, en 👉 kellyawdale.wixsite.com/ashlandldsg \n📅 ¡Marque su calendario y únase a nosotros! ¡Estamos ansiosos por conocerlo!
URL:https://bcoregon.org/event/ashland-learning-differences-parent-support-group-ashland-diferencias-de-aprendizaje-grupo-de-apoyo-para-padres-8-2/2025-12-16/
LOCATION:Ashland Family YMCA\, 540 YMCA Way\, Ashland\, 97520\, United States
CATEGORIES:Support Groups
ATTACH;FMTTYPE=image/png:https://bcoregon.org/wp-content/uploads/2025/09/ALDSG-Eng.-12.png
END:VEVENT
BEGIN:VEVENT
DTSTART;TZID=America/Los_Angeles:20251217T100000
DTEND;TZID=America/Los_Angeles:20251217T120000
DTSTAMP:20260420T074559
CREATED:20251106T220852Z
LAST-MODIFIED:20251107T215009Z
UID:10000282-1765965600-1765972800@bcoregon.org
SUMMARY:Cafe y comunidad  Café\, comunidad y conversación en español.
DESCRIPTION:  \nCafé\, comunidad y conversación en español.\nAcompáñenos cada tercer miércoles del mes para una mañana de conexión y apoyo en un espacio acogedor para padres y cuidadores de niños con discapacidades. \n📅 Fecha y hora: Miércoles\, 19 de noviembre de 2025 • 10:00 a. m. – 12:00 p. m.\n📍 Lugar: Bridging Communities\, 1017 N Riverside Ave\, Medford\, OR 97501 \n10:00 – 11:00 am: Tiempo de apoyo para padres.\nUn espacio para compartir experiencias\, preguntas e ideas con otros padres y cuidadores que comprenden su situación.\n11:00 a. m. – 12:00 p. m.: Sesión con organizaciones invitadas.\nCada mes se presenta una organización comunitaria invitada diferente que comparte servicios y apoyos para niños con discapacidades. \n☕ Se ofrece café y servicio de guardería.\n📧 Preguntas: info@bcoregon.org | 📞 (458) 278-0697\n—————-\nCoffee\, community\, and conversation in Spanish.\nJoin us every third Wednesday of the month for a morning of connection and support in a welcoming space for parents and caregivers of children with disabilities. \n📅 Date & Time: Wednesday\, November 19\, 2025 • 10:00 am – 12:00 pm\n📍 Location: Bridging Communities\, 1017 N Riverside Ave\, Medford\, OR 97501 \n10:00 – 11:00 am: Parent Support Time\nA space for sharing experiences\, questions\, and ideas with other parents and caregivers who understand.\n11:00 am – 12:00 pm: Guest Organization Session\nEach month features a different invited community organization sharing services and supports for children with disabilities. \n☕ Coffee and childcare provided.\n📧 Questions: info@bcoregon.org | 📞 (458) 278-0697
URL:https://bcoregon.org/event/cafe-y-comunidad/2025-12-17/
LOCATION:Living Opportunities 1017 N Riverside Ave\, Medford\, OR 97501
CATEGORIES:Support Groups
ATTACH;FMTTYPE=image/png:https://bcoregon.org/wp-content/uploads/2025/11/Cafe-y-Comunidad-Facebook-Event-1.png
END:VEVENT
BEGIN:VEVENT
DTSTART;TZID=America/Los_Angeles:20251219T173000
DTEND;TZID=America/Los_Angeles:20251219T190000
DTSTAMP:20260420T074559
CREATED:20251121T203328Z
LAST-MODIFIED:20251121T203328Z
UID:10000316-1766165400-1766170800@bcoregon.org
SUMMARY:All In! Community Skate Event ⛸❄️
DESCRIPTION:All In! Community Skate Event ⛸❄️\nFriday\, December 19\, 2025\n5:30–7:00 PM\nAshland Rotary Centennial Ice Rink \nKick off winter break with us! ❄️✨ Join Bridging Communities\, Ashland Parks & Recreation Commission\, the Autism Society of Oregon\, and the Lions Club for a fun and welcoming night on the ice. \nThis free event is for children\, teens\, adults\, and families who want a relaxed and friendly place to skate. Staff and volunteers will be there to help with skates\, getting on the ice\, and offering support if you need it. 🤝⛸ \nWe will have: \n\nFree admission\nFree skate rentals\nLight refreshments\nLots of community and support 💛\n\nRegistration is required:\n👉 https://ashlandoregon.gov/611/Adapted-Programs \nQuestions about registration? Contact Ashland Parks & Recreation Commission: \n📞 541-488-5340 \n📧 ParksInfo@ashland.or.us \n📍 The Grove – 1195 E Main Street\, Ashland \nGeneral event questions? Contact Bridging Communities \n📞 (458) 278-0697\n📧 info@bcoregon.org \n📍 1017 N Riverside Ave\, Medford \nAll abilities are welcome. We can’t wait to kick off winter break together on the ice! ❄️💙 \nEvento de Patinaje Comunitario All In! ⛸❄️\nViernes\, 19 de diciembre de 2025\n5:30–7:00 PM\nAshland Rotary Centennial Ice Rink \n¡Comencemos juntos las vacaciones de invierno! ❄️✨ Únase a Bridging Communities\, Ashland Parks & Recreation Commission\, Autism Society of Oregon y el Lions Club para una noche divertida y acogedora en la pista de hielo. \nEste evento es gratis y está abierto a niños\, adolescentes\, adultos y familias que desean un lugar tranquilo y amable para patinar. Nuestro equipo estará allí para ayudar con los patines\, entrar a la pista y brindar apoyo cuando lo necesiten. 🤝⛸ \nTendremos: \n\nEntrada gratis\nRenta de patines gratis\nRefrigerios ligeros\nComunidad y apoyo 💛\n\nSe requiere registro:\n👉 https://ashlandoregon.gov/611/Adapted-Programs \n¿Preguntas sobre el registro? Comuníquese con Ashland Parks & Recreation Commission: \n📞 541-488-5340 \n📧 ParksInfo@ashland.or.us \n📍 The Grove – 1195 E Main Street\, Ashland \n¿Preguntas sobre el evento? Comuníquese con Bridging Communities: \n📞 (458) 278-0697\n📧 info@bcoregon.org \n📍 1017 N Riverside Ave\, Medford \n¡Todas las habilidades son bienvenidas! ¡Estamos emocionados de comenzar las vacaciones de invierno juntos en la pista! ❄️💙
URL:https://bcoregon.org/event/all-in-community-skate-event-%e2%9b%b8%e2%9d%84%ef%b8%8f/
LOCATION:The Grove\, 1195 East Main Street\, Ashland\, OR
ATTACH;FMTTYPE=image/png:https://bcoregon.org/wp-content/uploads/2025/11/All-In-All-Abilities-Community-Skate-Event-1920-x-1080-px.png
ORGANIZER;CN="Bridging Communities":MAILTO:info@bcoregon.org
END:VEVENT
BEGIN:VEVENT
DTSTART;TZID=America/Los_Angeles:20251220T100000
DTEND;TZID=America/Los_Angeles:20251220T110000
DTSTAMP:20260420T074559
CREATED:20251121T202002Z
LAST-MODIFIED:20251201T163637Z
UID:10000318-1766224800-1766228400@bcoregon.org
SUMMARY:Dad’s Coffee Meetup / Reunión de café con papá
DESCRIPTION:☕ Dad’s Coffee Meetup \n📅 Every third Saturday of the month | 10:00 to 11:00 AM\n📍 Main Street Coffee House\, Eagle Point\n 115 W Main St\, Eagle Point\, OR 97524 \nAre you a dad or father figure raising a child with a disability? You are not alone. \nJoin us for coffee\, connection\, and real conversation with other dads who get it. No pressure. Just community. \nThis support group is hosted by Bridging Communities and led by a fellow dad who is walking a similar path. \nWhether you are new to this journey or have years of experience\, we welcome you to come as you are. \nLanguage:\nThis group is held in English. Spanish support is available with advance notice. \nQuestions?\n📞 (458) 278 0697\n📧 info@bcoregon.org \nLet’s build something good together. \n☕ Reunión de café con papá \n📅 Cada tercer sábado del mes | 10:00 a 11:00 AM\n 📍 Main Street Coffee House\, Eagle Point\n 115 W Main St\, Eagle Point\, OR 97524 \n¿Eres papá o figura paterna y crías a un hijo con discapacidad? No estás solo. \nÚnete para tomar café\, conectar y conversar con otros papás que lo entienden. Sin presión. Solo comunidad. \nEste grupo de apoyo es organizado por Bridging Communities y dirigido por un papá que comparte tu experiencia. \nTanto si eres nuevo en este camino como si tienes años de experiencia\, te invitamos a unirte tal como eres. \nIdioma:\nLa reunión es en inglés. Hay apoyo en español si lo pides con anticipación. \n¿Preguntas?\n📞 (458) 278 0697\n📧 info@bcoregon.org \nConstruyamos algo bueno juntos.
URL:https://bcoregon.org/event/dads-coffee-meetup-reunion-de-cafe-con-papa-2/
LOCATION:Main Street Coffee House\, 115 W Main St\, Eagle Point\, OR\, 97524\, United States
CATEGORIES:Support Groups
ATTACH;FMTTYPE=image/png:https://bcoregon.org/wp-content/uploads/2025/09/Dads-Coffee-Meetup-1920-x-1080-px-1.png
END:VEVENT
END:VCALENDAR