BEGIN:VCALENDAR
VERSION:2.0
PRODID:-//Bridging Communities - ECPv6.15.20//NONSGML v1.0//EN
CALSCALE:GREGORIAN
METHOD:PUBLISH
X-ORIGINAL-URL:https://bcoregon.org
X-WR-CALDESC:Events for Bridging Communities
REFRESH-INTERVAL;VALUE=DURATION:PT1H
X-Robots-Tag:noindex
X-PUBLISHED-TTL:PT1H
BEGIN:VTIMEZONE
TZID:America/Los_Angeles
BEGIN:DAYLIGHT
TZOFFSETFROM:-0800
TZOFFSETTO:-0700
TZNAME:PDT
DTSTART:20240310T100000
END:DAYLIGHT
BEGIN:STANDARD
TZOFFSETFROM:-0700
TZOFFSETTO:-0800
TZNAME:PST
DTSTART:20241103T090000
END:STANDARD
BEGIN:DAYLIGHT
TZOFFSETFROM:-0800
TZOFFSETTO:-0700
TZNAME:PDT
DTSTART:20250309T100000
END:DAYLIGHT
BEGIN:STANDARD
TZOFFSETFROM:-0700
TZOFFSETTO:-0800
TZNAME:PST
DTSTART:20251102T090000
END:STANDARD
BEGIN:DAYLIGHT
TZOFFSETFROM:-0800
TZOFFSETTO:-0700
TZNAME:PDT
DTSTART:20260308T100000
END:DAYLIGHT
BEGIN:STANDARD
TZOFFSETFROM:-0700
TZOFFSETTO:-0800
TZNAME:PST
DTSTART:20261101T090000
END:STANDARD
END:VTIMEZONE
BEGIN:VEVENT
DTSTART;TZID=America/Los_Angeles:20251104T100000
DTEND;TZID=America/Los_Angeles:20251104T110000
DTSTAMP:20260420T124803
CREATED:20250919T195513Z
LAST-MODIFIED:20251201T170613Z
UID:10000244-1762250400-1762254000@bcoregon.org
SUMMARY:Sip & Support  / Tomar & conectar
DESCRIPTION:Sip & Support – Grants Pass Parent GroupFinding community and sharing resources\, one sip at a time. \nCome as you are and join us for Sip & Support\, a new parent and caregiver group in Grants Pass. This is a relaxed space to enjoy your favorite drink\, connect with other parents of children with disabilities\, and share stories with people who truly understand the journey. \nThis group is peer-led\, which means it’s hosted by fellow parents who “get it.” You’ll leave with encouragement\, new ideas\, and maybe even a new friend. \n📅 When: Tuesday\, October 7\, 2025 | 10:00 – 11:00 am📍 Where: Rogue Roasters\, 610 SW 6th St\, Grants Pass \nNo RSVP needed—just drop in when you can. Purchase your own beverage and join the conversation. Support is available in both English and Spanish. \nQuestions?📧 info@bcoregon.org📞 (458) 278-0697 \n\nGrupo de Padres de Grants Pass: Tomar & conectar\nEncontrando comunidad y compartiendo recursos\, un sorbo a la vez. \nVen como eres y únete a Tomar & conectar\, un nuevo grupo para padres y cuidadores en Grants Pass. Este es un espacio relajado para disfrutar de tu bebida favorita\, conectar con otros padres de niños con discapacidades y compartir historias con personas que realmente comprenden la experiencia. \nEste grupo está dirigido por pares\, lo que significa que está organizado por padres que lo entienden. Saldrás con ánimo\, nuevas ideas y quizás incluso con un nuevo amigo. \n📅 Cuándo: Martes\, 7 de Octubre de 2025 | 10:00 – 11:00 a.m.\n📍 Dónde: Rogue Roasters\, 610 SW 6th St\, Grants Pass \nNo es necesario confirmar asistencia; simplemente acércate cuando puedas. Compra tu propia bebida y únete a la conversación. Hay apoyo disponible tanto en inglés como en español. \n¿Preguntas? \n📧 info@bcoregon.org\n📞 (458) 278-0697
URL:https://bcoregon.org/event/sip-support-tomar-conectar-2/2025-11-04/
LOCATION:Rogue Roasters\, 610 SW 6th St\, Grants Pass\, OR\, 97526\, United States
CATEGORIES:Support Groups
ATTACH;FMTTYPE=image/png:https://bcoregon.org/wp-content/uploads/2025/08/English-11.png
END:VEVENT
BEGIN:VEVENT
DTSTART;TZID=America/Los_Angeles:20251106T090000
DTEND;TZID=America/Los_Angeles:20251106T110000
DTSTAMP:20260420T124803
CREATED:20251021T201733Z
LAST-MODIFIED:20251022T024848Z
UID:10000217-1762419600-1762426800@bcoregon.org
SUMMARY:Parent Coffee / Café para padres
DESCRIPTION:☕️ Parent Coffee: Connect & Recharge! ☕️ \nNeed a break? Want to chat with other parents who share similar experiences? Looking for support and resources? Join us at Parent Coffee! \n🗓 When: 1st Thursday of every month\, 9am – 11am📍Where: Black Rock Coffee Bar\, Medford\, OR \nCome as you are! Whether you need a listening ear\, advice\, or just a warm cup of coffee\, we’re here for you. Let’s build community\, share experiences\, and support each other. ❤️ \n\n☕️ Café para padres: ¡Conéctate y recarga energías! ☕️ \n¿Necesitas un descanso? ​​¿Quieres conversar con otros padres que comparten experiencias similares? ¿Buscas apoyo y recursos? ¡Únete a nosotros en el Café para padres! \n🗓 Cuándo: el primer jueves de cada mes\, de 9:00 a.m. a 11:00 a.m.\n📍Dónde: Black Rock Coffee Bar\, Medford\, OR \n¡Ven tal como eres! Ya sea que necesites que te escuchen\, un consejo o simplemente una taza de café caliente\, estamos aquí para ti. Construyamos una comunidad\, compartamos experiencias y apoyémonos mutuamente. ❤️
URL:https://bcoregon.org/event/parent-coffee-cafe-para-padres-9/
LOCATION:Black Rock Coffee Bar\, 151 Rossanley Dr. #101\, Medford\, OR\, 97501\, United States
CATEGORIES:Support Groups
END:VEVENT
BEGIN:VEVENT
DTSTART;TZID=America/Los_Angeles:20251108T153000
DTEND;TZID=America/Los_Angeles:20251108T173000
DTSTAMP:20260420T124803
CREATED:20250919T202108Z
LAST-MODIFIED:20251107T215318Z
UID:10000088-1762615800-1762623000@bcoregon.org
SUMMARY:Paint & Snack / Pintura y aperitivos
DESCRIPTION:🎨 Paint & Snack  /  Pintura y aperitivos\nJoin Bridging Communities and Magical May Artistry for an afternoon where art\, community\, and connection come together. Our Paint & Snack event is designed especially for adults who are raising children with disabilities\, offering a supportive space to relax\, create\, and connect with others who share similar experiences. \nYou don’t need to be an artist — just come ready to have fun! Aurora May from Magical May Artistry will guide us step by step in a painting project that is simple\, enjoyable\, and designed for all skill levels. While you paint\, enjoy a variety of tasty snacks and time to connect with others in the community. \nThis event is more than just painting — it’s about celebrating the strength of families\, building friendships\, and creating a welcoming space for caregivers and parents to recharge. \nImportant Details: \n\nThis event is for adults only. Please arrange for childcare if needed\, as childcare will not be provided.\nAll art supplies and snacks are included at no cost.\nSpace is limited\, so registration is required.\n\n👉 Register here: https://forms.gle/61pt7gB7DSPP75iR8 \nCome as you are\, leave with a finished painting\, new connections\, and hopefully a little extra joy. \n// \nÚnete a Bridging Communities y Magical May Artistry para una tarde donde el arte\, la comunidad y la conexión se unen. Nuestro evento de Pintura y aperitivos está diseñado especialmente para adultos que crían niños con discapacidades\, ofreciendo un espacio de apoyo para relajarse\, crear y conectar con otras personas que comparten experiencias similares. \nNo necesitas ser artista\, ¡solo ven con ganas de divertirte! Aurora May\, de Magical May Artistry\, nos guiará paso a paso en un proyecto de pintura sencillo\, divertido y diseñado para todos los niveles. Mientras pintas\, disfruta de una variedad de deliciosos refrigerios y tiempo para conectar con otras personas de la comunidad. \nEste evento es más que solo pintar: se trata de celebrar la fortaleza de las familias\, forjar amistades y crear un espacio acogedor para que los cuidadores y padres recuperen energías. \nDetalles importantes: \n\nEste evento es solo para adultos. Por favor\, contrate cuidado de niños si lo necesita\, ya que no se proporcionará.\nTodos los materiales de arte y refrigerios están incluidos sin costo.\nEl cupo es limitado\, por lo que es necesario registrarse.\n\n👉 Regístrate aquí: https://forms.gle/61pt7gB7DSPP75iR8 \nVen tal como eres y regresa con un cuadro terminado\, nuevas conexiones y\, con suerte\, un poco más de alegría.
URL:https://bcoregon.org/event/paint-snack-pintura-y-aperitivos-2/
LOCATION:Rogue River Library\, 412 E Main St\, Rogue River\, OR\, 97537\, United States
ATTACH;FMTTYPE=image/png:https://bcoregon.org/wp-content/uploads/2025/09/Paint-Snack-Opt-1-6.png
END:VEVENT
BEGIN:VEVENT
DTSTART;TZID=America/Los_Angeles:20251112T180000
DTEND;TZID=America/Los_Angeles:20251112T200000
DTSTAMP:20260420T124803
CREATED:20250926T044353Z
LAST-MODIFIED:20251201T170723Z
UID:10000252-1762970400-1762977600@bcoregon.org
SUMMARY:Charla Entre Padres en Línea en Español
DESCRIPTION:  \n🌟 Charla Entre Padres en Línea en Español 🌟 \n¿Tu hijo o hija tiene alguna discapacidad?¿Quieres conectarte con otros padres con experiencias similares?¿Buscas apoyo y recursos? \n¡Estamos aquí para ti! Únete a nuestro grupo de apoyo Charla Entre Padres y comparte un espacio seguro y acogedor con otras familias. Juntos podemos aprender\, apoyarnos y construir comunidad. 💛 \n🗓 Segundo Miércoles de Cada Mes⏰ 6:00 – 8:00 pm💻 Zoom: https://us06web.zoom.us/j/87032079282?pwd=Ft7s82pF6folHFQm7I2I9MAU9r0zI0.1📲 ID de la Reunión: 870 3207 9282🔐 Código: comunidad \n¿Preguntas?📞 Español o Inglés: (458) 278-0697 \n✉️ info@bcoregon.org \n¡Te esperamos con los brazos abiertos! 🤗 \n\n🌟 Online Parent Chat in Spanish 🌟 \nDoes your child have a disability?\nDo you want to connect with other parents with similar experiences?\nAre you looking for support and resources? \nWe are here for you! Join our Parent Chat support group and share a safe and welcoming space with other families. Together we can learn\, support each other\, and build community. 💛 \n🗓 Second Wednesday of Every Month\n⏰ 6:00 – 8:00 pm\n💻 Zoom: https://us06web.zoom.us/j/87032079282?pwd=Ft7s82pF6folHFQm7I2I9MAU9r0zI0.1\n📲 Meeting ID: 870 3207 9282\n🔐 Code: comunidad \nQuestions?\n📞 Spanish or English: (458) 278-0697 \n✉️ info@bcoregon.org \nWe are waiting for you with open arms! 🤗
URL:https://bcoregon.org/event/charla-entre-padres-en-linea-en-espanol-7/2025-11-12/
LOCATION:OR
CATEGORIES:Support Groups
ATTACH;FMTTYPE=image/png:https://bcoregon.org/wp-content/uploads/2025/09/Spanish-36.png
END:VEVENT
BEGIN:VEVENT
DTSTART;TZID=America/Los_Angeles:20251113T173000
DTEND;TZID=America/Los_Angeles:20251113T190000
DTSTAMP:20260420T124803
CREATED:20251031T032751Z
LAST-MODIFIED:20251031T032751Z
UID:10000243-1763055000-1763060400@bcoregon.org
SUMMARY:Volunteer Training: Everyday Hosting + Safety / Entrenamiento para voluntarios
DESCRIPTION:🌟 Volunteer Training: Everyday Hosting + Safety \nWhether you’re brand new to volunteering or have helped out before\, this training will help you feel confident and prepared to host at Bridging Communities events. \nJoin us to learn what it means to volunteer at resource fairs and community gatherings — from setting up a welcoming table to greeting families in inclusive\, respectful ways. We’ll also cover how to respond to common safety and accessibility situations with care and clarity. \nThis is a great chance to: \n\nConnect with other volunteers\nAsk questions in a supportive space\nGet ready for upcoming events\n\n📅 Date: Thursday\, November 13\, 2025\n🕠 Time: 5:30–7:00 PM\n📍 Location: Training Room\, Bridging Communities\n1017 N Riverside Ave\, Medford\, OR \n🗣 Interpretation available: Spanish and ASL upon request\n♿ Accessibility: Let us know if you need any accommodations \nWe’re excited to learn and grow together — see you there! \n👉 Register here: https://forms.gle/e9vC7Bskji8NeteCA \n\n🌟Entrenamiento para voluntarios \nTanto si eres nuevo en el voluntariado como si ya has colaborado antes\, esta capacitación te ayudará a sentirte seguro y preparado para ser anfitrión en los eventos de Bridging Communities. \nÚnete a nosotros para aprender qué significa ser voluntario en ferias de recursos y reuniones comunitarias: desde preparar una mesa de bienvenida hasta saludar a las familias de manera inclusiva y respetuosa. También abordaremos cómo responder con atención y claridad a situaciones comunes de seguridad y accesibilidad. \nEsta es una gran oportunidad para: \n\nConectar con otros voluntarios\nHacer preguntas en un espacio de apoyo\nPrepararse para los próximos eventos\n\n📅 Fecha: Jueves\, 13 de Noviembre de 2025\n🕠 Hora: 5:30–7:00 p.m.\n📍 Lugar: Sala de Capacitación\, Bridging Communities\n1017 N Riverside Ave\, Medford\, OR \n🗣 Interpretación disponible: Español y Lengua de Señas Americana (ASL) a solicitud\n♿ Accesibilidad: Háganos saber si necesita alguna adaptación \n¡Nos entusiasma aprender y crecer juntos! ¡Nos vemos allí! \n👉 Regístrese aquí: https://forms.gle/e9vC7Bskji8NeteCA
URL:https://bcoregon.org/event/volunteer-training-everyday-hosting-safety-entrenamiento-para-voluntarios/
LOCATION:Bridging Communities\, 1017 N Riverside Ave\, Medford\, OR\, 97501\, United States
ATTACH;FMTTYPE=image/png:https://bcoregon.org/wp-content/uploads/2025/10/Volunteer-Training-1920-x-1080-px.png
END:VEVENT
BEGIN:VEVENT
DTSTART;TZID=America/Los_Angeles:20251114T173000
DTEND;TZID=America/Los_Angeles:20251114T190000
DTSTAMP:20260420T124803
CREATED:20251022T031013Z
LAST-MODIFIED:20251107T220031Z
UID:10000232-1763141400-1763146800@bcoregon.org
SUMMARY:All Abilities Gaming Socials / Juegos sociales para todas las habilidades
DESCRIPTION:Looking for a fun and inclusive way for your child to connect with others? Our All Abilities Gaming Social is the perfect opportunity! \n✨ Open to all skill levels\, this welcoming meetup helps kids build social skills\, make new friends\, and enjoy a variety of games—including video games\, board games\, and more—provided by the Oregon Autism Society and Bridging Communities. Or bring your own favorite game to share! \n📅 Who can join?\n🎮 Designed for ages 8-14\, but the whole family is welcome! \n🍽 Light dinner will be provided\n💰 FREE to attend\, but registration is required! \n📌 Sign up here: https://ashlandoregon.gov/371/Register-for-a-Program \nCome play\, connect\, and have fun in a supportive and inclusive space! We can’t wait to see you there! 🎉 \n\n¿Buscas una forma divertida e inclusiva para que tu hijo se conecte con los demás? ¡Nuestro Sociales de juegos para todas las habilidades es la oportunidad perfecta! \n✨ Abierto a todos los niveles de habilidad\, este acogedor encuentro ayuda a los niños a desarrollar habilidades sociales\, hacer nuevos amigos y disfrutar de una variedad de juegos\, incluidos video juegos\, juegos de mesa y más\, proporcionados por la Sociedad de Autismo de Oregón y Bridging Communities. ¡O trae tu propio juego favorito para compartir! \n📅 ¿Quién puede participar?\n🎮 Diseñado para edades de 8 a 14 años\, ¡pero toda la familia es bienvenida! \n🍽 Se proporcionará una cena ligera\n💰 ¡La asistencia es GRATUITA\, pero se requiere inscripción! \n📌 Regístrate aquí: https://ashlandoregon.gov/371/Register-for-a-Program \n¡Ven a jugar\, conectarte y divertirte en un espacio solidario e inclusivo! ¡Estamos ansiosos por verte allí! 🎉
URL:https://bcoregon.org/event/all-abilities-gaming-socials-juegos-sociales-para-todas-las-habilidades-7/2025-11-14/
LOCATION:Ashland Senior Center\, 1699 Homes Ave\, Ashland\, OR\, 97520\, United States
ATTACH;FMTTYPE=image/png:https://bcoregon.org/wp-content/uploads/2024/12/Cagmin-Social-Facebook-Cover-1.png
END:VEVENT
BEGIN:VEVENT
DTSTART;TZID=America/Los_Angeles:20251115T100000
DTEND;TZID=America/Los_Angeles:20251115T110000
DTSTAMP:20260420T124803
CREATED:20251031T034725Z
LAST-MODIFIED:20251031T034927Z
UID:10000260-1763200800-1763204400@bcoregon.org
SUMMARY:Dad’s Coffee Meetup / Reunión de café con papá
DESCRIPTION:☕ Dads Support Group – Coffee & Connection \n📅 Saturday\, November 15 | 10–11 AM\n📍 Main Street Coffee – Eagle Point \nAre you a dad or father figure raising a child with a disability? You’re not alone. \nJoin us for coffee\, connection\, and real conversation with other dads who get it. No pressure. Just community. \nThis support group is hosted by Bridging Communities and led by a fellow dad who’s walking a similar path. \nWhether you’re new to this journey or have years of experience\, we welcome you to come as you are. \nQuestions?📞 (458) 278-0697📧 info@bcoregon.org \nLet’s build something good—together.\n——————————————————————————————————————————————————————– \n☕ Grupo de Apoyo para Papás ​​– Café y Conexión \n📅 Sábado\, 15 de Noviembre | 10–11 AM\n📍 Café en la Main Street – Eagle Point \n¿Eres papá o figura paterna y crías a un hijo con discapacidad? No estás solo. \nÚnete a nosotros para tomar un café\, conectar y conversar con otros papás que lo entienden. Sin presión. Solo comunidad. \nEste grupo de apoyo es organizado por Bridging Communities y dirigido por un papá que comparte tu experiencia. \nTanto si eres nuevo en este camino como si tienes años de experiencia\, te invitamos a unirte tal como eres. \n¿Preguntas? 📞 (458) 278-0697 📧 info@bcoregon.org \nConstruyamos algo bueno\, juntos.
URL:https://bcoregon.org/event/dads-coffee-meetup-reunion-de-cafe-con-papa/
LOCATION:Main Street Coffee House\, 115 W Main St\, Eagle Point\, OR\, 97524\, United States
CATEGORIES:Support Groups
ATTACH;FMTTYPE=image/png:https://bcoregon.org/wp-content/uploads/2025/09/Dads-Coffee-Meetup-1920-x-1080-px-1.png
END:VEVENT
BEGIN:VEVENT
DTSTART;TZID=America/Los_Angeles:20251118T173000
DTEND;TZID=America/Los_Angeles:20251118T190000
DTSTAMP:20260420T124803
CREATED:20251031T031152Z
LAST-MODIFIED:20251031T031419Z
UID:10000242-1763487000-1763492400@bcoregon.org
SUMMARY:Navigating I/DD Services / Navegando los  servicios de discapcidad
DESCRIPTION:Navigating I/DD Services: What Families Need to Know \nJoin us for a free\, family-friendly info session to learn about Intellectual and Developmental Disability (I/DD) services in Southern Oregon! Discover how to access supports\, who provides them\, and how to make informed choices for your loved one’s care. \n📅 Date: Tuesday\, November 18\, 2025🕠 Time: 5:30–7:00 PM📍 Location: 1017 Riverside Ave\, Medford\, OR🗣️ Language: English (interpretation available upon request) \nLearn about: \n\nThe history of I/DD services in Oregon\nThe difference between CDDPs and Brokerages\nEligibility basics and how to get started\nHow case management and providers support families\n\n✨ Light snacks provided.🧒 Childcare available upon request. \nRegistration: https://forms.gle/6ARyoaTzvMccEepv7 \nHosted by Jackson County Developmental Disability Services\, Creative Supports Inc.\, Autism Society of Oregon\, and Bridging Communities. \nQuestions? Call (458) 278-0697 or email info@bcoregon.org. \n\nNavegando los servicios de discapcidad: Lo que las familias necesitan saber \nÚnase a nosotros para una sesión informativa gratuita y apta para toda la familia sobre los servicios para personas con discapacidades intelectuales y del desarrollo (I/DD) en el sur de Oregón. Descubra cómo acceder a los apoyos\, quiénes los brindan y cómo tomar decisiones informadas para el cuidado de su ser querido. \n📅 Fecha: Martes\, 18 de Noviembre de 2025\n🕠 Hora: 5:30–7:00 p. m.\n📍 Lugar: 1017 Riverside Ave\, Medford\, OR\n🗣️ Idioma: Inglés (interpretación disponible a solicitud) \nAprenda sobre: \n\nLa historia de los servicios para personas con DI/DD en Oregón\nLa diferencia entre los Programas de Desarrollo Comunitario (CDDP) y las agencias de intermediación\nRequisitos básicos de elegibilidad y cómo comenzar\nCómo la gestión de casos y los proveedores apoyan a las familias\n\n✨ Se ofrecerán refrigerios ligeros.\n🧒 Servicio de guardería disponible a solicitud. \nInscripción: https://forms.gle/6ARyoaTzvMccEepv7 \nOrganizado por Jackson County Developmental Disability Services\, Creative Supports Inc.\, Autism Society of Oregon y Bridging Communities. \n¿Preguntas? Llame al (458) 278-0697 o escriba a info@bcoregon.org.
URL:https://bcoregon.org/event/navigating-i-dd-services-navegando-los-servicios-de-discapcidad/
LOCATION:Bridging Communities\, 1017 N Riverside Ave\, Medford\, OR\, 97501\, United States
ATTACH;FMTTYPE=image/png:https://bcoregon.org/wp-content/uploads/2025/10/DDS-Parent-Training-1920-x-1080-px-2.png
END:VEVENT
BEGIN:VEVENT
DTSTART;TZID=America/Los_Angeles:20251118T180000
DTEND;TZID=America/Los_Angeles:20251118T200000
DTSTAMP:20260420T124803
CREATED:20251106T205125Z
LAST-MODIFIED:20251106T205126Z
UID:10000261-1763488800-1763496000@bcoregon.org
SUMMARY:Ashland Learning Differences Parent Support Group / Ashland Diferencias de Aprendizaje - Grupo de apoyo para padres
DESCRIPTION:📍 New Location Alert! / ¡Nueva ubicación! \nThe Ashland Learning Differences Parent Support Group has a new home! We’re excited to welcome you to our updated space — same great support\, now in a fresh location. Be sure to check the details below and join us for connection\, conversation\, and community. \nEl Ashland Diferencias de Aprendizaje – Grupo de apoyo para padres tiene una nueva sede. Nos complace darles la bienvenida a nuestro espacio renovado: el mismo excelente apoyo\, ahora en una nueva ubicación. Consulten los detalles a continuación y acompáñennos para conectar\, conversar y formar parte de nuestra comunidad. \n \n\n🌟 Ashland Learning Differences Parent Support Group 🌟 \nAre you a parent seeking support and understanding? You’re not alone! \nJoin us every fourth Tuesday from 6:00 – 8:00 pm at the Ashland Family YMCA for our Parent Support Group. Connect with other parents\, share your experiences\, and find a safe\, welcoming space to navigate the journey of raising neurodiverse children. \n💬 Open Discussions🤝 Supportive Connections🏠 Safe & Welcoming Environment \n✨ Spanish support available upon request! \nLearn more from our parent leader\, Kelly\, at 👉 kellyawdale.wixsite.com/ashlandldsg \n📅 Mark your calendar and join us! We can’t wait to meet you! \n\n  \n🌟 Ashland Diferencias de Aprendizaje – Grupo de apoyo para padres🌟 \n¿Es usted un padre que busca apoyo y comprensión? ¡No está solo! \nÚnase a nosotros cada cuarto martes de 6:00 a 8:00 p. m. en la Ashland Family YMCA para nuestro Grupo de Apoyo para Padres. Conéctese con otros padres\, comparta sus experiencias y encuentre un espacio seguro y acogedor para recorrer el camino de criar niños con neurodiversidad. \n💬 Discusiones abiertas\n🤝 Conexiones de apoyo\n🏠 Entorno seguro y acogedor \n✨ ¡Asistencia en español disponible a pedido! \nObtenga más información de nuestra líder de padres\, Kelly\, en 👉 kellyawdale.wixsite.com/ashlandldsg \n📅 ¡Marque su calendario y únase a nosotros! ¡Estamos ansiosos por conocerlo!
URL:https://bcoregon.org/event/ashland-learning-differences-parent-support-group-ashland-diferencias-de-aprendizaje-grupo-de-apoyo-para-padres-8-2/2025-11-18/
LOCATION:Ashland Family YMCA\, 540 YMCA Way\, Ashland\, 97520\, United States
CATEGORIES:Support Groups
ATTACH;FMTTYPE=image/png:https://bcoregon.org/wp-content/uploads/2025/09/ALDSG-Eng.-12.png
END:VEVENT
BEGIN:VEVENT
DTSTART;TZID=America/Los_Angeles:20251119T100000
DTEND;TZID=America/Los_Angeles:20251119T120000
DTSTAMP:20260420T124803
CREATED:20251106T220852Z
LAST-MODIFIED:20251107T215009Z
UID:10000281-1763546400-1763553600@bcoregon.org
SUMMARY:Cafe y comunidad  Café\, comunidad y conversación en español.
DESCRIPTION:  \nCafé\, comunidad y conversación en español.\nAcompáñenos cada tercer miércoles del mes para una mañana de conexión y apoyo en un espacio acogedor para padres y cuidadores de niños con discapacidades. \n📅 Fecha y hora: Miércoles\, 19 de noviembre de 2025 • 10:00 a. m. – 12:00 p. m.\n📍 Lugar: Bridging Communities\, 1017 N Riverside Ave\, Medford\, OR 97501 \n10:00 – 11:00 am: Tiempo de apoyo para padres.\nUn espacio para compartir experiencias\, preguntas e ideas con otros padres y cuidadores que comprenden su situación.\n11:00 a. m. – 12:00 p. m.: Sesión con organizaciones invitadas.\nCada mes se presenta una organización comunitaria invitada diferente que comparte servicios y apoyos para niños con discapacidades. \n☕ Se ofrece café y servicio de guardería.\n📧 Preguntas: info@bcoregon.org | 📞 (458) 278-0697\n—————-\nCoffee\, community\, and conversation in Spanish.\nJoin us every third Wednesday of the month for a morning of connection and support in a welcoming space for parents and caregivers of children with disabilities. \n📅 Date & Time: Wednesday\, November 19\, 2025 • 10:00 am – 12:00 pm\n📍 Location: Bridging Communities\, 1017 N Riverside Ave\, Medford\, OR 97501 \n10:00 – 11:00 am: Parent Support Time\nA space for sharing experiences\, questions\, and ideas with other parents and caregivers who understand.\n11:00 am – 12:00 pm: Guest Organization Session\nEach month features a different invited community organization sharing services and supports for children with disabilities. \n☕ Coffee and childcare provided.\n📧 Questions: info@bcoregon.org | 📞 (458) 278-0697
URL:https://bcoregon.org/event/cafe-y-comunidad/2025-11-19/
LOCATION:Living Opportunities 1017 N Riverside Ave\, Medford\, OR 97501
CATEGORIES:Support Groups
ATTACH;FMTTYPE=image/png:https://bcoregon.org/wp-content/uploads/2025/11/Cafe-y-Comunidad-Facebook-Event-1.png
END:VEVENT
BEGIN:VEVENT
DTSTART;TZID=America/Los_Angeles:20251126T103000
DTEND;TZID=America/Los_Angeles:20251126T113000
DTSTAMP:20260420T124803
CREATED:20251022T025325Z
LAST-MODIFIED:20251107T220234Z
UID:10000225-1764153000-1764156600@bcoregon.org
SUMMARY:Building Futures Playgroup / Construyendo Futuros Grupo de Juego
DESCRIPTION:  \n🌟 Building Futures Playgroup 🌟 \nJoin us every 4th Wednesday from 10:30 to 11:30 AM for a special playgroup where children of all abilities (ages 0-5) and their families can enjoy a welcoming space filled with play\, growth\, connection\, and belonging. 🧸💫 \nThis inclusive gathering is brought to you in partnership with Autism Society of Oregon\, The Family Nurturing Center of Southern Oregon\, and Bridging Communities. Together\, we’re creating a fun\, supportive environment where all families are welcome. 💕 \n🗓 When: 4th Wednesday of each month\n⏰ Time: 10:30 – 11:30 AM\n📍 Where: Family Nurturing Center 825 E. Main Street\, Suite A.\, Medford\, OR 97504 \nCome connect\, play\, and build a brighter future—one moment at a time! We can’t wait to meet you. 😊 # \n\n🌟 Construyendo Futuros Grupo de Juego 🌟 \nÚnase a nosotros cada cuarto Miércoles de 10:30 a 11:30 a.m. para un grupo de juego especial donde los niños de todas las capacidades (de 0 a 5 años) y sus familias pueden disfrutar de un espacio acogedor lleno de juego\, crecimiento\, conexión y pertenencia. \n🧸💫 Esta reunión inclusiva se ofrece en asociación con Autism Society of Oregon\, The Family Nurturing Center of Southern Oregon y Bridging Communities. Juntos\, estamos creando un entorno divertido y solidario donde todas las familias son bienvenidas. 💕 \n🗓 Cuándo: 4th Miércoles de cada mes\n⏰ Hora: 10:30 a.m. a 11:30 a.m.\n📍 Dónde: Family Nurturing Center 825 E. Main Street\, Suite A.\, Medford\, OR 97504 \n¡Ven a conectarte\, jugar y construir un futuro más brillante\, un momento a la vez! Estamos ansiosos por conocerte. 😊
URL:https://bcoregon.org/event/building-futures-playgroup-construyendo-futuros-grupo-de-juego-9/2025-11-26/
LOCATION:The Family Nurturing Center\, 825 E. Main Street\, Suite A.\, Medford\, OR\, 97504\, United States
CATEGORIES:Support Groups
ATTACH;FMTTYPE=image/png:https://bcoregon.org/wp-content/uploads/2025/02/Building-Futures-Playgroup-Eng.png
END:VEVENT
BEGIN:VEVENT
DTSTART;TZID=America/Los_Angeles:20251129T183000
DTEND;TZID=America/Los_Angeles:20251129T200000
DTSTAMP:20260420T124803
CREATED:20251029T231846Z
LAST-MODIFIED:20251107T215551Z
UID:10000240-1764441000-1764446400@bcoregon.org
SUMMARY:Bowling Buddies / Compañeros de bolos
DESCRIPTION:  \n🎉 Let’s roll into the long weekend together!\nBridging Communities and the Autism Society of Oregon invite youth ages 13 to 17 for a free Breaktime Hangout with bowling\, food\, and arcade games. This meet-up is all about having fun\, making connections\, and spending time together.📅 When: Saturday\, November 29\n⏰ Time: 6:30–8:00 PM (check-in at 6:15 PM)\n📍 Where: Lava Lanes\, 2980 Crater Lake Hwy\, Medford\n💸 Cost: Free! Includes two games with shoes 👟\, pizza 🍕\, fries 🍟\, drinks 🥤\, and a $10 arcade card 🎮. \n👥 This is a meet-up\, not a drop-off event. Team members from Bridging Communities and the Autism Society of Oregon will help host and support the group atmosphere. If a participant needs or prefers support\, a trusted adult is welcome 👨‍👩‍👧‍👦. \n⚠️ Space is limited. Please register early: https://forms.gle/pnW3JFoS2SJFZfMH8 \n📧 Questions or a change of plans?\nEmail: info@bcoregon.org\n📱 Call or text: (458) 278-0697 \n\n🎊 Celebremos juntos el fin de semana largo\nBridging Communities y Autism Society of Oregon invitan a jóvenes de 13 a 17 años a un encuentro gratuito con boliche\, comida y juegos de arcade. Este encuentro es para divertirse\, crear conexiones  y pasar tiempo juntos. \n📅 Cuándo: Sábado 29 de Noviembre\n⏰ Hora: 6:30 a 8:00 p. m. (registro a las 6:15 p. m.)\n📍 Dónde: Lava Lanes\, 2980 Crater Lake Hwy\, Medford\n💸 Costo: Gratis. Incluye dos juegos con renta de zapatos 👟\, pizza 🍕\, papas fritas 🍟\, bebidas 🥤 y una tarjeta de $10 para el arcade 🎮. \n👥 Este es un encuentro\, no un evento para dejar a los jóvenes sin supervisión. El equipo de Bridging Communities y Autism Society of Oregon ayudará a organizar y apoyar el ambiente del grupo. Si un participante necesita o prefiere apoyo\, puede asistir con un adulto de confianza 👨‍👩‍👧‍👦. \n⚠️ El cupo es limitado. Por favor inscríbete pronto: https://forms.gle/pnW3JFoS2SJFZfMH8 \n📧 ¿Preguntas o cambio de planes?\nEscribe a: info@bcoregon.org\n📱 Llama o envía un mensaje de texto al: (458) 278-0697
URL:https://bcoregon.org/event/bowling-buddies-companeros-de-bolos/
LOCATION:Lava Lanes\, 2980 Crater Lake Hwy\, Medford\, OR\, 97504\, United States
ATTACH;FMTTYPE=image/png:https://bcoregon.org/wp-content/uploads/2025/10/Bowling-Buddies-Companeros-de-bolos-Header.png
END:VEVENT
END:VCALENDAR