BEGIN:VCALENDAR
VERSION:2.0
PRODID:-//Bridging Communities - ECPv6.15.20//NONSGML v1.0//EN
CALSCALE:GREGORIAN
METHOD:PUBLISH
X-ORIGINAL-URL:https://bcoregon.org
X-WR-CALDESC:Events for Bridging Communities
REFRESH-INTERVAL;VALUE=DURATION:PT1H
X-Robots-Tag:noindex
X-PUBLISHED-TTL:PT1H
BEGIN:VTIMEZONE
TZID:America/Los_Angeles
BEGIN:DAYLIGHT
TZOFFSETFROM:-0800
TZOFFSETTO:-0700
TZNAME:PDT
DTSTART:20240310T100000
END:DAYLIGHT
BEGIN:STANDARD
TZOFFSETFROM:-0700
TZOFFSETTO:-0800
TZNAME:PST
DTSTART:20241103T090000
END:STANDARD
BEGIN:DAYLIGHT
TZOFFSETFROM:-0800
TZOFFSETTO:-0700
TZNAME:PDT
DTSTART:20250309T100000
END:DAYLIGHT
BEGIN:STANDARD
TZOFFSETFROM:-0700
TZOFFSETTO:-0800
TZNAME:PST
DTSTART:20251102T090000
END:STANDARD
BEGIN:DAYLIGHT
TZOFFSETFROM:-0800
TZOFFSETTO:-0700
TZNAME:PDT
DTSTART:20260308T100000
END:DAYLIGHT
BEGIN:STANDARD
TZOFFSETFROM:-0700
TZOFFSETTO:-0800
TZNAME:PST
DTSTART:20261101T090000
END:STANDARD
END:VTIMEZONE
BEGIN:VEVENT
DTSTART;TZID=America/Los_Angeles:20250902T100000
DTEND;TZID=America/Los_Angeles:20250902T110000
DTSTAMP:20260420T221211
CREATED:20250827T225853Z
LAST-MODIFIED:20250827T225854Z
UID:10000085-1756807200-1756810800@bcoregon.org
SUMMARY:Sip & Support  / Tomar & conectar
DESCRIPTION:Sip & Support – Grants Pass Parent GroupFinding community and sharing resources\, one sip at a time. \nCome as you are and join us for Sip & Support\, a new parent and caregiver group in Grants Pass. This is a relaxed space to enjoy your favorite drink\, connect with other parents of children with disabilities\, and share stories with people who truly understand the journey. \nThis group is peer-led\, which means it’s hosted by fellow parents who “get it.” You’ll leave with encouragement\, new ideas\, and maybe even a new friend. \n📅 When: Tuesday\, September 2\, 2025 | 10:00 – 11:00 am📍 Where: Rogue Roasters\, 610 SW 6th St\, Grants Pass \nNo RSVP needed—just drop in when you can. Purchase your own beverage and join the conversation. Support is available in both English and Spanish. \nQuestions?📧 info@bcoregon.org📞 (458) 278-0697 \n\nGrupo de Padres de Grants Pass: Tomar & conectar\nEncontrando comunidad y compartiendo recursos\, un sorbo a la vez. \nVen como eres y únete a Tomar & conectar\, un nuevo grupo para padres y cuidadores en Grants Pass. Este es un espacio relajado para disfrutar de tu bebida favorita\, conectar con otros padres de niños con discapacidades y compartir historias con personas que realmente comprenden la experiencia. \nEste grupo está dirigido por pares\, lo que significa que está organizado por padres que lo entienden. Saldrás con ánimo\, nuevas ideas y quizás incluso con un nuevo amigo. \n📅 Cuándo: Martes\, 2 de Septiembre de 2025 | 10:00 – 11:00 a.m.\n📍 Dónde: Rogue Roasters\, 610 SW 6th St\, Grants Pass \nNo es necesario confirmar asistencia; simplemente acércate cuando puedas. Compra tu propia bebida y únete a la conversación. Hay apoyo disponible tanto en inglés como en español. \n¿Preguntas? \n📧 info@bcoregon.org\n📞 (458) 278-0697
URL:https://bcoregon.org/event/sip-support-tomar-conectar/
LOCATION:Rogue Roasters\, 610 SW 6th St\, Grants Pass\, OR\, 97526\, United States
CATEGORIES:Support Groups
END:VEVENT
BEGIN:VEVENT
DTSTART;TZID=America/Los_Angeles:20250904T090000
DTEND;TZID=America/Los_Angeles:20250904T110000
DTSTAMP:20260420T221211
CREATED:20250815T165332Z
LAST-MODIFIED:20250815T165332Z
UID:10000077-1756976400-1756983600@bcoregon.org
SUMMARY:Parent Coffee / Café para padres
DESCRIPTION:☕️ Parent Coffee: Connect & Recharge! ☕️ \nNeed a break? Want to chat with other parents who share similar experiences? Looking for support and resources? Join us at Parent Coffee! \n🗓 When: 1st Thursday of every month\, 9am – 11am📍Where: Black Rock Coffee Bar\, Medford\, OR \nCome as you are! Whether you need a listening ear\, advice\, or just a warm cup of coffee\, we’re here for you. Let’s build community\, share experiences\, and support each other. ❤️ \n// \n☕️ Café para padres: ¡Conéctate y recarga energías! ☕️ \n¿Necesitas un descanso? ​​¿Quieres conversar con otros padres que comparten experiencias similares? ¿Buscas apoyo y recursos? ¡Únete a nosotros en el Café para padres! \n🗓 Cuándo: el primer jueves de cada mes\, de 9:00 a.m. a 11:00 a.m.\n📍Dónde: Black Rock Coffee Bar\, Medford\, OR \n¡Ven tal como eres! Ya sea que necesites que te escuchen\, un consejo o simplemente una taza de café caliente\, estamos aquí para ti. Construyamos una comunidad\, compartamos experiencias y apoyémonos mutuamente. ❤️
URL:https://bcoregon.org/event/parent-coffee-cafe-para-padres-7/
LOCATION:Black Rock Coffee Bar\, 151 Rossanley Dr. #101\, Medford\, OR\, 97501\, United States
CATEGORIES:Support Groups
END:VEVENT
BEGIN:VEVENT
DTSTART;TZID=America/Los_Angeles:20250910T180000
DTEND;TZID=America/Los_Angeles:20250910T200000
DTSTAMP:20260420T221211
CREATED:20250828T222151Z
LAST-MODIFIED:20250828T222151Z
UID:10000086-1757527200-1757534400@bcoregon.org
SUMMARY:Charla Entre Padres en Línea en Español
DESCRIPTION:🌟 Charla Entre Padres en Línea en Español 🌟 \n¿Tu hijo o hija tiene alguna discapacidad?¿Quieres conectarte con otros padres con experiencias similares?¿Buscas apoyo y recursos? \n¡Estamos aquí para ti! Únete a nuestro grupo de apoyo Charla Entre Padres y comparte un espacio seguro y acogedor con otras familias. Juntos podemos aprender\, apoyarnos y construir comunidad. 💛 \n🗓 Segundo Miércoles de Cada Mes⏰ 6:00 – 8:00 pm💻 Zoom: https://us06web.zoom.us/j/87032079282?pwd=Ft7s82pF6folHFQm7I2I9MAU9r0zI0.1📲 ID de la Reunión: 870 3207 9282🔐 Código: comunidad \n¿Preguntas?📞 Español o Inglés: (458) 278-0697 \n✉️ info@bcoregon.org \n¡Te esperamos con los brazos abiertos! 🤗 \n// \n🌟 Online Parent Chat in Spanish 🌟 \nDoes your child have a disability?\nDo you want to connect with other parents with similar experiences?\nAre you looking for support and resources? \nWe are here for you! Join our Parent Chat support group and share a safe and welcoming space with other families. Together we can learn\, support each other\, and build community. 💛 \n🗓 Second Wednesday of Every Month\n⏰ 6:00 – 8:00 pm\n💻 Zoom: https://us06web.zoom.us/j/87032079282?pwd=Ft7s82pF6folHFQm7I2I9MAU9r0zI0.1\n📲 Meeting ID: 870 3207 9282\n🔐 Code: comunidad \nQuestions?\n📞 Spanish or English: (458) 278-0697 \n✉️ info@bcoregon.org \nWe are waiting for you with open arms! 🤗
URL:https://bcoregon.org/event/charla-entre-padres-en-linea-en-espanol-6/
LOCATION:OR
CATEGORIES:Support Groups
END:VEVENT
BEGIN:VEVENT
DTSTART;TZID=America/Los_Angeles:20250912T173000
DTEND;TZID=America/Los_Angeles:20250912T190000
DTSTAMP:20260420T221211
CREATED:20250815T165536Z
LAST-MODIFIED:20250815T165536Z
UID:10000078-1757698200-1757703600@bcoregon.org
SUMMARY:All Abilities Gaming Socials / Juegos sociales para todas las habilidades
DESCRIPTION:Looking for a fun and inclusive way for your child to connect with others? Our All Abilities Gaming Social is the perfect opportunity! \n✨ Open to all skill levels\, this welcoming meetup helps kids build social skills\, make new friends\, and enjoy a variety of games—including video games\, board games\, and more—provided by the Oregon Autism Society and Bridging Communities. Or bring your own favorite game to share! \n📅 Who can join?\n🎮 Designed for ages 8-14\, but the whole family is welcome! \n🍽 Light dinner will be provided\n💰 FREE to attend\, but registration is required! \n📌 Sign up here: https://ashlandoregon.gov/371/Register-for-a-Program \nCome play\, connect\, and have fun in a supportive and inclusive space! We can’t wait to see you there! 🎉 \n// \n¿Buscas una forma divertida e inclusiva para que tu hijo se conecte con los demás? ¡Nuestro Sociales de juegos para todas las habilidades es la oportunidad perfecta! \n✨ Abierto a todos los niveles de habilidad\, este acogedor encuentro ayuda a los niños a desarrollar habilidades sociales\, hacer nuevos amigos y disfrutar de una variedad de juegos\, incluidos video juegos\, juegos de mesa y más\, proporcionados por la Sociedad de Autismo de Oregón y Bridging Communities. ¡O trae tu propio juego favorito para compartir! \n📅 ¿Quién puede participar?\n🎮 Diseñado para edades de 8 a 14 años\, ¡pero toda la familia es bienvenida! \n🍽 Se proporcionará una cena ligera\n💰 ¡La asistencia es GRATUITA\, pero se requiere inscripción! \n📌 Regístrate aquí: https://ashlandoregon.gov/371/Register-for-a-Program \n¡Ven a jugar\, conectarte y divertirte en un espacio solidario e inclusivo! ¡Estamos ansiosos por verte allí! 🎉
URL:https://bcoregon.org/event/all-abilities-gaming-socials-juegos-sociales-para-todas-las-habilidades-5/
LOCATION:Ashland Senior Center\, 1699 Homes Ave\, Ashland\, OR\, 97520\, United States
CATEGORIES:Support Groups
END:VEVENT
BEGIN:VEVENT
DTSTART;TZID=America/Los_Angeles:20250917T100000
DTEND;TZID=America/Los_Angeles:20250917T120000
DTSTAMP:20260420T221211
CREATED:20250818T194737Z
LAST-MODIFIED:20250818T195246Z
UID:10000076-1758103200-1758110400@bcoregon.org
SUMMARY:Café y Comunidad – presentando a The Arc del Condado de Jackson / Café y Comunidad – featuring The Arc Jackson County
DESCRIPTION:Café y Comunidad – presentando a The Arc del Condado de Jackson \n📅 17 de Septiembre de 2025\n🕙 10:00 a. m. a 12:00 p. m.\n📍 Bridging Communities \n¡Únase a nuestro grupo mensual de apoyo para padres\, Café y Comunidad! Este mes\, nos complace dar la bienvenida a Miriam de The Arc del Condado de Jackson como nuestra invitada especial. \n☕ Durante la primera hora (10:00 a.m. a 11:00 a.m.)\, nos reuniremos como de costumbre para disfrutar de un café y pan\, y para conectar con otros padres y cuidadores. Comparta historias\, haga preguntas y siéntase apoyado. \n📣 En la segunda hora (11:00 p. m. a 12:00 p. m.)\, Miriam hablará sobre los programas y servicios que The Arc del Condado de Jackson ofrece para personas con discapacidades intelectuales y del desarrollo y sus familias. Tendrá la oportunidad de hacer preguntas y obtener más información sobre cómo The Arc puede apoyar a su familia. \n🎉 Hay cuidado de niños disponible a solicitud; envíenos un correo electrónico a brittany@bcoregon.org. Ven a conectar\, aprender y crecer juntos. ¡Nos encantaría verte allí! \n\nCafé y Comunidad – featuring The Arc Jackson County\n \n📅 September 17\, 2025\n 🕙 10:00 AM – 12:00 PM\n 📍 Bridging Communities \nJoin us for our monthly parent support group\, Cafe y Comunidad! This month\, we’re excited to welcome Miriam from The Arc Jackson County as our special guest. \n☕ During the first hour (10–11 AM)\, we’ll gather as usual to enjoy cafe and pan\, and time to connect with other parents and caregivers. Share stories\, ask questions\, and feel supported. \n📣 In the second hour (11–12 PM)\, Miriam will share about the programs and services The Arc Jackson County offers for individuals with intellectual and developmental disabilities and their families. You’ll have a chance to ask questions and learn more about how The Arc can support your family. \n🗣️ This support group and resource presentation will be conducted entirely in Spanish. \n🎉 Childcare is available upon request —please send us an email to brittany@bcoregon.org. \nCome connect\, learn\, and grow together. We’d love to see you there!
URL:https://bcoregon.org/event/cafe-y-comunidad-presentando-a-the-arc-del-condado-de-jackson-cafe-y-comunidad-featuring-the-arc-jackson-county/
LOCATION:Bridging Communities\, 1017 N Riverside Ave\, Medford\, OR\, 97501\, United States
END:VEVENT
BEGIN:VEVENT
DTSTART;TZID=America/Los_Angeles:20250920T100000
DTEND;TZID=America/Los_Angeles:20250920T110000
DTSTAMP:20260420T221211
CREATED:20250815T170034Z
LAST-MODIFIED:20250815T170034Z
UID:10000080-1758362400-1758366000@bcoregon.org
SUMMARY:Dad’s Coffee Meetup / Meetup de Café para padres
DESCRIPTION:☕ Dads Support Group – Coffee & Connection \n📅 Saturday\, September 20 | 10–11 AM\n📍 Main Street Coffee – Eagle Point \nAre you a dad or father figure raising a child with a disability? You’re not alone. \nJoin us for coffee\, connection\, and real conversation with other dads who get it. No pressure. Just community. \nThis support group is hosted by Bridging Communities and led by a fellow dad who’s walking a similar path. \nWhether you’re new to this journey or have years of experience\, we welcome you to come as you are. \nQuestions?📞 (458) 278-0697📧 info@bcoregon.org \nLet’s build something good—together.\n——————————————————————————————————————————————————————– \n☕ Grupo de Apoyo para Papás ​​– Café y Conexión \n📅 Sábado\, 20 de Septiembre | 10–11 AM\n📍 Café en la Main Street – Eagle Point \n¿Eres papá o figura paterna y crías a un hijo con discapacidad? No estás solo. \nÚnete a nosotros para tomar un café\, conectar y conversar con otros papás que lo entienden. Sin presión. Solo comunidad. \nEste grupo de apoyo es organizado por Bridging Communities y dirigido por un papá que comparte tu experiencia. \nTanto si eres nuevo en este camino como si tienes años de experiencia\, te invitamos a unirte tal como eres. \n¿Preguntas? 📞 (458) 278-0697 📧 info@bcoregon.org \nConstruyamos algo bueno\, juntos.
URL:https://bcoregon.org/event/dads-coffee-meetup-meetup-de-cafe-para-padres-2/
LOCATION:Main Street Coffee House\, 115 W Main St\, Eagle Point\, OR\, 97524\, United States
CATEGORIES:Support Groups
END:VEVENT
BEGIN:VEVENT
DTSTART;TZID=America/Los_Angeles:20250923T180000
DTEND;TZID=America/Los_Angeles:20250923T200000
DTSTAMP:20260420T221211
CREATED:20250815T170251Z
LAST-MODIFIED:20250815T170251Z
UID:10000081-1758650400-1758657600@bcoregon.org
SUMMARY:Ashland Learning Differences Parent Support Group / Ashland Diferencias de Aprendizaje - Grupo de apoyo para padres
DESCRIPTION:📅 NEW DATE ALERT!Our support group now meets on the 4th Tuesday of every month — same time\, same place!🕕 6:00 PM – 8:00 PM📍 Ashland Library \nMark your calendars and join us for connection\, support\, and community! \n\n¡NUEVA FECHA!\nNuestro grupo de apoyo ahora se reúne el cuarto martes de cada mes\, ¡a la misma hora y en el mismo lugar!\n🕕 6:00 – 8:00 PM\n📍 Biblioteca de Ashland \n¡Apúntate y únete a nosotros para conectar\, apoyarte y formar una comunidad! \n\n  \n🌟 Ashland Learning Differences Parent Support Group 🌟 \nAre you a parent seeking support and understanding? You’re not alone! \nJoin us every fourth Tuesday from 6:00 – 8:00 pm at the Ashland Public Library for our Parent Support Group. Connect with other parents\, share your experiences\, and find a safe\, welcoming space to navigate the journey of raising neurodiverse children. \n💬 Open Discussions🤝 Supportive Connections🏠 Safe & Welcoming Environment \n✨ Spanish support available upon request! \nLearn more from our parent leader\, Kelly\, at 👉 kellyawdale.wixsite.com/ashlandldsg \n📅 Mark your calendar and join us! We can’t wait to meet you! \n// \n🌟 Ashland Diferencias de Aprendizaje – Grupo de apoyo para padres🌟 \n¿Es usted un padre que busca apoyo y comprensión? ¡No está solo! \nÚnase a nosotros cada cuarto martes de 6:00 a 8:00 p. m. en la Biblioteca Pública de Ashland para nuestro Grupo de Apoyo para Padres. Conéctese con otros padres\, comparta sus experiencias y encuentre un espacio seguro y acogedor para recorrer el camino de criar niños con neurodiversidad. \n💬 Discusiones abiertas\n🤝 Conexiones de apoyo\n🏠 Entorno seguro y acogedor \n✨ ¡Asistencia en español disponible a pedido! \nObtenga más información de nuestra líder de padres\, Kelly\, en 👉 kellyawdale.wixsite.com/ashlandldsg \n📅 ¡Marque su calendario y únase a nosotros! ¡Estamos ansiosos por conocerlo!
URL:https://bcoregon.org/event/ashland-learning-differences-parent-support-group-ashland-diferencias-de-aprendizaje-grupo-de-apoyo-para-padres-7/
LOCATION:Ashland Library\, 410 Siskiyou Blvd\, Ashland\, OR\, 97520\, United States
CATEGORIES:Support Groups
END:VEVENT
BEGIN:VEVENT
DTSTART;TZID=America/Los_Angeles:20250924T103000
DTEND;TZID=America/Los_Angeles:20250924T113000
DTSTAMP:20260420T221211
CREATED:20250815T165718Z
LAST-MODIFIED:20250815T165718Z
UID:10000079-1758709800-1758713400@bcoregon.org
SUMMARY:Building Futures Playgroup / Construyendo Futuros Grupo de Juego
DESCRIPTION:  \n🌟 Building Futures Playgroup 🌟 \nJoin us every 4th Wednesday from 10:30 to 11:30 AM for a special playgroup where children of all abilities (ages 0-5) and their families can enjoy a welcoming space filled with play\, growth\, connection\, and belonging. 🧸💫 \nThis inclusive gathering is brought to you in partnership with Autism Society of Oregon\, The Family Nurturing Center of Southern Oregon\, and Bridging Communities. Together\, we’re creating a fun\, supportive environment where all families are welcome. 💕 \n🗓 When: 4th Wednesday of each month\n⏰ Time: 10:30 – 11:30 AM\n📍 Where: Family Nurturing Center 825 E. Main Street\, Suite A.\, Medford\, OR 97504 \nCome connect\, play\, and build a brighter future—one moment at a time! We can’t wait to meet you. 😊 # \n// \n🌟 Construyendo Futuros Grupo de Juego 🌟 \nÚnase a nosotros cada cuarto Miércoles de 10:30 a 11:30 a.m. para un grupo de juego especial donde los niños de todas las capacidades (de 0 a 5 años) y sus familias pueden disfrutar de un espacio acogedor lleno de juego\, crecimiento\, conexión y pertenencia. \n🧸💫 Esta reunión inclusiva se ofrece en asociación con Autism Society of Oregon\, The Family Nurturing Center of Southern Oregon y Bridging Communities. Juntos\, estamos creando un entorno divertido y solidario donde todas las familias son bienvenidas. 💕 \n🗓 Cuándo: 4th Miércoles de cada mes\n⏰ Hora: 10:30 a.m. a 11:30 a.m.\n📍 Dónde: Family Nurturing Center 825 E. Main Street\, Suite A.\, Medford\, OR 97504 \n¡Ven a conectarte\, jugar y construir un futuro más brillante\, un momento a la vez! Estamos ansiosos por conocerte. 😊
URL:https://bcoregon.org/event/building-futures-playgroup-construyendo-futuros-grupo-de-juego-7/
LOCATION:The Family Nurturing Center\, 825 E. Main Street\, Suite A.\, Medford\, OR\, 97504\, United States
CATEGORIES:Support Groups
END:VEVENT
BEGIN:VEVENT
DTSTART;TZID=America/Los_Angeles:20250925T180000
DTEND;TZID=America/Los_Angeles:20250925T190000
DTSTAMP:20260420T221211
CREATED:20250826T191350Z
LAST-MODIFIED:20250826T191737Z
UID:10000084-1758823200-1758826800@bcoregon.org
SUMMARY:Brain First Parenting Training / Crianza centrada en el cerebro
DESCRIPTION:🌟 Brain First Parenting Training with Eileen Devine\, LCSW \nJoin us for a free online training with Eileen Devine\, LCSW\, therapist and founder of Brain First Parenting. \nNeuroscience research tells us there are tens of thousands of reasons why a brain might work differently than society expects. Many children with brain-based differences struggle behaviorally—and standard parenting approaches often don’t work for them. \nIn this training\, Eileen will share how to look at behaviors through a Brain First lens\, focusing on: \n\nWhy standard parenting strategies sometimes fail\nHow behaviors can be direct results of brain differences\nPractical strategies parents and caregivers can use to help children experience less distress and more calm in their daily environments\n\nThis session is designed for parents\, caregivers\, and providers who want tools to better support children with neurobehavioral challenges. \nEvent Details📅 Date: Thursday\, September 25\, 2025🕒 Time: 6:00 – 7:00 PM📍 Location: Online (Zoom) — link provided in confirmation email🎤 Presenter: Eileen Devine\, LCSW — Therapist and Founder of Brain First Parenting💲 Cost: Free \n👉 Register here: https://forms.gle/39VV43NNELD4bcML9 \nFor more information\, contact Bridging Communities at info@bcoregon.org or (458) 278-0697. \n\n🌟 Entrenamiento de Crianza Brain First con Eileen Devine\, LCSW \nÚnase a nosotros en un entrenamiento en línea gratuito con Eileen Devine\, LCSW\, terapeuta y fundadora de Brain First Parenting. \nLa investigación en neurociencia nos indica que existen decenas de miles de razones por las que el cerebro puede funcionar de forma diferente a la que la sociedad espera. Muchos niños con diferencias cerebrales tienen dificultades de comportamiento\, y los enfoques de crianza estándar a menudo no les funcionan. \nEn este entrenamiento\, Eileen compartirá cómo analizar los comportamientos desde la perspectiva de Brain First\, centrándose en: \n\nPor qué las estrategias de crianza estándar a veces fallan\nCómo los comportamientos pueden ser resultado directo de las diferencias cerebrales\nEstrategias prácticas que padres y cuidadores pueden usar para ayudar a los niños a experimentar menos angustia y más calma en su entorno diario\n\nEsta sesión está diseñada para padres\, cuidadores y proveedores que buscan herramientas para apoyar mejor a los niños con desafíos neuroconductuales. \nDetalles del evento\n📅 Fecha: Jueves\, 25 de Septiembre de 2025\n🕒 Hora: 6:00 – 7:00 p.m.\n📍 Lugar: En línea (Zoom) — enlace incluido en el correo electrónico de confirmación\n🎤 Presentadora: Eileen Devine\, LCSW — Terapeuta y fundadora de Brain First Parenting\n💲 Costo: Gratis \n👉 Inscríbase aquí: https://forms.gle/39VV43NNELD4bcML9 \nPara más información\, contacte con Bridging Communities en info@bcoregon.org o al (458) 278-0697.
URL:https://bcoregon.org/event/brain-first-parenting-training-crianza-centrada-en-el-cerebro/
LOCATION:OR
END:VEVENT
BEGIN:VEVENT
DTSTART;TZID=America/Los_Angeles:20250928T100000
DTEND;TZID=America/Los_Angeles:20250928T160000
DTSTAMP:20260420T221211
CREATED:20250826T183941Z
LAST-MODIFIED:20250826T183941Z
UID:10000083-1759053600-1759075200@bcoregon.org
SUMMARY:Fall Festival / Festival de Otoño
DESCRIPTION:🍂 Fall Festival at Pheasant Fields FarmSunday\, September 28 | 10:00 AM – 4:00 PM \nWe’re excited to invite you to a day of Fall fun at Pheasant Fields Farm\, brought to you by Living Opportunities\, The Arc Jackson County\, and Bridging Communities! \nThis event is for people supported by Living Opportunities\, The Arc Jackson County\, and Bridging Communities—along with their guests. Staff\, families\, and friends are all welcome to join the celebration. \n🎟️ Free General Admission Bracelets give you access to: \n\nHay Rides\nCorn Maze\nAnimal Exhibit\nCow & Bee Train\nShooting Gallery\n\n✨ Space is limited\, and you must register ahead of time to receive your free admission bracelets. \n👉 Register for the event here: https://forms.gle/xtU3oNbZpKpeBBYYA \nWe’re also looking for volunteers to help at the Bridging Communities booth! Volunteers will welcome families\, check them in\, and share directions to all the fun activities. \n👉 Sign up to volunteer here: https://bcoregon.org/collaborate/volunteer/ \nCome celebrate the beginning of Fall with us—it’s going to be a wonderful day for connection\, inclusion\, and fun! \n\n🍂 Festival de Otoño en la Pheasant Fields Farms\nDomingo\, 28 de Septiembre | 10:00 a.m. a 4:00 p.m. \nNos complace invitarlos a un día de diversión otoñal en la Pheasant Fields Farm\, organizado por Living Opportunities\, The Arc Jackson County y Bridging Communities. \nEste evento es para las personas apoyadas por Living Opportunities\, The Arc Jackson County y Bridging Communities\, junto con sus invitados. El personal\, las familias y los amigos están invitados a unirse a la celebración. \n🎟️ Las pulseras de entrada general gratuitas les dan acceso a: \n\nPaseos en carro de heno\nLaberinto de maíz\nExhibición de animales\nTren de vacas y abejas\nGalería de tiro\n\n✨ El cupo es limitado y deben registrarse con anticipación para recibir sus pulseras de entrada gratuita. \n👉 Regístrate para el evento aquí: https://forms.gle/xtU3oNbZpKpeBBYYA \n¡También buscamos voluntarios para ayudar en el stand de Bridging Communities! Los voluntarios recibirán a las familias\, las registrarán y les indicarán cómo llegar a todas las divertidas actividades. \n👉 Inscríbete como voluntario aquí: https://bcoregon.org/collaborate/volunteer/ \n¡Ven a celebrar el comienzo del otoño con nosotros! ¡Será un día maravilloso de conexión\, inclusión y diversión!
URL:https://bcoregon.org/event/fall-festival-festival-de-otono/
LOCATION:Pheasant Fields Farm\, 1865 Camp Baker Rd\, Medford\, OR\, 97501\, United States
END:VEVENT
END:VCALENDAR