BEGIN:VCALENDAR
VERSION:2.0
PRODID:-//Bridging Communities - ECPv6.15.20//NONSGML v1.0//EN
CALSCALE:GREGORIAN
METHOD:PUBLISH
X-ORIGINAL-URL:https://bcoregon.org
X-WR-CALDESC:Events for Bridging Communities
REFRESH-INTERVAL;VALUE=DURATION:PT1H
X-Robots-Tag:noindex
X-PUBLISHED-TTL:PT1H
BEGIN:VTIMEZONE
TZID:America/Los_Angeles
BEGIN:DAYLIGHT
TZOFFSETFROM:-0800
TZOFFSETTO:-0700
TZNAME:PDT
DTSTART:20240310T100000
END:DAYLIGHT
BEGIN:STANDARD
TZOFFSETFROM:-0700
TZOFFSETTO:-0800
TZNAME:PST
DTSTART:20241103T090000
END:STANDARD
BEGIN:DAYLIGHT
TZOFFSETFROM:-0800
TZOFFSETTO:-0700
TZNAME:PDT
DTSTART:20250309T100000
END:DAYLIGHT
BEGIN:STANDARD
TZOFFSETFROM:-0700
TZOFFSETTO:-0800
TZNAME:PST
DTSTART:20251102T090000
END:STANDARD
BEGIN:DAYLIGHT
TZOFFSETFROM:-0800
TZOFFSETTO:-0700
TZNAME:PDT
DTSTART:20260308T100000
END:DAYLIGHT
BEGIN:STANDARD
TZOFFSETFROM:-0700
TZOFFSETTO:-0800
TZNAME:PST
DTSTART:20261101T090000
END:STANDARD
END:VTIMEZONE
BEGIN:VEVENT
DTSTART;TZID=America/Los_Angeles:20250703T090000
DTEND;TZID=America/Los_Angeles:20250703T110000
DTSTAMP:20260423T092721
CREATED:20250617T030409Z
LAST-MODIFIED:20250617T030409Z
UID:10000055-1751533200-1751540400@bcoregon.org
SUMMARY:Parent Coffee / Café para padres
DESCRIPTION:☕️ Parent Coffee: Connect & Recharge! ☕️ \nNeed a break? Want to chat with other parents who share similar experiences? Looking for support and resources? Join us at Parent Coffee! \n🗓 When: 1st Thursday of every month\, 9am – 11am📍Where: Black Rock Coffee Bar\, Medford\, OR \nCome as you are! Whether you need a listening ear\, advice\, or just a warm cup of coffee\, we’re here for you. Let’s build community\, share experiences\, and support each other. ❤️ \n// \n☕️ Café para padres: ¡Conéctate y recarga energías! ☕️ \n¿Necesitas un descanso? ​​¿Quieres conversar con otros padres que comparten experiencias similares? ¿Buscas apoyo y recursos? ¡Únete a nosotros en el Café para padres! \n🗓 Cuándo: el primer jueves de cada mes\, de 9:00 a.m. a 11:00 a.m.\n📍Dónde: Black Rock Coffee Bar\, Medford\, OR \n¡Ven tal como eres! Ya sea que necesites que te escuchen\, un consejo o simplemente una taza de café caliente\, estamos aquí para ti. Construyamos una comunidad\, compartamos experiencias y apoyémonos mutuamente. ❤️
URL:https://bcoregon.org/event/parent-coffee-cafe-para-padres-5/
LOCATION:Black Rock Coffee Bar\, 151 Rossanley Dr. #101\, Medford\, OR\, 97501\, United States
END:VEVENT
BEGIN:VEVENT
DTSTART;TZID=America/Los_Angeles:20250709T180000
DTEND;TZID=America/Los_Angeles:20250709T200000
DTSTAMP:20260423T092721
CREATED:20250703T213739Z
LAST-MODIFIED:20250703T213739Z
UID:10000064-1752084000-1752091200@bcoregon.org
SUMMARY:Charla Entre Padres en Línea en Español
DESCRIPTION:🌟 Charla Entre Padres en Línea en Español 🌟 \n¿Tu hijo o hija tiene alguna discapacidad?¿Quieres conectarte con otros padres con experiencias similares?¿Buscas apoyo y recursos? \n¡Estamos aquí para ti! Únete a nuestro grupo de apoyo Charla Entre Padres y comparte un espacio seguro y acogedor con otras familias. Juntos podemos aprender\, apoyarnos y construir comunidad. 💛 \n🗓 Segundo Miércoles de Cada Mes⏰ 6:00 – 8:00 pm💻 Zoom: https://us06web.zoom.us/j/87032079282?pwd=Ft7s82pF6folHFQm7I2I9MAU9r0zI0.1📲 ID de la Reunión: 870 3207 9282🔐 Código: comunidad \n¿Preguntas?📞 Español o Inglés: (458) 278-0697 \n✉️ info@bcoregon.org \n¡Te esperamos con los brazos abiertos! 🤗 \n// \n🌟 Online Parent Chat in Spanish 🌟 \nDoes your child have a disability?\nDo you want to connect with other parents with similar experiences?\nAre you looking for support and resources? \nWe are here for you! Join our Parent Chat support group and share a safe and welcoming space with other families. Together we can learn\, support each other\, and build community. 💛 \n🗓 Second Wednesday of Every Month\n⏰ 6:00 – 8:00 pm\n💻 Zoom: https://us06web.zoom.us/j/87032079282?pwd=Ft7s82pF6folHFQm7I2I9MAU9r0zI0.1\n📲 Meeting ID: 870 3207 9282\n🔐 Code: comunidad \nQuestions?\n📞 Spanish or English: (458) 278-0697 \n✉️ info@bcoregon.org \nWe are waiting for you with open arms! 🤗
URL:https://bcoregon.org/event/charla-entre-padres-en-linea-en-espanol-4/
LOCATION:OR
END:VEVENT
BEGIN:VEVENT
DTSTART;TZID=America/Los_Angeles:20250710T190000
DTEND;TZID=America/Los_Angeles:20250710T200000
DTSTAMP:20260423T092721
CREATED:20250617T031746Z
LAST-MODIFIED:20250617T031746Z
UID:10000059-1752174000-1752177600@bcoregon.org
SUMMARY:Book Club: Being Heumann / Club de lectura: Being Heumann
DESCRIPTION:📚 Book Club: Being Heumann👥 Hosted by The Arc Jackson County & Bridging Communities \n🗓 Date: Thursday\, July 10\, 2025⏰ Time: 7:00 PM📍 Location: Online via Zoom \nIn honor of Disability Pride Month 🧡♿\, join us for a community book club as we read Being Heumann — the inspiring memoir of Judith Heumann\, a powerful disability rights advocate who helped spark a global movement for inclusion and accessibility. \nTogether\, we’ll explore Judy’s journey to advocacy and the ongoing fight for the civil rights of people with disabilities. This book club is open to all and includes both virtual and in-person participation options. For this session\, we’ll be meeting virtually on Zoom 💻. \n🌐 Please Note:Being Heumann is currently only available in English. We recognize the importance of language access and hope to offer future book club selections in additional languages to better reflect and serve our diverse community 💬🌎. \n📬 Questions?Email us at info@bcoregon.org or call (458) 278-0697. \nLet’s read\, reflect\, and connect — together! ✨📖💬 \n\n📚 Club de lectura: Being Heumann\n👥 Organizado por The Arc Jackson County y Bridging Communities \n🗓 Fecha: Jueves\, 10 de Julio de 2025\n⏰ Hora: 7:00 p.m.\n📍 Lugar: En línea por Zoom \nEn honor al Mes del Orgullo por la Discapacidad 🧡♿\, únete a nuestro club de lectura comunitario y lee Being Heumann\, las inspiradoras memorias de Judith Heumann\, una influyente defensora de los derechos de las personas con discapacidad que impulsó un movimiento global por la inclusión y la accesibilidad. \nJuntos\, exploraremos la trayectoria de Judy en la defensa de los derechos civiles de las personas con discapacidad y su lucha continua por los derechos civiles. Este club de lectura está abierto a todos e incluye opciones de participación tanto virtuales como presenciales. Para esta sesión\, nos reuniremos virtualmente por Zoom 💻. \n🌐 Nota:\nBeing Heumann actualmente solo está disponible en Inglés. Reconocemos la importancia del acceso a idiomas y esperamos ofrecer futuras selecciones del club de lectura en otros idiomas para reflejar y servir mejor a nuestra diversa comunidad. 💬🌎. \n📬 ¿Preguntas?\nEnvíanos un correo electrónico a info@bcoregon.org o llama al (458) 278-0697. \n¡Leamos\, reflexionemos y conectemos juntos! ✨📖💬
URL:https://bcoregon.org/event/book-club-being-heumann-club-de-lectura-being-heumann-2/
LOCATION:OR
END:VEVENT
BEGIN:VEVENT
DTSTART;TZID=America/Los_Angeles:20250712T160000
DTEND;TZID=America/Los_Angeles:20250712T203000
DTSTAMP:20260423T092721
CREATED:20250603T030417Z
LAST-MODIFIED:20250603T030417Z
UID:10000050-1752336000-1752352200@bcoregon.org
SUMMARY:Children’s Festival / Festival de los Niños
DESCRIPTION:🎉 Children’s Festival – Soft Start Tickets Available! 🎟️ \nFamilies with children who would enjoy a calmer\, less busy entry to the Children’s Festival can now reserve Soft Start tickets! 🌈 \nSoft Start entry allows your household to arrive 30 minutes before general admission for a quieter experience. Entry is just $5 per household\, paid at the gate. Only one ticket needed per family—including caregivers of any kind. 💖 \n🗓️ Festival Dates & Times – Britt Festival Grounds\, Jacksonville\, ORSaturday\, July 12 – Soft Start: 4:00 PM | General: 4:30–8:30 PMSunday\, July 13 – Soft Start: 4:00 PM | General: 4:30–8:30 PMMonday\, July 14 – Soft Start: 9:00 AM | General: 9:30 AM–1:00 PM \n🎟️ Reserve your Soft Start ticket here: https://forms.gle/iY4F427P5CiErYZ18📩 Questions? Email: childrensfestivalaccommodations@gmail.com \nWe can’t wait to see you there! 🎨🧸 \n\n🎉 Festival de los Niños – ¡Boletos de comienzo suave disponibles! 🎟️ \nLas familias con niños que deseen una entrada más tranquila y con menos gente al Festival de los Niños ya pueden reservar sus boletos de comienzo suave. 🌈 \nBoletos de comienzo suave permite que los miembros de su hogar lleguen 30 minutos antes de la entrada general para una experiencia más tranquila. La entrada cuesta solo $5 por hogar y se paga en taquilla. Solo se necesita una entrada por familia\, incluyendo a los cuidadores. 💖 \n🗓️ Fechas y Horarios del Festival – Britt Festival Grounds\, Jacksonville\, OR\nSábado\, 12 de Julio – Entrada Suave: 4:00 PM | General: 4:30–8:30 PM\nDomingo\, 13 de Julio – Entrada Suave: 4:00 PM | General: 4:30–8:30 PM\nLunes\, 14 de Julio – Entrada Suave: 9:00 AM | General: 9:30 AM – 1:00 PM \n🎟️ Reserva tu entrada para la entrada suave aquí: https://forms.gle/iY4F427P5CiErYZ18\n📩 ¿Preguntas? Correo electrónico: childrensfestivalaccommodations@gmail.com \n¡Esperamos verte allí! 🎨🧸
URL:https://bcoregon.org/event/childrens-festival-festival-de-los-ninos/
LOCATION:Britt Gardens\, 350 S 1st Street\, Jacksonville\, OR\, 97530\, United States
END:VEVENT
BEGIN:VEVENT
DTSTART;TZID=America/Los_Angeles:20250713T160000
DTEND;TZID=America/Los_Angeles:20250713T203000
DTSTAMP:20260423T092721
CREATED:20250617T025205Z
LAST-MODIFIED:20250617T025205Z
UID:10000053-1752422400-1752438600@bcoregon.org
SUMMARY:Children’s Festival / Festival de los Niños
DESCRIPTION:🎉 Children’s Festival – Soft Start Tickets Available! 🎟️ \nFamilies with children who would enjoy a calmer\, less busy entry to the Children’s Festival can now reserve Soft Start tickets! 🌈 \nSoft Start entry allows your household to arrive 30 minutes before general admission for a quieter experience. Entry is just $5 per household\, paid at the gate. Only one ticket needed per family—including caregivers of any kind. 💖 \n🗓️ Festival Dates & Times – Britt Festival Grounds\, Jacksonville\, ORSaturday\, July 12 – Soft Start: 4:00 PM | General: 4:30–8:30 PMSunday\, July 13 – Soft Start: 4:00 PM | General: 4:30–8:30 PMMonday\, July 14 – Soft Start: 9:00 AM | General: 9:30 AM–1:00 PM \n🎟️ Reserve your Soft Start ticket here: https://forms.gle/iY4F427P5CiErYZ18📩 Questions? Email: childrensfestivalaccommodations@gmail.com \nWe can’t wait to see you there! 🎨🧸 \n\n🎉 Festival de los Niños – ¡Boletos de comienzo suave disponibles! 🎟️ \nLas familias con niños que deseen una entrada más tranquila y con menos gente al Festival de los Niños ya pueden reservar sus boletos de comienzo suave. 🌈 \nBoletos de comienzo suave permite que los miembros de su hogar lleguen 30 minutos antes de la entrada general para una experiencia más tranquila. La entrada cuesta solo $5 por hogar y se paga en taquilla. Solo se necesita una entrada por familia\, incluyendo a los cuidadores. 💖 \n🗓️ Fechas y Horarios del Festival – Britt Festival Grounds\, Jacksonville\, OR\nSábado\, 12 de Julio – Entrada Suave: 4:00 PM | General: 4:30–8:30 PM\nDomingo\, 13 de Julio – Entrada Suave: 4:00 PM | General: 4:30–8:30 PM\nLunes\, 14 de Julio – Entrada Suave: 9:00 AM | General: 9:30 AM – 1:00 PM \n🎟️ Reserva tu entrada para la entrada suave aquí: https://forms.gle/iY4F427P5CiErYZ18\n📩 ¿Preguntas? Correo electrónico: childrensfestivalaccommodations@gmail.com \n¡Esperamos verte allí! 🎨🧸
URL:https://bcoregon.org/event/childrens-festival-festival-de-los-ninos-2/
LOCATION:Britt Gardens\, 350 S 1st Street\, Jacksonville\, OR\, 97530\, United States
END:VEVENT
BEGIN:VEVENT
DTSTART;TZID=America/Los_Angeles:20250714T090000
DTEND;TZID=America/Los_Angeles:20250714T130000
DTSTAMP:20260423T092721
CREATED:20250617T025310Z
LAST-MODIFIED:20250617T025310Z
UID:10000054-1752483600-1752498000@bcoregon.org
SUMMARY:Children’s Festival / Festival de los Niños
DESCRIPTION:🎉 Children’s Festival – Soft Start Tickets Available! 🎟️ \nFamilies with children who would enjoy a calmer\, less busy entry to the Children’s Festival can now reserve Soft Start tickets! 🌈 \nSoft Start entry allows your household to arrive 30 minutes before general admission for a quieter experience. Entry is just $5 per household\, paid at the gate. Only one ticket needed per family—including caregivers of any kind. 💖 \n🗓️ Festival Dates & Times – Britt Festival Grounds\, Jacksonville\, ORSaturday\, July 12 – Soft Start: 4:00 PM | General: 4:30–8:30 PMSunday\, July 13 – Soft Start: 4:00 PM | General: 4:30–8:30 PMMonday\, July 14 – Soft Start: 9:00 AM | General: 9:30 AM–1:00 PM \n🎟️ Reserve your Soft Start ticket here: https://forms.gle/iY4F427P5CiErYZ18📩 Questions? Email: childrensfestivalaccommodations@gmail.com \nWe can’t wait to see you there! 🎨🧸 \n\n🎉 Festival de los Niños – ¡Boletos de comienzo suave disponibles! 🎟️ \nLas familias con niños que deseen una entrada más tranquila y con menos gente al Festival de los Niños ya pueden reservar sus boletos de comienzo suave. 🌈 \nBoletos de comienzo suave permite que los miembros de su hogar lleguen 30 minutos antes de la entrada general para una experiencia más tranquila. La entrada cuesta solo $5 por hogar y se paga en taquilla. Solo se necesita una entrada por familia\, incluyendo a los cuidadores. 💖 \n🗓️ Fechas y Horarios del Festival – Britt Festival Grounds\, Jacksonville\, OR\nSábado\, 12 de Julio – Entrada Suave: 4:00 PM | General: 4:30–8:30 PM\nDomingo\, 13 de Julio – Entrada Suave: 4:00 PM | General: 4:30–8:30 PM\nLunes\, 14 de Julio – Entrada Suave: 9:00 AM | General: 9:30 AM – 1:00 PM \n🎟️ Reserva tu entrada para la entrada suave aquí: https://forms.gle/iY4F427P5CiErYZ18\n📩 ¿Preguntas? Correo electrónico: childrensfestivalaccommodations@gmail.com \n¡Esperamos verte allí! 🎨🧸
URL:https://bcoregon.org/event/childrens-festival-festival-de-los-ninos-3/
LOCATION:Britt Gardens\, 350 S 1st Street\, Jacksonville\, OR\, 97530\, United States
END:VEVENT
BEGIN:VEVENT
DTSTART;TZID=America/Los_Angeles:20250716T100000
DTEND;TZID=America/Los_Angeles:20250716T120000
DTSTAMP:20260423T092721
CREATED:20250617T030647Z
LAST-MODIFIED:20250617T030647Z
UID:10000056-1752660000-1752667200@bcoregon.org
SUMMARY:Cafecito Con Charla
DESCRIPTION:🌻 Cafecito Con Charla🌻 \n¡Únase a nosotros en Cafecito Con Charla\, nuestro cálido y acogedor grupo de apoyo para familias con niños con discapacidades! 💛 \n✨ Qué esperar:\n✅ Compartir recursos y conectarse con otras familias\n✅ Aprender información valiosa de nuestra comunidad\n✅ Sentirse apoyado: ¡no está solo! \n📅 Cuándo: 3rd Miércoles de cada mes de 10:00 am a 12:00 pm\n📍 Dónde: En persona y en Zoom.\n🔗 ID de reunión de Zoom: 881 2695 7990\n🔑 Código de acceso: cafecito \n¡Este evento se llevará a cabo en Español y estamos ansiosos por conectarnos con usted! 💬 \n💕 Estamos aquí para usted: ¡únase a nosotros y traiga sus preguntas\, historias y una taza de café caliente! ☕️ \n// \nJoin us for Cafecito Con Charla\, our warm and welcoming support group for families with children experiencing disabilities! 💛 \n✨ What to Expect:✅ Share resources and connect with other families✅ Learn valuable information from our community✅ Feel supported—you are not alone! \n📅 When: 3rd Wednesday of every month from 10:00am to 12:00pm📍 Where: In person & on Zoom!🔗 Zoom Meeting ID: 881 2695 7990🔑 Passcode: cafecito \nThis event will be held in Spanish\, and we can’t wait to connect with you! 💬 \n💕 We are here for you—join us and bring your questions\, stories\, and a warm cup of coffee! ☕️
URL:https://bcoregon.org/event/cafecito-con-charla-5/
LOCATION:United Way of Jackson County\, 60 Hawthorne St\, Medford\, OR\, 97504
END:VEVENT
BEGIN:VEVENT
DTSTART;TZID=America/Los_Angeles:20250717T173000
DTEND;TZID=America/Los_Angeles:20250717T190000
DTSTAMP:20260423T092721
CREATED:20250617T031101Z
LAST-MODIFIED:20250617T031101Z
UID:10000058-1752773400-1752778800@bcoregon.org
SUMMARY:All Abilities Gaming Socials / Juegos sociales para todas las habilidades
DESCRIPTION:Looking for a fun and inclusive way for your child to connect with others? Our All Abilities Gaming Social is the perfect opportunity! \n✨ Open to all skill levels\, this welcoming meetup helps kids build social skills\, make new friends\, and enjoy a variety of games—including video games\, board games\, and more—provided by the Oregon Autism Society and Bridging Communities. Or bring your own favorite game to share! \n📅 Who can join?\n🎮 Designed for ages 8-14\, but the whole family is welcome! \n🍽 Light dinner will be provided\n💰 FREE to attend\, but registration is required! \n📌 Sign up here: https://ashlandoregon.gov/371/Register-for-a-Program \nCome play\, connect\, and have fun in a supportive and inclusive space! We can’t wait to see you there! 🎉 \n// \n¿Buscas una forma divertida e inclusiva para que tu hijo se conecte con los demás? ¡Nuestro Sociales de juegos para todas las habilidades es la oportunidad perfecta! \n✨ Abierto a todos los niveles de habilidad\, este acogedor encuentro ayuda a los niños a desarrollar habilidades sociales\, hacer nuevos amigos y disfrutar de una variedad de juegos\, incluidos video juegos\, juegos de mesa y más\, proporcionados por la Sociedad de Autismo de Oregón y Bridging Communities. ¡O trae tu propio juego favorito para compartir! \n📅 ¿Quién puede participar?\n🎮 Diseñado para edades de 8 a 14 años\, ¡pero toda la familia es bienvenida! \n🍽 Se proporcionará una cena ligera\n💰 ¡La asistencia es GRATUITA\, pero se requiere inscripción! \n📌 Regístrate aquí: https://ashlandoregon.gov/371/Register-for-a-Program \n¡Ven a jugar\, conectarte y divertirte en un espacio solidario e inclusivo! ¡Estamos ansiosos por verte allí! 🎉
URL:https://bcoregon.org/event/all-abilities-gaming-socials-juegos-sociales-para-todas-las-habilidades-3/
LOCATION:Ashland Senior Center\, 1699 Homes Ave\, Ashland\, OR\, 97520\, United States
END:VEVENT
BEGIN:VEVENT
DTSTART;TZID=America/Los_Angeles:20250717T180000
DTEND;TZID=America/Los_Angeles:20250717T200000
DTSTAMP:20260423T092721
CREATED:20250703T214047Z
LAST-MODIFIED:20250703T214047Z
UID:10000065-1752775200-1752782400@bcoregon.org
SUMMARY:Ashland Learning Differences Parent Support Group / Ashland Diferencias de Aprendizaje - Grupo de apoyo para padres
DESCRIPTION:🌟 Ashland Learning Differences Parent Support Group 🌟 \nAre you a parent seeking support and understanding? You’re not alone! \nJoin us every third Thursday from 6:00 – 8:00 pm at the Ashland Public Library for our Parent Support Group. Connect with other parents\, share your experiences\, and find a safe\, welcoming space to navigate the journey of raising neurodiverse children. \n💬 Open Discussions🤝 Supportive Connections🏠 Safe & Welcoming Environment \n✨ Spanish support available upon request! \nLearn more from our parent leader\, Kelly\, at 👉 kellyawdale.wixsite.com/ashlandldsg \n📅 Mark your calendar and join us! We can’t wait to meet you! \n// \n🌟 Ashland Diferencias de Aprendizaje – Grupo de apoyo para padres🌟 \n¿Es usted un padre que busca apoyo y comprensión? ¡No está solo! \nÚnase a nosotros cada tercer Jueves de 6:00 a 8:00 p.m. en la biblioteca pública de Ashland para nuestro grupo de apoyo para padres. Conéctese con otros padres\, comparta sus experiencias y encuentre un espacio seguro y acogedor para recorrer el camino de criar niños con neurodiversidad. \n💬 Discusiones abiertas\n🤝 Conexiones de apoyo\n🏠 Entorno seguro y acogedor \n✨ ¡Asistencia en español disponible a pedido! \nObtenga más información de nuestra líder de padres\, Kelly\, en 👉 kellyawdale.wixsite.com/ashlandldsg \n📅 ¡Marque su calendario y únase a nosotros! ¡Estamos ansiosos por conocerlo!
URL:https://bcoregon.org/event/ashland-learning-differences-parent-support-group-ashland-diferencias-de-aprendizaje-grupo-de-apoyo-para-padres-5/
LOCATION:Ashland Library\, 410 Siskiyou Blvd\, Ashland\, OR\, 97520\, United States
END:VEVENT
BEGIN:VEVENT
DTSTART;TZID=America/Los_Angeles:20250719T100000
DTEND;TZID=America/Los_Angeles:20250719T110000
DTSTAMP:20260423T092721
CREATED:20250529T180243Z
LAST-MODIFIED:20250529T180243Z
UID:10000048-1752919200-1752922800@bcoregon.org
SUMMARY:Dad’s Coffee Meetup / Meetup de Café para padres
DESCRIPTION:☕ Dads Support Group – Coffee & Connection \n📅 Saturday\, July 19 | 10–11 AM\n📍 Main Street Coffee – Eagle Point \nAre you a dad or father figure raising a child with a disability? You’re not alone. \nJoin us for coffee\, connection\, and real conversation with other dads who get it. No pressure. Just community. \nThis support group is hosted by Bridging Communities and led by a fellow dad who’s walking a similar path. \nWhether you’re new to this journey or have years of experience\, we welcome you to come as you are. \nQuestions?📞 (458) 278-0697📧 info@bcoregon.org \nLet’s build something good—together.\n——————————————————————————– \n☕ Grupo de Apoyo para Papás ​​– Café y Conexión \n📅 Sábado\, 19 de Julio | 10–11 AM\n📍 Café en la Main Street – Eagle Point \n¿Eres papá o figura paterna y crías a un hijo con discapacidad? No estás solo. \nÚnete a nosotros para tomar un café\, conectar y conversar con otros papás que lo entienden. Sin presión. Solo comunidad. \nEste grupo de apoyo es organizado por Bridging Communities y dirigido por un papá que comparte tu experiencia. \nTanto si eres nuevo en este camino como si tienes años de experiencia\, te invitamos a unirte tal como eres. \n¿Preguntas? 📞 (458) 278-0697 📧 info@bcoregon.org \nConstruyamos algo bueno\, juntos.
URL:https://bcoregon.org/event/dads-coffee-meetup-meetup-de-cafe-para-padres/
LOCATION:Main Street Coffee House\, 115 W Main St\, Eagle Point\, OR\, 97524\, United States
END:VEVENT
BEGIN:VEVENT
DTSTART;TZID=America/Los_Angeles:20250723T103000
DTEND;TZID=America/Los_Angeles:20250723T113000
DTSTAMP:20260423T092721
CREATED:20250617T030850Z
LAST-MODIFIED:20250617T030850Z
UID:10000057-1753266600-1753270200@bcoregon.org
SUMMARY:Building Futures Playgroup / Construyendo Futuros Grupo de Juego
DESCRIPTION:  \n🌟 Introducing Building Futures Playgroup! 🌟 \nJoin us every 4th Wednesday from 10:30 to 11:30 AM for a special playgroup where children of all abilities (ages 0-5) and their families can enjoy a welcoming space filled with play\, growth\, connection\, and belonging. 🧸💫 \nThis inclusive gathering is brought to you in partnership with Autism Society of Oregon\, The Family Nurturing Center of Southern Oregon\, and Bridging Communities. Together\, we’re creating a fun\, supportive environment where all families are welcome. 💕 \n🗓 When: 4th Wednesday of each month\n⏰ Time: 10:30 – 11:30 AM\n📍 Where: Family Nurturing Center 825 E. Main Street\, Suite A.\, Medford\, OR 97504 \nCome connect\, play\, and build a brighter future—one moment at a time! We can’t wait to meet you. 😊 # \n// \n🌟 ¡Presentamos el Construyendo Futuros Grupo de Juego! 🌟 \nÚnase a nosotros cada cuarto Miércoles de 10:30 a 11:30 a.m. para un grupo de juego especial donde los niños de todas las capacidades (de 0 a 5 años) y sus familias pueden disfrutar de un espacio acogedor lleno de juego\, crecimiento\, conexión y pertenencia. \n🧸💫 Esta reunión inclusiva se ofrece en asociación con Autism Society of Oregon\, The Family Nurturing Center of Southern Oregon y Bridging Communities. Juntos\, estamos creando un entorno divertido y solidario donde todas las familias son bienvenidas. 💕 \n🗓 Cuándo: 4th Miércoles de cada mes\n⏰ Hora: 10:30 a.m. a 11:30 a.m.\n📍 Dónde: Family Nurturing Center 825 E. Main Street\, Suite A.\, Medford\, OR 97504 \n¡Ven a conectarte\, jugar y construir un futuro más brillante\, un momento a la vez! Estamos ansiosos por conocerte. 😊
URL:https://bcoregon.org/event/building-futures-playgroup-construyendo-futuros-grupo-de-juego-5/
LOCATION:The Family Nurturing Center\, 825 E. Main Street\, Suite A.\, Medford\, OR\, 97504\, United States
END:VEVENT
BEGIN:VEVENT
DTSTART;TZID=America/Los_Angeles:20250724T190000
DTEND;TZID=America/Los_Angeles:20250724T200000
DTSTAMP:20260423T092721
CREATED:20250617T032133Z
LAST-MODIFIED:20250617T032133Z
UID:10000061-1753383600-1753387200@bcoregon.org
SUMMARY:Book Club: Being Heumann / Club de lectura: Being Heumann
DESCRIPTION:📚 Book Club: Being Heumann👥 Hosted by The Arc Jackson County & Bridging Communities \n🗓 Date: Thursday\, July 24\, 2025⏰ Time: 7:00 PM📍 Location: In Person TBD \nIn honor of Disability Pride Month 🧡♿\, join us for a community book club as we read Being Heumann — the inspiring memoir of Judith Heumann\, a powerful disability rights advocate who helped spark a global movement for inclusion and accessibility. \nTogether\, we’ll explore Judy’s journey to advocacy and the ongoing fight for the civil rights of people with disabilities. This book club is open to all and includes both virtual and in-person participation options. For this session\, we’ll be meeting virtually on Zoom 💻. \n🌐 Please Note:Being Heumann is currently only available in English. We recognize the importance of language access and hope to offer future book club selections in additional languages to better reflect and serve our diverse community 💬🌎. \n📬 Questions?Email us at info@bcoregon.org or call (458) 278-0697. \nLet’s read\, reflect\, and connect — together! ✨📖💬 \n\n📚 Club de lectura: Being Heumann\n👥 Organizado por The Arc Jackson County y Bridging Communities \n🗓 Fecha: Jueves\, 24 de Julio de 2025\n⏰ Hora: 7:00 p.m.\n📍 Lugar: En persona por determinar \nEn honor al Mes del Orgullo por la Discapacidad 🧡♿\, únete a nuestro club de lectura comunitario y lee Being Heumann\, las inspiradoras memorias de Judith Heumann\, una influyente defensora de los derechos de las personas con discapacidad que impulsó un movimiento global por la inclusión y la accesibilidad. \nJuntos\, exploraremos la trayectoria de Judy en la defensa de los derechos civiles de las personas con discapacidad y su lucha continua por los derechos civiles. Este club de lectura está abierto a todos e incluye opciones de participación tanto virtuales como presenciales. Para esta sesión\, nos reuniremos virtualmente por Zoom 💻. \n🌐 Nota:\nBeing Heumann actualmente solo está disponible en Inglés. Reconocemos la importancia del acceso a idiomas y esperamos ofrecer futuras selecciones del club de lectura en otros idiomas para reflejar y servir mejor a nuestra diversa comunidad. 💬🌎. \n📬 ¿Preguntas?\nEnvíanos un correo electrónico a info@bcoregon.org o llama al (458) 278-0697. \n¡Leamos\, reflexionemos y conectemos juntos! ✨📖💬
URL:https://bcoregon.org/event/book-club-being-heumann-club-de-lectura-being-heumann-4/
LOCATION:OR
END:VEVENT
BEGIN:VEVENT
DTSTART;TZID=America/Los_Angeles:20250729T180000
DTEND;TZID=America/Los_Angeles:20250729T200000
DTSTAMP:20260423T092721
CREATED:20250702T184532Z
LAST-MODIFIED:20250702T184532Z
UID:10000062-1753812000-1753819200@bcoregon.org
SUMMARY:La inclusión es para todos  /  Inclusion is for Everyone in Spanish
DESCRIPTION:🌟La inclusión es para todos | Inclusion is for Everyone \n🎤 Acompañe a María\, una madre dedicada y defensora de derechos\, mientras comparte su experiencia personal criando a una hija con síndrome de Down y trabajando para crear espacios inclusivos para todos los niños — especialmente aquellos con discapacidades. \n📖 A través de la narración de historias\, la reflexión y la experiencia vivida\, María explorará qué significa la verdadera inclusión\, por qué es importante y cómo todos podemos participar. \n🗓️ Cuándo: Martes 29 de julio de 2025🕕 Hora: 6:00 – 8:00 PM💻 Dónde: Zoom (el enlace se enviará por correo electrónico antes del evento)🗣️ Esta sesión es solamente en Español👩‍🏫 Presentadora: Maria Rangel\, Madre y Defensora \n📝 Regístrese aquí: https://forms.gle/WdSQEQG6Ce8rBugd8📩 Para más información\, comuníquese con Bridging Communities: info@bcoregon.org\, (458) 278-0697 \n\n🎤 Join Maria\, a dedicated mother and advocate\, as she shares her personal journey raising a daughter with Down syndrome and working to create inclusive spaces for all children — especially those with disabilities. \n📖 Through storytelling\, reflection\, and lived experience\, Maria will explore what true inclusion means\, why it matters\, and how we can all play a part. Please note that this session will be conducted entirely in Spanish. \n🗓️ When: Tuesday\, July 29\, 2025🕕 Time: 6:00 – 8:00 PM💻 Where: Zoom (link will be sent via email prior to the event)🗣️ This session will be conducted in Spanish👩‍🏫 Presenter: Maria Rangel\, Mother and Advocate \n📝 Register here: https://forms.gle/WdSQEQG6Ce8rBugd8📩 For more information\, contact Bridging Communities: info@bcoregon.org\, (458) 278-0697
URL:https://bcoregon.org/event/la-inclusion-es-para-todos-inclusion-is-for-everyone-in-spanish/
LOCATION:OR
END:VEVENT
END:VCALENDAR