BEGIN:VCALENDAR
VERSION:2.0
PRODID:-//Bridging Communities - ECPv6.15.20//NONSGML v1.0//EN
CALSCALE:GREGORIAN
METHOD:PUBLISH
X-WR-CALNAME:Bridging Communities
X-ORIGINAL-URL:https://bcoregon.org
X-WR-CALDESC:Events for Bridging Communities
REFRESH-INTERVAL;VALUE=DURATION:PT1H
X-Robots-Tag:noindex
X-PUBLISHED-TTL:PT1H
BEGIN:VTIMEZONE
TZID:America/Los_Angeles
BEGIN:DAYLIGHT
TZOFFSETFROM:-0800
TZOFFSETTO:-0700
TZNAME:PDT
DTSTART:20240310T100000
END:DAYLIGHT
BEGIN:STANDARD
TZOFFSETFROM:-0700
TZOFFSETTO:-0800
TZNAME:PST
DTSTART:20241103T090000
END:STANDARD
BEGIN:DAYLIGHT
TZOFFSETFROM:-0800
TZOFFSETTO:-0700
TZNAME:PDT
DTSTART:20250309T100000
END:DAYLIGHT
BEGIN:STANDARD
TZOFFSETFROM:-0700
TZOFFSETTO:-0800
TZNAME:PST
DTSTART:20251102T090000
END:STANDARD
BEGIN:DAYLIGHT
TZOFFSETFROM:-0800
TZOFFSETTO:-0700
TZNAME:PDT
DTSTART:20260308T100000
END:DAYLIGHT
BEGIN:STANDARD
TZOFFSETFROM:-0700
TZOFFSETTO:-0800
TZNAME:PST
DTSTART:20261101T090000
END:STANDARD
END:VTIMEZONE
BEGIN:VEVENT
DTSTART;TZID=America/Los_Angeles:20250604T180000
DTEND;TZID=America/Los_Angeles:20250604T200000
DTSTAMP:20260423T140841
CREATED:20250529T174840Z
LAST-MODIFIED:20250530T030535Z
UID:10000047-1749060000-1749067200@bcoregon.org
SUMMARY:Pickleball with Pops/Con Papás
DESCRIPTION:🎾 Join us for an evening of connection\, laughter\, and friendly competition! Pickleball with Pops is a special event just for dads and male caregivers raising children with disabilities. \n🗓 Wednesday\, June 4\, 2025🕕 6:00 – 8:00 PM📍 Fichtner-Mainwaring Park\, 334 Holmes Ave\, Medford\, OR 97501 \nNo experience? No problem! A mini lesson is included and all skill levels are welcome. \nCome play\, meet other dads\, and enjoy a relaxed evening together.✅ Free to attend✅ All equipment provided✅ Register now by scanning the QR code or clicking the link below! \nhttps://docs.google.com/forms/d/e/1FAIpQLSfmkQwzFePfiCBY9b_4wUILcy8FmHeloDsNWEtkVtaSjNggIg/viewform \nLet’s serve up support and build community—one pickleball game at a time! \n\nQuestions? info@bcoregon.org or (458) 278-0697\n—————-\n\n🎾 ¡Únete a nosotros para una noche de conexión\, risas y competencia amistosa! Pickleball con Papás ​​es un evento especial para padres y cuidadores varones que crían niños con discapacidades. \n\n Miércoles\, 4 de Junio 6:00 – 8:00 PM Parque Fichtner-Mainwaring\, 334 Holmes Ave\, Medford\, OR 97501\n\n¿Sin experiencia? ¡No hay problema! Incluye una mini lección y todos los niveles son bienvenidos. \nVen a jugar\, conoce a otros padres y disfruta de una noche relajada juntos. \n✅ Entrada gratuita\n✅ Se proporciona todo el equipo\n✅ ¡Regístrate ahora escaneando el código QR o haciendo clic en el enlace de abajo! \nhttps://docs.google.com/forms/d/e/1FAIpQLSfmkQwzFePfiCBY9b_4wUILcy8FmHeloDsNWEtkVtaSjNggIg/viewform \n¡Brindemos apoyo y forjemos una comunidad\, un partido de pickleball a la vez! \n\n¿Preguntas? info@bcoregon.org o (458) 278-0697
URL:https://bcoregon.org/event/pickleball-with-pops-con-papas/
LOCATION:Fichtner-Mainwaring Park\, 334 Holmes Ave\, Medford\, OR\, 97501\, United States
END:VEVENT
BEGIN:VEVENT
DTSTART;TZID=America/Los_Angeles:20250605T090000
DTEND;TZID=America/Los_Angeles:20250605T110000
DTSTAMP:20260423T140841
CREATED:20250327T190928Z
LAST-MODIFIED:20250327T190928Z
UID:10000020-1749114000-1749121200@bcoregon.org
SUMMARY:Parent Coffee / Café para padres
DESCRIPTION:☕️ Parent Coffee: Connect & Recharge! ☕️ \nNeed a break? Want to chat with other parents who share similar experiences? Looking for support and resources? Join us at Parent Coffee! \n🗓 When: 1st Thursday of every month\, 9am – 11am📍Where: Black Rock Coffee Bar\, Medford\, OR \nCome as you are! Whether you need a listening ear\, advice\, or just a warm cup of coffee\, we’re here for you. Let’s build community\, share experiences\, and support each other. ❤️ \n// \n☕️ Café para padres: ¡Conéctate y recarga energías! ☕️ \n¿Necesitas un descanso? ​​¿Quieres conversar con otros padres que comparten experiencias similares? ¿Buscas apoyo y recursos? ¡Únete a nosotros en el Café para padres! \n🗓 Cuándo: el primer jueves de cada mes\, de 9:00 a.m. a 11:00 a.m.\n📍Dónde: Black Rock Coffee Bar\, Medford\, OR \n¡Ven tal como eres! Ya sea que necesites que te escuchen\, un consejo o simplemente una taza de café caliente\, estamos aquí para ti. Construyamos una comunidad\, compartamos experiencias y apoyémonos mutuamente. ❤️
URL:https://bcoregon.org/event/parent-coffee-cafe-para-padres-4/
LOCATION:Black Rock Coffee Bar\, 151 Rossanley Dr. #101\, Medford\, OR\, 97501\, United States
END:VEVENT
BEGIN:VEVENT
DTSTART;TZID=America/Los_Angeles:20250605T180000
DTEND;TZID=America/Los_Angeles:20250605T193000
DTSTAMP:20260423T140841
CREATED:20250527T211833Z
LAST-MODIFIED:20250527T211833Z
UID:10000046-1749146400-1749151800@bcoregon.org
SUMMARY:Abogacía de la Atención Médica Y Más que una carta: Perfil de una Página para los Espacios Médicos  /  Healthcare Advocacy & More than a Chart: One Page Profiles for the Medical Setting in Spanish
DESCRIPTION: Capacitación gratuita en Español: Defensa de la salud y más que un cuadro: Perfiles de una página para el ámbito médico\nÚnase a Familias en Conexión\, The Arc Lane County\, OHSU y Bridging Communities para una capacitación gratuita y familiar\, diseñada para ayudarle a sentirse más seguro al abordar la atención médica de su hijo.\n\nEn esta sesión\, aprenderá: Cómo comunicarse con los proveedores y defender las necesidades de su hijo/a Cómo navegar por los sistemas de salud que utiliza su hijo/a Una herramienta útil: Perfiles de una página para entornos médicos: una forma positiva y respetuosa de presentar a su hijo/a y compartir información importante sobre su salud\n\n Cuándo: Jueves\, 5 de Junio de 2025 Hora: 6:00 – 7:30 p.m. Dónde: En Zoom (el enlace se enviará por correo electrónico antes del evento) Presentadora: Ana Brooks\, Centro de Información de Salud Familiar de Oregón\n Regístrate aquí: https://forms.gle/fDjHaz664duYH26Z9\n\nEsta sesión se presentará en Español.\n\n¿Preguntas? Contáctenos en info@bcoregon.org o al (458) 278-0697.\n\n¡Esperamos su participación! \n//\n Free Training in Spanish: Healthcare Advocacy & More Than a Chart – One Page Profiles for the Medical Setting\nJoin Familias en Conexión\, The Arc Lane County\, OHSU\, and Bridging Communities for a free\, family-friendly training designed to help you feel more confident navigating your child’s healthcare journey.\n\n In this session\, you’ll learn: How to communicate with providers and advocate for your child’s needs How to navigate the healthcare systems your child uses A helpful tool: One Page Profiles for medical settings – a positive and respectful way to introduce your child and share important healthcare information\n\n When: Thursday\, June 5\, 2025 Time: 6:00 PM – 7:30 PM Where: On Zoom (link will be sent by email before the event) Presenter: Ana Brooks\, Oregon Family to Family Health Information Center\n Register here: https://forms.gle/fDjHaz664duYH26Z9\n\nThis session will be presented in Spanish.\n\n Questions? Contact us at info@bcoregon.org or (458) 278-0697.\n\nWe hope you’ll join us! 
URL:https://bcoregon.org/event/abogacia-de-la-atencion-medica-y-mas-que-una-carta-perfil-de-una-pagina-para-los-espacios-medicos-healthcare-advocacy-more-than-a-chart-one-page-profiles-for-the-medical-setting-in-spanish/
LOCATION:OR
END:VEVENT
BEGIN:VEVENT
DTSTART;TZID=America/Los_Angeles:20250611T180000
DTEND;TZID=America/Los_Angeles:20250611T200000
DTSTAMP:20260423T140841
CREATED:20250327T193056Z
LAST-MODIFIED:20250327T193056Z
UID:10000025-1749664800-1749672000@bcoregon.org
SUMMARY:Charla Entre Padres en Línea en Español
DESCRIPTION:🌟 Charla Entre Padres en Línea en Español 🌟 \n¿Tu hijo o hija tiene alguna discapacidad?¿Quieres conectarte con otros padres con experiencias similares?¿Buscas apoyo y recursos? \n¡Estamos aquí para ti! Únete a nuestro grupo de apoyo Charla Entre Padres y comparte un espacio seguro y acogedor con otras familias. Juntos podemos aprender\, apoyarnos y construir comunidad. 💛 \n🗓 Segundo Miércoles de Cada Mes⏰ 6:00 – 8:00 pm💻 Zoom:📲 ID de la Reunión: 870 3207 9282🔐 Código: comunidad \n¿Preguntas?📞 Español o Inglés: (458) 278-0697 \n✉️ info@bcoregon.org \n¡Te esperamos con los brazos abiertos! 🤗 \n// \n🌟 Online Parent Chat in Spanish 🌟 \nDoes your child have a disability?\nDo you want to connect with other parents with similar experiences?\nAre you looking for support and resources? \nWe are here for you! Join our Parent Chat support group and share a safe and welcoming space with other families. Together we can learn\, support each other\, and build community. 💛 \n🗓 Second Wednesday of Every Month\n⏰ 6:00 – 8:00 pm\n💻 Zoom:\n📲 Meeting ID: 870 3207 9282\n🔐 Code: comunidad \nQuestions?\n📞 Spanish or English: (458) 278-0697 \n✉️ info@bcoregon.org \nWe are waiting for you with open arms! 🤗
URL:https://bcoregon.org/event/charla-entre-padres-en-linea-en-espanol-3/
LOCATION:OR
CATEGORIES:Support Groups
END:VEVENT
BEGIN:VEVENT
DTSTART;TZID=America/Los_Angeles:20250613T173000
DTEND;TZID=America/Los_Angeles:20250613T193000
DTSTAMP:20260423T140841
CREATED:20250515T194911Z
LAST-MODIFIED:20250515T194911Z
UID:10000045-1749835800-1749843000@bcoregon.org
SUMMARY:All In! Adapted Swimming Event / ¡Todo incluido! Evento de natación adaptada
DESCRIPTION:Join us for a fun-filled evening of swimming\, music\, and connection – made for people of all abilities! This is a FREE event\, and we’d love to see you there. \n\n Date: Friday\, June 13\, 2025 Time: 5:30 PM – 7:30 PM Location: Daniel Meyer Memorial Pool1705 Homes Avenue\, Ashland\, OR 97520\n\n What to expect: Live DJ Frozen treats Facilitated fun and games with pool staff\n\nPre-registration is requested to help us plan for a safe and inclusive experience. Register here: https://or-ashland.civicplus.com/…/Register-for-an…\n\nBring your swimsuit\, smiles\, and come enjoy a night of community fun! \n\nHosted by Ashland Parks & Rec\, Autism Society of Oregon\, and Bridging Communities.\n\nQuestions? Contact us at info@bcoregon.org.\n————————–\nAcompáñanos a una noche llena de diversión\, natación\, música y conexión\, ¡ideal para personas de todas las capacidades! Este evento es GRATUITO y nos encantaría verte allí. \n\n Fecha: Viernes\, 13 de Junio de 2025 Hora: 5:30 a 7:30 p.m. Ubicación: Piscina Daniel Meyer1705 Homes Avenue\, Ashland\, OR 97520\n\n Qué esperar: DJ en vivo Postres helados Diversión y juegos con el personal de la piscina\n\nSe requiere preinscripción para ayudarnos a planificar una experiencia segura e inclusiva.\n Regístrate aquí: https://or-ashland.civicplus.com/…/Register-for-an…\n\n¡Trae tu traje de baño\, sonrisas y ven a disfrutar de una noche de diversión en comunidad! \n\nOrganizado por Parques y Recreación de Ashland\, la Sociedad de Autismo de Oregón y Bridging Communities.\n\n¿Preguntas? Contáctanos en info@bcoregon.org
URL:https://bcoregon.org/event/all-in-adapted-swimming-event-todo-incluido-evento-de-natacion-adaptada/
LOCATION:OR
END:VEVENT
BEGIN:VEVENT
DTSTART;TZID=America/Los_Angeles:20250618T100000
DTEND;TZID=America/Los_Angeles:20250618T120000
DTSTAMP:20260423T140841
CREATED:20250327T192413Z
LAST-MODIFIED:20250327T192413Z
UID:10000023-1750240800-1750248000@bcoregon.org
SUMMARY:Cafecito Con Charla
DESCRIPTION:🌻 Cafecito Con Charla🌻 \n¡Únase a nosotros en Cafecito Con Charla\, nuestro cálido y acogedor grupo de apoyo para familias con niños con discapacidades! 💛 \n✨ Qué esperar:\n✅ Compartir recursos y conectarse con otras familias\n✅ Aprender información valiosa de nuestra comunidad\n✅ Sentirse apoyado: ¡no está solo! \n📅 Cuándo: 3rd Miércoles de cada mes de 10:00 am a 12:00 pm\n📍 Dónde: En persona y en Zoom.\n🔗 ID de reunión de Zoom: 881 2695 7990\n🔑 Código de acceso: cafecito \n¡Este evento se llevará a cabo en Español y estamos ansiosos por conectarnos con usted! 💬 \n💕 Estamos aquí para usted: ¡únase a nosotros y traiga sus preguntas\, historias y una taza de café caliente! ☕️ \n// \nJoin us for Cafecito Con Charla\, our warm and welcoming support group for families with children experiencing disabilities! 💛 \n✨ What to Expect:✅ Share resources and connect with other families✅ Learn valuable information from our community✅ Feel supported—you are not alone! \n📅 When: 3rd Wednesday of every month from 10:00am to 12:00pm📍 Where: In person & on Zoom!🔗 Zoom Meeting ID: 881 2695 7990🔑 Passcode: cafecito \nThis event will be held in Spanish\, and we can’t wait to connect with you! 💬 \n💕 We are here for you—join us and bring your questions\, stories\, and a warm cup of coffee! ☕️
URL:https://bcoregon.org/event/cafecito-con-charla-4/
LOCATION:OR
CATEGORIES:Support Groups
END:VEVENT
BEGIN:VEVENT
DTSTART;TZID=America/Los_Angeles:20250619T173000
DTEND;TZID=America/Los_Angeles:20250619T190000
DTSTAMP:20260423T140841
CREATED:20250530T042157Z
LAST-MODIFIED:20250530T042157Z
UID:10000049-1750354200-1750359600@bcoregon.org
SUMMARY:All Abilities Gaming Socials / Juegos sociales para todas las habilidades
DESCRIPTION:Looking for a fun and inclusive way for your child to connect with others? Our All Abilities Gaming Social is the perfect opportunity! \n✨ Open to all skill levels\, this welcoming meetup helps kids build social skills\, make new friends\, and enjoy a variety of games—including video games\, board games\, and more—provided by the Oregon Autism Society and Bridging Communities. Or bring your own favorite game to share! \n📅 Who can join?\n🎮 Designed for ages 8-14\, but the whole family is welcome! \n🍽 Light dinner will be provided\n💰 FREE to attend\, but registration is required! \n📌 Sign up here: https://ashlandoregon.gov/371/Register-for-a-Program \nCome play\, connect\, and have fun in a supportive and inclusive space! We can’t wait to see you there! 🎉 \n// \n¿Buscas una forma divertida e inclusiva para que tu hijo se conecte con los demás? ¡Nuestro Sociales de juegos para todas las habilidades es la oportunidad perfecta! \n✨ Abierto a todos los niveles de habilidad\, este acogedor encuentro ayuda a los niños a desarrollar habilidades sociales\, hacer nuevos amigos y disfrutar de una variedad de juegos\, incluidos video juegos\, juegos de mesa y más\, proporcionados por la Sociedad de Autismo de Oregón y Bridging Communities. ¡O trae tu propio juego favorito para compartir! \n📅 ¿Quién puede participar?\n🎮 Diseñado para edades de 8 a 14 años\, ¡pero toda la familia es bienvenida! \n🍽 Se proporcionará una cena ligera\n💰 ¡La asistencia es GRATUITA\, pero se requiere inscripción! \n📌 Regístrate aquí: https://ashlandoregon.gov/371/Register-for-a-Program \n¡Ven a jugar\, conectarte y divertirte en un espacio solidario e inclusivo! ¡Estamos ansiosos por verte allí! 🎉
URL:https://bcoregon.org/event/all-abilities-gaming-socials-juegos-sociales-para-todas-las-habilidades/
LOCATION:Ashland Senior Center\, 1699 Homes Ave\, Ashland\, OR\, 97520\, United States
END:VEVENT
BEGIN:VEVENT
DTSTART;TZID=America/Los_Angeles:20250619T180000
DTEND;TZID=America/Los_Angeles:20250619T200000
DTSTAMP:20260423T140841
CREATED:20250327T193829Z
LAST-MODIFIED:20250327T193829Z
UID:10000028-1750356000-1750363200@bcoregon.org
SUMMARY:Ashland Learning Differences Parent Support Group / Ashland Diferencias de Aprendizaje - Grupo de apoyo para padres
DESCRIPTION:🌟 Ashland Learning Differences Parent Support Group 🌟 \nAre you a parent seeking support and understanding? You’re not alone! \nJoin us every third Thursday from 6:00 – 8:00 pm at the Ashland Public Library for our Parent Support Group. Connect with other parents\, share your experiences\, and find a safe\, welcoming space to navigate the journey of raising neurodiverse children. \n💬 Open Discussions🤝 Supportive Connections🏠 Safe & Welcoming Environment \n✨ Spanish support available upon request! \nLearn more from our parent leader\, Kelly\, at 👉 kellyawdale.wixsite.com/ashlandldsg \n📅 Mark your calendar and join us! We can’t wait to meet you! \n// \n🌟 Ashland Diferencias de Aprendizaje – Grupo de apoyo para padres🌟 \n¿Es usted un padre que busca apoyo y comprensión? ¡No está solo! \nÚnase a nosotros cada tercer Jueves de 6:00 a 8:00 p.m. en la biblioteca pública de Ashland para nuestro grupo de apoyo para padres. Conéctese con otros padres\, comparta sus experiencias y encuentre un espacio seguro y acogedor para recorrer el camino de criar niños con neurodiversidad. \n💬 Discusiones abiertas\n🤝 Conexiones de apoyo\n🏠 Entorno seguro y acogedor \n✨ ¡Asistencia en español disponible a pedido! \nObtenga más información de nuestra líder de padres\, Kelly\, en 👉 kellyawdale.wixsite.com/ashlandldsg \n📅 ¡Marque su calendario y únase a nosotros! ¡Estamos ansiosos por conocerlo!
URL:https://bcoregon.org/event/ashland-learning-differences-parent-support-group-ashland-diferencias-de-aprendizaje-grupo-de-apoyo-para-padres-4/
LOCATION:Ashland Library\, 410 Siskiyou Blvd\, Ashland\, OR\, 97520\, United States
CATEGORIES:Support Groups
END:VEVENT
BEGIN:VEVENT
DTSTART;VALUE=DATE:20250620
DTEND;VALUE=DATE:20250621
DTSTAMP:20260423T140841
CREATED:20250603T032055Z
LAST-MODIFIED:20250603T032055Z
UID:10000051-1750377600-1750463999@bcoregon.org
SUMMARY:Book Club: Being Heumann / Club de lectura: Being Heumann
DESCRIPTION:Book Club: Being Heumann \nJoin The Arc Jackson County and Bridging Communities as we celebrate Disability Pride Month by reading Being Heumann — the inspiring memoir of Judy Heumann\, a fierce advocate who helped pave the way for the disability rights movement. \nTogether\, we’ll learn about her powerful journey to advocacy and the fight to protect the civil rights of people with disabilities. This book club is open to everyone and includes virtual and in-person options so you can join in the way that works best for you. \n📝 Register here by June 20:https://forms.gle/5a2FZZP93fU5a3vr9 \n🌍 Please note:Unfortunately\, Being Heumann is only available in English. We apologize for any inconvenience and hope to host a future book club with a title available in additional languages to better reflect and serve our diverse community. \n📬 Questions? Contact us at info@bcoregon.org or (458) 278-0697. \nLet’s read\, reflect\, and connect—together! 🌟 \n\nClub de lectura: Being Heumann \nÚnete a The Arc Jackson County y a Bridging Communities para celebrar el Mes del Orgullo por la Discapacidad leyendo Being Heumann\, las inspiradoras memorias de Judy Heumann\, una férrea defensora que ayudó a sentar las bases del movimiento por los derechos de las personas con discapacidad. \nJuntos\, aprenderemos sobre su poderosa trayectoria en la defensa de los derechos civiles de las personas con discapacidad. Este club de lectura está abierto a todos e incluye opciones virtuales y presenciales para que puedas unirte de la forma que mejor te convenga. \n📝 Regístrate aquí antes del 20 de Junio:\nhttps://forms.gle/5a2FZZP93fU5a3vr9 \n🌍 Nota:\nLamentablemente\, Being Heumann solo está disponible en Inglés. Disculpas por cualquier inconveniente y esperamos organizar un futuro club de lectura con un título disponible en otros idiomas para reflejar y servir mejor a nuestra diversa comunidad. \n📬 ¿Preguntas? Contáctanos en info@bcoregon.org o al (458) 278-0697. \n¡Leamos\, reflexionemos y conectemos juntos! 🌟
URL:https://bcoregon.org/event/book-club-being-heumann-club-de-lectura-being-heumann/
LOCATION:OR
END:VEVENT
BEGIN:VEVENT
DTSTART;TZID=America/Los_Angeles:20250625T103000
DTEND;TZID=America/Los_Angeles:20250625T113000
DTSTAMP:20260423T140841
CREATED:20250327T195345Z
LAST-MODIFIED:20250327T195345Z
UID:10000031-1750847400-1750851000@bcoregon.org
SUMMARY:Building Futures Playgroup / Construyendo Futuros Grupo de Juego
DESCRIPTION:  \n🌟 Building Futures Playgroup! 🌟 \nJoin us every 4th Wednesday from 10:30 to 11:30 AM for a special playgroup where children of all abilities (ages 0-5) and their families can enjoy a welcoming space filled with play\, growth\, connection\, and belonging. 🧸💫 \nThis inclusive gathering is brought to you in partnership with The Family Nurturing Center of Southern Oregon\, Autism Society of Oregon\, and Bridging Communities. Together\, we’re creating a fun\, supportive environment where all families are welcome. 💕 \n🗓 When: 4th Wednesday of each month\n⏰ Time: 10:30 – 11:30 AM\n📍 Where: Family Nurturing Center 825 E. Main Street\, Suite A.\, Medford\, OR 97504 \nCome connect\, play\, and build a brighter future—one moment at a time! We can’t wait to meet you. 😊 # \n// \n🌟 ¡Construyendo Futuros Grupo de Juego! 🌟 \nÚnase a nosotros cada cuarto Miércoles de 10:30 a 11:30 a.m. para un grupo de juego especial donde los niños de todas las capacidades (de 0 a 5 años) y sus familias pueden disfrutar de un espacio acogedor lleno de juego\, crecimiento\, conexión y pertenencia. \n🧸💫 Esta reunión inclusiva se ofrece en asociación con The Family Nurturing Center of Southern Oregon\, Autism Society of Oregon\, y Bridging Communities. Juntos\, estamos creando un entorno divertido y solidario donde todas las familias son bienvenidas. 💕 \n🗓 Cuándo: 4th Miércoles de cada mes\n⏰ Hora: 10:30 a.m. a 11:30 a.m.\n📍 Dónde: Family Nurturing Center 825 E. Main Street\, Suite A.\, Medford\, OR 97504 \n¡Ven a conectarte\, jugar y construir un futuro más brillante\, un momento a la vez! Estamos ansiosos por conocerte. 😊
URL:https://bcoregon.org/event/building-futures-playgroup-construyendo-futuros-grupo-de-juego-4/
LOCATION:The Family Nurturing Center\, 825 E. Main Street\, Suite A.\, Medford\, OR\, 97504\, United States
CATEGORIES:Support Groups
END:VEVENT
BEGIN:VEVENT
DTSTART;TZID=America/Los_Angeles:20250628T100000
DTEND;TZID=America/Los_Angeles:20250628T160000
DTSTAMP:20260423T140841
CREATED:20250603T200714Z
LAST-MODIFIED:20250604T143634Z
UID:10000052-1751104800-1751126400@bcoregon.org
SUMMARY:Help Paint Our Community Mural / Ayuda a pintar nuestro mural communitario
DESCRIPTION:Come be part of a fun and inclusive mural painting event that celebrates all of us — our differences\, our connections\, and our community! 💛 \nNo art experience needed! The mural\, designed by local artists from LIFE Art and The Studio\, will be outlined in a paint-by-numbers style so everyone can take part and leave their mark. \n🖌️ Saturday\, June 28\, 2025🕙 10:00 am – 4:00 pm📍 1017 N. Riverside Ave.\, Medford\, OR 97501 \n✅ Choose a 30-minute time slot that works for you👧 All ages and abilities welcome🌟 Paint with pride! \n👉 Register HERE \nQuestions?📧 info@bcoregon.org📞 (458) 278-0697 \nLet’s paint something beautiful—together! \n\n  \n¡Ven a formar parte de un evento de pintura mural divertido e inclusivo que celebra a todos: nuestras diferencias\, nuestras conexiones y nuestra comunidad! 💛 \n¡No se necesita experiencia artística! El mural\, diseñado por artistas locales de LIFE Art y The Studio\, se delineará con un estilo de pintura por números para que todos puedan participar y dejar su huella. \n🖌️ Sábado\, 28 de Junio de 2025\n🕙 10:00 a.m. – 4:00 p.m.\n📍 1017 N. Riverside Ave.\, Medford\, OR 97501 \n✅ Elige un horario de 30 minutos que te convenga\n👧 Todas las edades y habilidades son bienvenidas\n🌟 ¡Pinta con orgullo! \n👉 Regístrate AQUÍ \n¿Preguntas? 📧 info@bcoregon.org\n📞 (458) 278-0697 \n¡Pintemos algo hermoso juntos!
URL:https://bcoregon.org/event/help-paint-our-community-mural-ayuda-a-pintar-nuestro-mural-communitario/
LOCATION:Living Opportunities\, 1017 N Riverside Ave\, Medford\, OR\, 97501\, United States
END:VEVENT
END:VCALENDAR