BEGIN:VCALENDAR
VERSION:2.0
PRODID:-//Bridging Communities - ECPv6.15.20//NONSGML v1.0//EN
CALSCALE:GREGORIAN
METHOD:PUBLISH
X-ORIGINAL-URL:https://bcoregon.org
X-WR-CALDESC:Events for Bridging Communities
REFRESH-INTERVAL;VALUE=DURATION:PT1H
X-Robots-Tag:noindex
X-PUBLISHED-TTL:PT1H
BEGIN:VTIMEZONE
TZID:America/Los_Angeles
BEGIN:DAYLIGHT
TZOFFSETFROM:-0800
TZOFFSETTO:-0700
TZNAME:PDT
DTSTART:20240310T100000
END:DAYLIGHT
BEGIN:STANDARD
TZOFFSETFROM:-0700
TZOFFSETTO:-0800
TZNAME:PST
DTSTART:20241103T090000
END:STANDARD
BEGIN:DAYLIGHT
TZOFFSETFROM:-0800
TZOFFSETTO:-0700
TZNAME:PDT
DTSTART:20250309T100000
END:DAYLIGHT
BEGIN:STANDARD
TZOFFSETFROM:-0700
TZOFFSETTO:-0800
TZNAME:PST
DTSTART:20251102T090000
END:STANDARD
BEGIN:DAYLIGHT
TZOFFSETFROM:-0800
TZOFFSETTO:-0700
TZNAME:PDT
DTSTART:20260308T100000
END:DAYLIGHT
BEGIN:STANDARD
TZOFFSETFROM:-0700
TZOFFSETTO:-0800
TZNAME:PST
DTSTART:20261101T090000
END:STANDARD
END:VTIMEZONE
BEGIN:VEVENT
DTSTART;TZID=America/Los_Angeles:20250501T090000
DTEND;TZID=America/Los_Angeles:20250501T110000
DTSTAMP:20260423T180658
CREATED:20250327T190615Z
LAST-MODIFIED:20250327T190615Z
UID:10000019-1746090000-1746097200@bcoregon.org
SUMMARY:Parent Coffee / Café para padres
DESCRIPTION:☕️ Parent Coffee: Connect & Recharge! ☕️ \nNeed a break? Want to chat with other parents who share similar experiences? Looking for support and resources? Join us at Parent Coffee! \n🗓 When: 1st Thursday of every month\, 9am – 11am📍Where: Black Rock Coffee Bar\, Medford\, OR \nCome as you are! Whether you need a listening ear\, advice\, or just a warm cup of coffee\, we’re here for you. Let’s build community\, share experiences\, and support each other. ❤️ \n// \n☕️ Café para padres: ¡Conéctate y recarga energías! ☕️ \n¿Necesitas un descanso? ​​¿Quieres conversar con otros padres que comparten experiencias similares? ¿Buscas apoyo y recursos? ¡Únete a nosotros en el Café para padres! \n🗓 Cuándo: el primer jueves de cada mes\, de 9:00 a.m. a 11:00 a.m.\n📍Dónde: Black Rock Coffee Bar\, Medford\, OR \n¡Ven tal como eres! Ya sea que necesites que te escuchen\, un consejo o simplemente una taza de café caliente\, estamos aquí para ti. Construyamos una comunidad\, compartamos experiencias y apoyémonos mutuamente. ❤️
URL:https://bcoregon.org/event/parent-coffee-cafe-para-padres-3/
LOCATION:Black Rock Coffee Bar\, 151 Rossanley Dr. #101\, Medford\, OR\, 97501\, United States
CATEGORIES:Support Groups
END:VEVENT
BEGIN:VEVENT
DTSTART;TZID=America/Los_Angeles:20250503T100000
DTEND;TZID=America/Los_Angeles:20250503T120000
DTSTAMP:20260423T180658
CREATED:20250401T040702Z
LAST-MODIFIED:20250401T040702Z
UID:10000040-1746266400-1746273600@bcoregon.org
SUMMARY:Family Film Fun - Disney's Thunderbolts! / Diversion familiar de película - Disney's Thunderbolts!
DESCRIPTION:  \n \n  \nWelcome to Family Film Fun – Disney’s Thunderbolts! 🎬✨ \nWe’re excited to invite you to a sensory-friendly movie experience for the whole family! Join us for a special screening of Disney’s Thunderbolts\, a fun and action-packed film. This screening will be sensory-friendly\, meaning the lights will be dimmed\, the sound will be lower\, and you’re welcome to move around or take breaks if needed. \nPlease note that the movie is rated PG-13\, so parental discretion is advised. \nThe Details: \n📅 Date: Saturday\, May 3\, 2025\n⏰ Time: 10:00 AM (Lobby opens at 9:30 AM)\n📍 Location: Southgate Cinemas –  1625 SW Ringuette Street\, Grants Pass OR 97527 \nThe movie will start promptly at 10:00 AM with no beginning trailers\, so be sure to arrive early to get settled. Concessions will be available for purchase at full price. \nThere is no cost for this event but registration is required. Please register HERE: https://forms.gle/BDCVx6ZTxbMMvNdJA \nFor more information\, contact Bridging Communities at info@bcoregon.org or (458) 278-0697. \nWe’re excited to share this special movie experience with you! 🎥🍿 \n// \n¡Bienvenidos a Diversion familiar de película – Disney’s Thunderbolts! 🎬✨ \n¡Nos complace invitarlos a una experiencia cinematográfica sensorial para toda la familia! Acompáñennos a una proyección especial de Thunderbolts de Disney\, una película divertida y llena de acción. Esta proyección será sensorialmente amigable\, lo que significa que las luces estarán atenuadas\, el sonido será más bajo y podrán moverse o tomar descansos si lo necesitan. \nTengan en cuenta que la película tiene clasificación PG-13 (Apta para mayores de 13 años)\, por lo que se recomienda la discreción de los padres. \nDetalles:\n📅 Fecha: Sábado\, 3 de Mayo de 2025\n⏰ Hora: 10:00 a. m. (El vestíbulo abre a las 9:30 a.m.)\n📍 Ubicación:  Southgate Cinemas –  1625 SW Ringuette Street\, Grants Pass OR 97527 \nTenga en cuenta que la película comenzará puntualmente a las 10:00 a.m. sin tráilers\, así que asegúrese de llegar temprano para acomodarse. Las concesiones estarán disponibles para su compra a precio completo.\n \nEste evento es gratuito\, pero es necesario registrarse. Regístrese AQUÍ: https://forms.gle/BDCVx6ZTxbMMvNdJA \nPara obtener más información\, comuníquese con Bridging Communities en info@bcoregon.org o al (458) 278-0697  . \n¡Nos complace compartir esta experiencia cinematográfica tan especial con usted! Por favor\, completa el formulario a continuación para registrarte. 🎥🍿
URL:https://bcoregon.org/event/family-film-fun-disneys-thunderbolts-diversion-familiar-de-pelicula-disneys-thunderbolts/
LOCATION:Southgate Cinemas\, 1625 SW Ringuette Street\, Grants Pass\, OR\, 97527\, United States
END:VEVENT
BEGIN:VEVENT
DTSTART;TZID=America/Los_Angeles:20250506T173000
DTEND;TZID=America/Los_Angeles:20250506T193000
DTSTAMP:20260423T180658
CREATED:20250429T033633Z
LAST-MODIFIED:20250429T033633Z
UID:10000042-1746552600-1746559800@bcoregon.org
SUMMARY:Navigating Special Education / Navegando la educación especial
DESCRIPTION:Join us for a free\, in-person training designed to support families navigating special education! Whether you’re new to the process or just need a refresher\, this workshop will help you: \n✅ Understand the basics of the Individuals with Disabilities Education Act (IDEA)✅ Get ready and feel confident for your child’s next IEP meeting✅ Learn tools for better communication with your school team \n📅 Tuesday\, May 6🕠 5:30 – 7:30 PM📍 Medford\, OR🍽️ Dinner provided – Free for families!✨ Offered in English and Spanish \nThis event is all about empowering families with information\, support\, and connection. We’re proud to partner with FACT Oregon\, The Arc Jackson County\, and the Autism Society of Oregon to bring this empowering evening to families in Southern Oregon. \nSpace may be limited\, so be sure to register early. Register HERE: https://factoregon.app.neoncrm.com/np/clients/factoregon/eventRegistration.jsp?event=17213& \n\n¡Únase a nosotros para una capacitación presencial gratuita diseñada para apoyar a las familias que se enfrentan a la educación especial! Ya sea que sea nuevo en el proceso o simplemente necesite un repaso\, este taller le ayudará a: \n✅ Comprender los conceptos básicos de la Ley de Educación para Individuos con Discapacidades (IDEA)\n✅ Prepararse y sentirse seguro para la próxima reunión del IEP de su hijo\n✅ Aprender herramientas para una mejor comunicación con el equipo escolar \n📅 Martes\, 6 de Mayo\n🕠 5:30 – 7:30 PM\n📍 Medford\, OR\n🍽️ Cena incluida – ¡Gratis para las familias!\n✨ Ofrecido en inglés y español \nEste evento se centra en empoderar a las familias con información\, apoyo y conexión. Nos enorgullece colaborar con FACT Oregon\, The Arc Jackson County y la Sociedad de Autismo de Oregon para llevar esta noche de empoderamiento a las familias del sur de Oregon. \nEl cupo puede ser limitado\, así que asegúrese de registrarse con anticipación. Regístrese AQUÍ: https://factoregon.app.neoncrm.com/np/clients/factoregon/eventRegistration.jsp?event=17213&
URL:https://bcoregon.org/event/navigating-special-education-navegando-la-educacion-especial/
LOCATION:Living Opportunities\, 1017 N Riverside Ave\, Medford\, OR\, 97501\, United States
END:VEVENT
BEGIN:VEVENT
DTSTART;TZID=America/Los_Angeles:20250510T090000
DTEND;TZID=America/Los_Angeles:20250510T100000
DTSTAMP:20260423T180658
CREATED:20250416T185243Z
LAST-MODIFIED:20250416T185243Z
UID:10000041-1746867600-1746871200@bcoregon.org
SUMMARY:Sow and Tell / Sembrar y Contar
DESCRIPTION:Sow and Tell \n\nHosted by Bridging Communities\, The Arc Jackson County & The Children’s Museum of Southern Oregon\n\n Saturday\, May 10\, 2025 9:00 AM – 10:00 AM 413 W Main St\, Medford\, OR 97501\n\nJoin us for a peaceful and playful morning during the Children’s Museum’s regularly scheduled Sensory Friendly Hour!\n\n Enjoy calming story time Plant your own flower to take home Choose a free book to keep Help us brighten the museum garden\n\nThis event is free and open to everyone—no museum membership required!\n\nTo maintain a quieter\, sensory-friendly atmosphere\, attendance will be limited to 30 people\, so be sure to register early.\n\nLet’s connect\, grow\, and enjoy the beauty of spring together! \n https://forms.gle/L59YKxNWPjgwB9iq6\n\nFor questions\, contact us at: info@bcoregon.org or (458) 278-0697\n\n//\n Sembrar y Contar \n\nOrganizado por Bridging Communities\, The Arc Jackson County y el Museo Infantil del Sur de Oregón\n\n Sábado\, 10 de Mayo de 2025 9:00 a. m. a 10:00 a. m. 413 W Main St\, Medford\, OR 97501\n\n¡Únete a nosotros para una mañana tranquila y divertida durante la Hora Sensorial del Museo Infantil!\n\n Disfruta de una relajante hora de cuentos Planta tu propia flor para llevar a casa Elige un libro gratis para quedártelo Ayúdanos a alegrar el jardín del museo\n\nEste evento es gratuito y abierto a todos; ¡no se requiere membresía del museo!\n\nPara mantener un ambiente más tranquilo y sensorial\, la asistencia estará limitada a 30 personas\, así que asegúrate de registrarte con anticipación.\n\n¡Conectemos\, crezcamos y disfrutemos juntos de la belleza de la primavera! \n https://forms.gle/L59YKxNWPjgwB9iq6\n\nSi tiene alguna pregunta\, contáctenos en: info@bcoregon.org o al (458) 278-0697
URL:https://bcoregon.org/event/sow-and-tell-sembrar-y-contar/
LOCATION:Children’s Museum\, 413 W Main St\, Medford\, OR\, 97501\, United States
END:VEVENT
BEGIN:VEVENT
DTSTART;TZID=America/Los_Angeles:20250514T180000
DTEND;TZID=America/Los_Angeles:20250514T200000
DTSTAMP:20260423T180658
CREATED:20250327T192852Z
LAST-MODIFIED:20250327T192852Z
UID:10000024-1747245600-1747252800@bcoregon.org
SUMMARY:Charla Entre Padres en Línea en Español
DESCRIPTION:🌟 Charla Entre Padres en Línea en Español 🌟 \n¿Tu hijo o hija tiene alguna discapacidad?¿Quieres conectarte con otros padres con experiencias similares?¿Buscas apoyo y recursos? \n¡Estamos aquí para ti! Únete a nuestro grupo de apoyo Charla Entre Padres y comparte un espacio seguro y acogedor con otras familias. Juntos podemos aprender\, apoyarnos y construir comunidad. 💛 \n🗓 Segundo Miércoles de Cada Mes⏰ 6:00 – 8:00 pm💻 Zoom:📲 ID de la Reunión: 870 3207 9282🔐 Código: comunidad \n¿Preguntas?📞 Español o Inglés: (458) 278-0697 \n✉️ info@bcoregon.org \n¡Te esperamos con los brazos abiertos! 🤗 \n// \n🌟 Online Parent Chat in Spanish 🌟 \nDoes your child have a disability?\nDo you want to connect with other parents with similar experiences?\nAre you looking for support and resources? \nWe are here for you! Join our Parent Chat support group and share a safe and welcoming space with other families. Together we can learn\, support each other\, and build community. 💛 \n🗓 Second Wednesday of Every Month\n⏰ 6:00 – 8:00 pm\n💻 Zoom:\n📲 Meeting ID: 870 3207 9282\n🔐 Code: comunidad \nQuestions?\n📞 Spanish or English: (458) 278-0697 \n✉️ info@bcoregon.org \nWe are waiting for you with open arms! 🤗
URL:https://bcoregon.org/event/charla-entre-padres-en-linea-en-espanol-2/
LOCATION:OR
CATEGORIES:Support Groups
END:VEVENT
BEGIN:VEVENT
DTSTART;TZID=America/Los_Angeles:20250515T180000
DTEND;TZID=America/Los_Angeles:20250515T200000
DTSTAMP:20260423T180658
CREATED:20250327T193730Z
LAST-MODIFIED:20250327T193730Z
UID:10000027-1747332000-1747339200@bcoregon.org
SUMMARY:Ashland Learning Differences Parent Support Group / Ashland Diferencias de Aprendizaje - Grupo de apoyo para padres
DESCRIPTION:🌟 Ashland Learning Differences Parent Support Group 🌟 \nAre you a parent seeking support and understanding? You’re not alone! \nJoin us every third Thursday from 6:00 – 8:00 pm at the Ashland Public Library for our Parent Support Group. Connect with other parents\, share your experiences\, and find a safe\, welcoming space to navigate the journey of raising neurodiverse children. \n💬 Open Discussions🤝 Supportive Connections🏠 Safe & Welcoming Environment \n✨ Spanish support available upon request! \nLearn more from our parent leader\, Kelly\, at 👉 kellyawdale.wixsite.com/ashlandldsg \n📅 Mark your calendar and join us! We can’t wait to meet you! \n// \n🌟 Ashland Diferencias de Aprendizaje – Grupo de apoyo para padres🌟 \n¿Es usted un padre que busca apoyo y comprensión? ¡No está solo! \nÚnase a nosotros cada tercer Jueves de 6:00 a 8:00 p.m. en la biblioteca pública de Ashland para nuestro grupo de apoyo para padres. Conéctese con otros padres\, comparta sus experiencias y encuentre un espacio seguro y acogedor para recorrer el camino de criar niños con neurodiversidad. \n💬 Discusiones abiertas\n🤝 Conexiones de apoyo\n🏠 Entorno seguro y acogedor \n✨ ¡Asistencia en español disponible a pedido! \nObtenga más información de nuestra líder de padres\, Kelly\, en 👉 kellyawdale.wixsite.com/ashlandldsg \n📅 ¡Marque su calendario y únase a nosotros! ¡Estamos ansiosos por conocerlo!
URL:https://bcoregon.org/event/ashland-learning-differences-parent-support-group-ashland-diferencias-de-aprendizaje-grupo-de-apoyo-para-padres-3/
LOCATION:Ashland Library\, 410 Siskiyou Blvd\, Ashland\, OR\, 97520\, United States
CATEGORIES:Support Groups
END:VEVENT
BEGIN:VEVENT
DTSTART;TZID=America/Los_Angeles:20250516T173000
DTEND;TZID=America/Los_Angeles:20250516T190000
DTSTAMP:20260423T180658
CREATED:20250327T200822Z
LAST-MODIFIED:20250327T200822Z
UID:10000033-1747416600-1747422000@bcoregon.org
SUMMARY:All Abilities Gaming Socials / Juegos sociales para todas las habilidades
DESCRIPTION:Looking for a fun and inclusive way for your child to connect with others? Our All Abilities Gaming Social is the perfect opportunity! \n✨ Open to all skill levels\, this welcoming meetup helps kids build social skills\, make new friends\, and enjoy a variety of games—including video games\, board games\, and more—provided by the Oregon Autism Society and Bridging Communities. Or bring your own favorite game to share! \n📅 Who can join?\n🎮 Designed for ages 8-14\, but the whole family is welcome! \n🍽 Light dinner will be provided\n💰 FREE to attend\, but registration is required! \n📌 Sign up here: https://ashlandoregon.gov/371/Register-for-a-Program \nCome play\, connect\, and have fun in a supportive and inclusive space! We can’t wait to see you there! 🎉 \n// \n¿Buscas una forma divertida e inclusiva para que tu hijo se conecte con los demás? ¡Nuestro Sociales de juegos para todas las habilidades es la oportunidad perfecta! \n✨ Abierto a todos los niveles de habilidad\, este acogedor encuentro ayuda a los niños a desarrollar habilidades sociales\, hacer nuevos amigos y disfrutar de una variedad de juegos\, incluidos video juegos\, juegos de mesa y más\, proporcionados por la Sociedad de Autismo de Oregón y Bridging Communities. ¡O trae tu propio juego favorito para compartir! \n📅 ¿Quién puede participar?\n🎮 Diseñado para edades de 8 a 14 años\, ¡pero toda la familia es bienvenida! \n🍽 Se proporcionará una cena ligera\n💰 ¡La asistencia es GRATUITA\, pero se requiere inscripción! \n📌 Regístrate aquí: https://ashlandoregon.gov/371/Register-for-a-Program \n¡Ven a jugar\, conectarte y divertirte en un espacio solidario e inclusivo! ¡Estamos ansiosos por verte allí! 🎉
URL:https://bcoregon.org/event/all-abilities-gaming-socials-juegos-sociales-para-todas-las-habilidades-2/
LOCATION:Ashland Senior Center\, 1699 Homes Ave\, Ashland\, OR\, 97520\, United States
CATEGORIES:Support Groups
END:VEVENT
BEGIN:VEVENT
DTSTART;TZID=America/Los_Angeles:20250520T173000
DTEND;TZID=America/Los_Angeles:20250520T193000
DTSTAMP:20260423T180658
CREATED:20250429T040502Z
LAST-MODIFIED:20250429T040502Z
UID:10000043-1747762200-1747769400@bcoregon.org
SUMMARY:Guardianship & Less Restrictive Alternatives / Tutela y alternativas menos restrictivas
DESCRIPTION:Join us for a free\, in-person training to learn about the different options families have when planning for the future. This workshop will help you better understand how to support your loved one’s independence\, rights\, and needs as they grow. You’ll learn about: \n✅ Guardianship✅ Supported Decision Making✅ Health Care Representatives✅ Representative Payees✅ Special Needs Trusts \n📅 Tuesday\, May 20\, 2025🕠 5:30 – 7:30 PM📍 Medford\, OR🍽️ Light food provided🌐 Translation available | Childcare available upon request \nPresented by Em Braman from The Arc OregonHosted by The Arc Jackson County\, Autism Society of Oregon\, and Bridging Communities \n🔗 Register here: https://docs.google.com/forms/d/e/1FAIpQLSdpSgrJcDqkxaqzSNLjO42MmC0TEnbBXHxNjcRv4rUZIz0WKg/viewform \nLet us know if you need translation or childcare when registering—we’re happy to make the space welcoming and accessible for you! \n\nAcompáñenos a una capacitación presencial gratuita para conocer las diferentes opciones que tienen las familias para planificar su futuro. Este taller le ayudará a comprender mejor cómo apoyar la independencia\, los derechos y las necesidades de su ser querido a medida que crece. Aprenderá sobre: \n✅ Tutela\n✅ Toma de Decisiones con Apoyo\n✅ Representantes de Atención Médica\n✅ Representantes de Beneficiarios\n✅ Fideicomisos para Necesidades Especiales \n📅 Martes\, 20 de Mayo de 2025\n🕠 5:30 – 7:30 pm\n📍 Medford\, OR\n🍽️ Comida ligera disponible\n🌐 Traducción disponible | Cuidado de niños disponible bajo petición \nPresentado por Em Braman de The Arc Oregon\nOrganizado por The Arc del Condado de Jackson\, la Sociedad de Autismo de Oregon y Bridging Communities \n🔗 Inscríbase aquí: https://docs.google.com/forms/d/e/1FAIpQLSdpSgrJcDqkxaqzSNLjO42MmC0TEnbBXHxNjcRv4rUZIz0WKg/viewform \nIndíquenos si necesita traducción o cuidado de niños al registrarse. ¡Con gusto le ayudaremos a encontrar un espacio acogedor y accesible!
URL:https://bcoregon.org/event/guardianship-less-restrictive-alternatives-tutela-y-alternativas-menos-restrictivas/
LOCATION:Living Opportunities\, 1017 N Riverside Ave\, Medford\, OR\, 97501\, United States
END:VEVENT
BEGIN:VEVENT
DTSTART;TZID=America/Los_Angeles:20250521T100000
DTEND;TZID=America/Los_Angeles:20250521T120000
DTSTAMP:20260423T180658
CREATED:20250327T191911Z
LAST-MODIFIED:20250327T191911Z
UID:10000022-1747821600-1747828800@bcoregon.org
SUMMARY:Cafecito Con Charla
DESCRIPTION:🌻 Cafecito Con Charla🌻 \n¡Únase a nosotros en Cafecito Con Charla\, nuestro cálido y acogedor grupo de apoyo para familias con niños con discapacidades! 💛 \n✨ Qué esperar:\n✅ Compartir recursos y conectarse con otras familias\n✅ Aprender información valiosa de nuestra comunidad\n✅ Sentirse apoyado: ¡no está solo! \n📅 Cuándo: 3rd Miércoles de cada mes de 10:00 am a 12:00 pm\n📍 Dónde: En persona y en Zoom.\n🔗 ID de reunión de Zoom: 881 2695 7990\n🔑 Código de acceso: cafecito \n¡Este evento se llevará a cabo en Español y estamos ansiosos por conectarnos con usted! 💬 \n💕 Estamos aquí para usted: ¡únase a nosotros y traiga sus preguntas\, historias y una taza de café caliente! ☕️ \n// \nJoin us for Cafecito Con Charla\, our warm and welcoming support group for families with children experiencing disabilities! 💛 \n✨ What to Expect:✅ Share resources and connect with other families✅ Learn valuable information from our community✅ Feel supported—you are not alone! \n📅 When: 3rd Wednesday of every month from 10:00am to 12:00pm📍 Where: In person & on Zoom!🔗 Zoom Meeting ID: 881 2695 7990🔑 Passcode: cafecito \nThis event will be held in Spanish\, and we can’t wait to connect with you! 💬 \n💕 We are here for you—join us and bring your questions\, stories\, and a warm cup of coffee! ☕️
URL:https://bcoregon.org/event/cafecito-con-charla-3/
LOCATION:OR
CATEGORIES:Support Groups
END:VEVENT
BEGIN:VEVENT
DTSTART;TZID=America/Los_Angeles:20250528T103000
DTEND;TZID=America/Los_Angeles:20250528T113000
DTSTAMP:20260423T180658
CREATED:20250327T194129Z
LAST-MODIFIED:20250327T194129Z
UID:10000030-1748428200-1748431800@bcoregon.org
SUMMARY:Building Futures Playgroup / Construyendo Futuros Grupo de Juego
DESCRIPTION:  \n🌟 Introducing Building Futures Playgroup! 🌟 \nJoin us every 4th Wednesday from 10:30 to 11:30 AM for a special playgroup where children of all abilities (ages 0-5) and their families can enjoy a welcoming space filled with play\, growth\, connection\, and belonging. 🧸💫 \nThis inclusive gathering is brought to you in partnership with Autism Society of Oregon\, The Family Nurturing Center of Southern Oregon\, and Bridging Communities. Together\, we’re creating a fun\, supportive environment where all families are welcome. 💕 \n🗓 When: 4th Wednesday of each month\n⏰ Time: 10:30 – 11:30 AM\n📍 Where: Family Nurturing Center 825 E. Main Street\, Suite A.\, Medford\, OR 97504 \nCome connect\, play\, and build a brighter future—one moment at a time! We can’t wait to meet you. 😊 # \n// \n🌟 ¡Presentamos el Construyendo Futuros Grupo de Juego! 🌟 \nÚnase a nosotros cada cuarto Miércoles de 10:30 a 11:30 a.m. para un grupo de juego especial donde los niños de todas las capacidades (de 0 a 5 años) y sus familias pueden disfrutar de un espacio acogedor lleno de juego\, crecimiento\, conexión y pertenencia. \n🧸💫 Esta reunión inclusiva se ofrece en asociación con Autism Society of Oregon\, The Family Nurturing Center of Southern Oregon y Bridging Communities. Juntos\, estamos creando un entorno divertido y solidario donde todas las familias son bienvenidas. 💕 \n🗓 Cuándo: 4th Miércoles de cada mes\n⏰ Hora: 10:30 a.m. a 11:30 a.m.\n📍 Dónde: Family Nurturing Center 825 E. Main Street\, Suite A.\, Medford\, OR 97504 \n¡Ven a conectarte\, jugar y construir un futuro más brillante\, un momento a la vez! Estamos ansiosos por conocerte. 😊
URL:https://bcoregon.org/event/building-futures-playgroup-construyendo-futuros-grupo-de-juego-3/
LOCATION:The Family Nurturing Center\, 825 E. Main Street\, Suite A.\, Medford\, OR\, 97504\, United States
CATEGORIES:Support Groups
END:VEVENT
BEGIN:VEVENT
DTSTART;TZID=America/Los_Angeles:20250531T130000
DTEND;TZID=America/Los_Angeles:20250531T150000
DTSTAMP:20260423T180658
CREATED:20250430T022851Z
LAST-MODIFIED:20250430T022851Z
UID:10000044-1748696400-1748703600@bcoregon.org
SUMMARY:Paint & Snack / Pintura y Aperitivos
DESCRIPTION:Join Bridging Communities and Magical May Artistry for an afternoon where creativity meets connection! 💛 \n📅 Saturday\, May 31\, 2025🕐 1:00 – 3:00 PM📍 Rogue River Library – 412 E Main St\, Rogue River\, OR 97537 \nEnjoy a fun\, relaxed space to paint\, snack\, and build friendships with others in the community who are raising children experiencing disability. This is a time to unwind\, be creative\, and celebrate the strength and joy found in community. 🖌️🍪 \n✨ Free to attend – all materials and snacks provided!🎟️ This event is for adults only. Please arrange for childcare if needed.\n🔗 Register here: https://forms.gle/FQrUBxpH4HGk257M8 \nWe hope to see you there for an afternoon full of color\, conversation\, and connection! 💬💐 \n\n¡Únete a Bridging Communities y Magical May Artistry para una tarde donde la creatividad se une a la conexión! 💛 \n📅 Sábado\, 31 de Mayo de 2025\n🕐 1:00 – 3:00 PM\n📍 Biblioteca de Rogue River – 412 E Main St\, Rogue River\, OR 97537 \nDisfruta de un espacio divertido y relajado para pintar\, disfrutar de un refrigerio y forjar amistades con otras personas de la comunidad que crían a niños con discapacidad. Este es un momento para desconectar\, ser creativo y celebrar la fuerza y ​​la alegría que se encuentran en la comunidad. 🖌️🍪 \n✨ Entrada gratuita: ¡todos los materiales y refrigerios incluidos!\n🎟️ Este evento es solo para adultos. Por favor\, coordina el cuidado de niños si es necesario.\n🔗 Regístrate aquí: https://forms.gle/FQrUBxpH4HGk257M8 \n¡Esperamos verte allí para una tarde llena de color\, conversación y conexión! 💬💐
URL:https://bcoregon.org/event/paint-snack-pintura-y-aperitivos/
LOCATION:Rogue River Library\, 412 E Main St\, Rogue River\, OR\, 97537\, United States
END:VEVENT
END:VCALENDAR