BEGIN:VCALENDAR
VERSION:2.0
PRODID:-//Bridging Communities - ECPv6.15.20//NONSGML v1.0//EN
CALSCALE:GREGORIAN
METHOD:PUBLISH
X-WR-CALNAME:Bridging Communities
X-ORIGINAL-URL:https://bcoregon.org
X-WR-CALDESC:Events for Bridging Communities
REFRESH-INTERVAL;VALUE=DURATION:PT1H
X-Robots-Tag:noindex
X-PUBLISHED-TTL:PT1H
BEGIN:VTIMEZONE
TZID:UTC
BEGIN:STANDARD
TZOFFSETFROM:+0000
TZOFFSETTO:+0000
TZNAME:UTC
DTSTART:20230101T000000
END:STANDARD
END:VTIMEZONE
BEGIN:VEVENT
DTSTART;TZID=UTC:20241217T170000
DTEND;TZID=UTC:20241217T183000
DTSTAMP:20260422T201450
CREATED:20241205T082938Z
LAST-MODIFIED:20241205T082938Z
UID:10000008-1734454800-1734460200@bcoregon.org
SUMMARY:Sip and Learn at The Studio
DESCRIPTION:
URL:https://bcoregon.org/event/sip-and-learn-at-the-studio/
LOCATION:The Studio at Living Opportunities\, 1600 N Riverside Ave #1027\, Medford\, OR\, 97501
ATTACH;FMTTYPE=image/png:https://bcoregon.org/wp-content/uploads/2024/10/BC-Logo-full.png
END:VEVENT
BEGIN:VEVENT
DTSTART;TZID=UTC:20241201T180000
DTEND;TZID=UTC:20241201T200000
DTSTAMP:20260422T201450
CREATED:20241023T234348Z
LAST-MODIFIED:20241119T030102Z
UID:10000003-1733076000-1733083200@bcoregon.org
SUMMARY:DD Services Feedback Opportunity Events:
DESCRIPTION:English EventWednesday\, December 1st\, 6:00 pmDD Services Feedback Opportunity \nhttps://www.eventbrite.com/e/205456565117 \n \n  \nSpanish EventThursday December 2nd 6:00 pmOportunidad de Comentarios sobre los Servicios de DD \nhttps://www.eventbrite.com/e/oportunidad-de-comentarios-sobre-los-servicios-de-dd-tickets-208109510147
URL:https://bcoregon.org/event/ddservices_feedback/
LOCATION:OR
ATTACH;FMTTYPE=image/png:https://bcoregon.org/wp-content/uploads/2024/10/BC-Logo-full.png
END:VEVENT
BEGIN:VEVENT
DTSTART;TZID=UTC:20240818T183000
DTEND;TZID=UTC:20240818T200000
DTSTAMP:20260422T201450
CREATED:20241023T234318Z
LAST-MODIFIED:20241108T005233Z
UID:10000002-1724005800-1724011200@bcoregon.org
SUMMARY:Puberty vs Adolescence
DESCRIPTION:In partnership with FACT Oregon and Autism Society\, Bridging Communities is co-hosting “Puberty vs. Adolescence” on Wednesday\, August 18\, 6:30pm to 8pm. \n  \nThis free virtual training by Shayna Luther will help you learn how to separate puberty from adolescence with a discussion about aspects of brain development\, body changes\, and social\, emotional\, and moral development. We will also talk about a person’s emerging sexuality\, sexual and gender identity\, and healthy sexual development. Spanish interpretation will be provided. \n  \nEste entrenamiento le ayudara a aprender como separar la pubertad de la adolescencia como dos diferentes procesos y al igual entender la importancia de cada uno. Cubriremos los aspectos del desarrollo del cerebro\, social\, emocional\, moral y cambios físicos. También se hablará sobre la sexualidad emergente de una persona\, identidad sexual y de sexo\, y desarrollo sexual saludable. \n  \nRegister Here!  Registrar aquihttps://factoregon.z2systems.com/np/clients/factoregon/eventRegistration.jsp?event=10842&fbclid=IwAR2CBjmwvWRvFnQNr_zqrK1r5KgpVTkrbvSSg5MLxxmJXWTpUOYiDRXtg9A \n  \nHere is the link for the Facebook event:   Aqui esta el enlace para el evento de Facebook:https://fb.me/e/1F9cYNBzh
URL:https://bcoregon.org/event/puberty_vs_adolescence/
LOCATION:OR
ATTACH;FMTTYPE=image/png:https://bcoregon.org/wp-content/uploads/2024/10/BC-Logo-full.png
END:VEVENT
END:VCALENDAR