BEGIN:VCALENDAR
VERSION:2.0
PRODID:-//Bridging Communities - ECPv6.15.20//NONSGML v1.0//EN
CALSCALE:GREGORIAN
METHOD:PUBLISH
X-ORIGINAL-URL:https://bcoregon.org
X-WR-CALDESC:Events for Bridging Communities
REFRESH-INTERVAL;VALUE=DURATION:PT1H
X-Robots-Tag:noindex
X-PUBLISHED-TTL:PT1H
BEGIN:VTIMEZONE
TZID:America/Los_Angeles
BEGIN:DAYLIGHT
TZOFFSETFROM:-0800
TZOFFSETTO:-0700
TZNAME:PDT
DTSTART:20250309T100000
END:DAYLIGHT
BEGIN:STANDARD
TZOFFSETFROM:-0700
TZOFFSETTO:-0800
TZNAME:PST
DTSTART:20251102T090000
END:STANDARD
BEGIN:DAYLIGHT
TZOFFSETFROM:-0800
TZOFFSETTO:-0700
TZNAME:PDT
DTSTART:20260308T100000
END:DAYLIGHT
BEGIN:STANDARD
TZOFFSETFROM:-0700
TZOFFSETTO:-0800
TZNAME:PST
DTSTART:20261101T090000
END:STANDARD
BEGIN:DAYLIGHT
TZOFFSETFROM:-0800
TZOFFSETTO:-0700
TZNAME:PDT
DTSTART:20270314T100000
END:DAYLIGHT
BEGIN:STANDARD
TZOFFSETFROM:-0700
TZOFFSETTO:-0800
TZNAME:PST
DTSTART:20271107T090000
END:STANDARD
END:VTIMEZONE
BEGIN:VEVENT
DTSTART;TZID=America/Los_Angeles:20260307T133000
DTEND;TZID=America/Los_Angeles:20260307T143000
DTSTAMP:20260419T233424
CREATED:20260210T163237Z
LAST-MODIFIED:20260306T203913Z
UID:10000567-1772890200-1772893800@bcoregon.org
SUMMARY:Adaptive Aerial Workshop
DESCRIPTION:Adaptive Aerial Workshop\nAshland Aerial Arts and Bridging Communities invite individuals from the disability community\, ages 8 to 14\, to join us for a fun and supportive introduction to aerial arts. \nThis free workshop includes a short group warm up followed by rotating aerial stations. Participants will explore trapeze swings\, hanging fabrics known as silks\, and a balance line. Everyone is encouraged to move at their own pace and participate in a way that feels right for them. \nNo experience is needed. Please wear comfortable clothes you can move in and come as you are. Staff will offer support and adaptations to help each participant take part in a way that works best for them. \nRegistration is required and space is limited. \nEvent Details\nDate: Saturday\, March 7\, 2026\nTime: 1:30 PM to 2:30 PM\nLocation: Ashland Aerial Arts\, 280 E Hersey St #12\, Ashland\, OR\nContact: Sonya@AshlandAerialArts.org | 541.708.3181\nAccess Notes: ashlandaerialarts.org/about \nRegister here:\nhttps://forms.gle/Fm8LdSP8iStdWibt9 \nTaller Aéreo Adaptativo\nAshland Aerial Arts y Bridging Communities invitan a personas de la comunidad que experimenta discapacidad\, de 8 a 14 años\, a participar en un taller gratuito\, divertido y de apoyo para conocer las artes aéreas. \nEl taller incluye un calentamiento corto en grupo y después estaciones rotativas. Las personas participantes podrán explorar columpios de trapecio\, telas colgantes conocidas como silks\, y una cuerda de equilibrio. Cada persona puede participar a su propio ritmo y de la manera que mejor le funcione. \nNo se necesita experiencia previa. Se recomienda usar ropa cómoda para moverse y venir tal como eres. El personal estará disponible para ofrecer apoyo y adaptaciones según las necesidades de cada persona. \nSe requiere registro y el espacio es limitado. \nDetalles del evento\nFecha: Sábado\, 7 de marzo de 2026\nHora: 1:30 PM  2:30 PM\nUbicación: Ashland Aerial Arts\, 280 E Hersey St #12\, Ashland\, OR\nContacto: rosa@bcoregon.org | 541.601.9113\nNotas de acceso: ashlandaerialarts.org/about \nRegístrate aquí:\nhttps://forms.gle/Fm8LdSP8iStdWibt9
URL:https://bcoregon.org/event/adaptive-aerial-workshop/
LOCATION:Ashland Aerial Arts\, 280 E Hersey St\, #12\, Ashland\, OR\, 97520\, United States
ATTACH;FMTTYPE=image/png:https://bcoregon.org/wp-content/uploads/2026/02/Aerial-Workshop-112324-Eng.png
ORGANIZER;CN="Bridging Communities":MAILTO:info@bcoregon.org
END:VEVENT
END:VCALENDAR