BEGIN:VCALENDAR
VERSION:2.0
PRODID:-//Bridging Communities - ECPv6.15.20//NONSGML v1.0//EN
CALSCALE:GREGORIAN
METHOD:PUBLISH
X-WR-CALNAME:Bridging Communities
X-ORIGINAL-URL:https://bcoregon.org
X-WR-CALDESC:Events for Bridging Communities
REFRESH-INTERVAL;VALUE=DURATION:PT1H
X-Robots-Tag:noindex
X-PUBLISHED-TTL:PT1H
BEGIN:VTIMEZONE
TZID:America/Los_Angeles
BEGIN:DAYLIGHT
TZOFFSETFROM:-0800
TZOFFSETTO:-0700
TZNAME:PDT
DTSTART:20240310T100000
END:DAYLIGHT
BEGIN:STANDARD
TZOFFSETFROM:-0700
TZOFFSETTO:-0800
TZNAME:PST
DTSTART:20241103T090000
END:STANDARD
BEGIN:DAYLIGHT
TZOFFSETFROM:-0800
TZOFFSETTO:-0700
TZNAME:PDT
DTSTART:20250309T100000
END:DAYLIGHT
BEGIN:STANDARD
TZOFFSETFROM:-0700
TZOFFSETTO:-0800
TZNAME:PST
DTSTART:20251102T090000
END:STANDARD
BEGIN:DAYLIGHT
TZOFFSETFROM:-0800
TZOFFSETTO:-0700
TZNAME:PDT
DTSTART:20260308T100000
END:DAYLIGHT
BEGIN:STANDARD
TZOFFSETFROM:-0700
TZOFFSETTO:-0800
TZNAME:PST
DTSTART:20261101T090000
END:STANDARD
END:VTIMEZONE
BEGIN:VEVENT
DTSTART;TZID=America/Los_Angeles:20251028T173000
DTEND;TZID=America/Los_Angeles:20251028T190000
DTSTAMP:20260420T172338
CREATED:20250926T023643Z
LAST-MODIFIED:20250926T023643Z
UID:10000090-1761672600-1761678000@bcoregon.org
SUMMARY:Navigating Special Education / Navegando la Educación Especial
DESCRIPTION:Navigating Special Education: IDEA\, IEPs & Communicating with Your School Team \n📅 October 28\, 2025 | 🕠 5:30–7:00 PM\n📍 1017 N. Riverside Ave\, Medford\, OR \nJoin us for a free\, in-person training designed to support families navigating the special education system. Whether you’re new to special education or looking to build your confidence\, this session will help you: \n\nUnderstand the key principles of IDEA (Individuals with Disabilities Education Act)\nCommunicate more effectively with your school team\nFeel prepared for your next IEP meeting\n\n🌟 Everyone is welcome—come learn\, connect\, and feel supported.\n👉 Register here: https://forms.gle/r69Hi3mfmbcM1TX28 \nHosted by FACT Oregon in partnership with The Arc Jackson County\, Autism Society Oregon\, and Bridging Communities. Interpretation services are available upon request. \n\n \nNavegando la Educación Especial: IDEA\, IEPs & Comunicado con tu Grupo Escolar \n📅 28 de Octubre de 2025 | 🕠 5:30–7:00 p.m.\n📍 1017 N. Riverside Ave\, Medford\, OR \nÚnase a nosotros para una capacitación presencial gratuita diseñada para apoyar a las familias que navegan por el sistema de educación especial. Ya sea que sea nuevo en educación especial o que busque fortalecer su confianza\, esta sesión le ayudará a: \n\nComprender los principios clave de IDEA (Ley de Educación para Individuos con Discapacidades)\nComunicarse de manera más efectiva con el equipo escolar\nSentirse preparado para su próxima reunión del IEP\n\n🌟 Todos son bienvenidos: vengan a aprender\, conectar y sentirse apoyados.\n👉 Regístrese aquí: https://forms.gle/r69Hi3mfmbcM1TX28 \nOrganizado por FACT Oregon en colaboración con The Arc Jackson County\, Autism Society Oregon y Bridging Communities. Servicios de interpretación están disponibles bajo petición.
URL:https://bcoregon.org/event/navigating-special-education-navegando-la-educacion-especial-2/
LOCATION:Bridging Communities\, 1017 N Riverside Ave\, Medford\, OR\, 97501\, United States
END:VEVENT
BEGIN:VEVENT
DTSTART;TZID=America/Los_Angeles:20251028T180000
DTEND;TZID=America/Los_Angeles:20251028T200000
DTSTAMP:20260420T172338
CREATED:20250926T045507Z
LAST-MODIFIED:20251107T211301Z
UID:10000096-1761674400-1761681600@bcoregon.org
SUMMARY:Ashland Learning Differences Parent Support Group / Ashland Diferencias de Aprendizaje - Grupo de apoyo para padres
DESCRIPTION:📍 New Location Alert! / ¡Nueva ubicación! \nThe Ashland Learning Differences Parent Support Group has a new home! We’re excited to welcome you to our updated space — same great support\, now in a fresh location. Be sure to check the details below and join us for connection\, conversation\, and community. \nEl Ashland Diferencias de Aprendizaje – Grupo de apoyo para padres tiene una nueva sede. Nos complace darles la bienvenida a nuestro espacio renovado: el mismo excelente apoyo\, ahora en una nueva ubicación. Consulten los detalles a continuación y acompáñennos para conectar\, conversar y formar parte de nuestra comunidad. \n \n\n🌟 Ashland Learning Differences Parent Support Group 🌟 \nAre you a parent seeking support and understanding? You’re not alone! \nJoin us every fourth Tuesday from 6:00 – 8:00 pm at the Ashland Family YMCA for our Parent Support Group. Connect with other parents\, share your experiences\, and find a safe\, welcoming space to navigate the journey of raising neurodiverse children. \n💬 Open Discussions🤝 Supportive Connections🏠 Safe & Welcoming Environment \n✨ Spanish support available upon request! \nLearn more from our parent leader\, Kelly\, at 👉 kellyawdale.wixsite.com/ashlandldsg \n📅 Mark your calendar and join us! We can’t wait to meet you! \n\n  \n🌟 Ashland Diferencias de Aprendizaje – Grupo de apoyo para padres🌟 \n¿Es usted un padre que busca apoyo y comprensión? ¡No está solo! \nÚnase a nosotros cada cuarto martes de 6:00 a 8:00 p. m. en la Ashland Family YMCA para nuestro Grupo de Apoyo para Padres. Conéctese con otros padres\, comparta sus experiencias y encuentre un espacio seguro y acogedor para recorrer el camino de criar niños con neurodiversidad. \n💬 Discusiones abiertas\n🤝 Conexiones de apoyo\n🏠 Entorno seguro y acogedor \n✨ ¡Asistencia en español disponible a pedido! \nObtenga más información de nuestra líder de padres\, Kelly\, en 👉 kellyawdale.wixsite.com/ashlandldsg \n📅 ¡Marque su calendario y únase a nosotros! ¡Estamos ansiosos por conocerlo!
URL:https://bcoregon.org/event/ashland-learning-differences-parent-support-group-ashland-diferencias-de-aprendizaje-grupo-de-apoyo-para-padres-8/
LOCATION:Ashland Family YMCA\, 540 YMCA Way\, Ashland\, 97520\, United States
CATEGORIES:Support Groups
ATTACH;FMTTYPE=image/png:https://bcoregon.org/wp-content/uploads/2025/09/ALDSG-Eng.-12.png
END:VEVENT
END:VCALENDAR