BEGIN:VCALENDAR
VERSION:2.0
PRODID:-//Bridging Communities - ECPv6.15.20//NONSGML v1.0//EN
CALSCALE:GREGORIAN
METHOD:PUBLISH
X-WR-CALNAME:Bridging Communities
X-ORIGINAL-URL:https://bcoregon.org
X-WR-CALDESC:Events for Bridging Communities
REFRESH-INTERVAL;VALUE=DURATION:PT1H
X-Robots-Tag:noindex
X-PUBLISHED-TTL:PT1H
BEGIN:VTIMEZONE
TZID:America/Los_Angeles
BEGIN:DAYLIGHT
TZOFFSETFROM:-0800
TZOFFSETTO:-0700
TZNAME:PDT
DTSTART:20240310T100000
END:DAYLIGHT
BEGIN:STANDARD
TZOFFSETFROM:-0700
TZOFFSETTO:-0800
TZNAME:PST
DTSTART:20241103T090000
END:STANDARD
BEGIN:DAYLIGHT
TZOFFSETFROM:-0800
TZOFFSETTO:-0700
TZNAME:PDT
DTSTART:20250309T100000
END:DAYLIGHT
BEGIN:STANDARD
TZOFFSETFROM:-0700
TZOFFSETTO:-0800
TZNAME:PST
DTSTART:20251102T090000
END:STANDARD
BEGIN:DAYLIGHT
TZOFFSETFROM:-0800
TZOFFSETTO:-0700
TZNAME:PDT
DTSTART:20260308T100000
END:DAYLIGHT
BEGIN:STANDARD
TZOFFSETFROM:-0700
TZOFFSETTO:-0800
TZNAME:PST
DTSTART:20261101T090000
END:STANDARD
END:VTIMEZONE
BEGIN:VEVENT
DTSTART;TZID=America/Los_Angeles:20251015T100000
DTEND;TZID=America/Los_Angeles:20251015T120000
DTSTAMP:20260420T220351
CREATED:20250926T043806Z
LAST-MODIFIED:20250926T043806Z
UID:10000082-1760522400-1760529600@bcoregon.org
SUMMARY:Café y Comunidad - presenta los Servicios para Discapacidades del Desarrollo del Condado de Jackson / Café y Comunidad – featuring Jackson County Developmental Disability Services
DESCRIPTION:Acompáñenos a Café y Comunidad\, un grupo de apoyo mensual para padres y cuidadores de niños con discapacidades. Este es un espacio acogedor para compartir recursos\, hacer preguntas y conectar con otras personas que comparten su misma experiencia. ¡No está solo\, estamos aquí para usted!\n\nEste Octubre\, nos complace dar la bienvenida a Moisés y Erlinda\, del Departamento de Discapacidades del Desarrollo (DD)\, del Condado de Jackson. Nos acompañarán para compartir más sobre los servicios y apoyos que su departamento ofrece a las personas con discapacidad y sus familias. ¡Ven a aprender\, a hacer preguntas y a conectar!\n\n Cuándo: Tercer Miércoles de cada mes Hora: 10:00 a.m. a 12:00 p.m. En persona: Bridging Communities – 1017 N Riverside Ave\, Medford\, OR Opción virtual por Zoom ID de la reunión: 881 2695 7990 Código de acceso: cafecito Este evento se realiza en español y está abierto a familias de toda la comunidad.\n\nJuntos\, aprenderemos\, compartiremos y nos apoyaremos mutuamente.¡Te esperamos!\n\n¿Preguntas? Contáctenos en info@bcoregon.org o al (458) 278-0697.————————————————————————————————————————————————————–\nJoin us for Café y Comunidad\, a monthly support group for parents and caregivers of children experiencing disabilities. This is a welcoming space to share resources\, ask questions\, and connect with others walking similar paths. You’re not alone—we’re here for you!\n\nThis October\, we’re excited to welcome Moisés and Erlinda from Jackson County Developmental Disabilities (DD) Services\, who will join us to share more about the services and supports their department provides for individuals with disabilities and their families. Come learn\, ask questions\, and make connections!\n\n When: 3rd Wednesday of every month Time: 10:00 AM – 12:00 PM In Person: Bridging Communities – 1017 N Riverside Ave\, Medford\, OR Virtual Option via Zoom Meeting ID: 881 2695 7990 Passcode: cafecito This event is held in Spanish and is open to families throughout the community.\n\nTogether\, we’ll learn\, share\, and support one another.We look forward to seeing you!\n\nQuestions? Contact us at info@bcoregon.org or (458) 278-0697
URL:https://bcoregon.org/event/cafe-y-comunidad-presenta-los-servicios-para-discapacidades-del-desarrollo-del-condado-de-jackson-cafe-y-comunidad-featuring-jackson-county-developmental-disability-services/
LOCATION:Bridging Communities\, 1017 N Riverside Ave\, Medford\, OR\, 97501\, United States
CATEGORIES:Support Groups
END:VEVENT
END:VCALENDAR