BEGIN:VCALENDAR
VERSION:2.0
PRODID:-//Bridging Communities - ECPv6.15.20//NONSGML v1.0//EN
CALSCALE:GREGORIAN
METHOD:PUBLISH
X-ORIGINAL-URL:https://bcoregon.org
X-WR-CALDESC:Events for Bridging Communities
REFRESH-INTERVAL;VALUE=DURATION:PT1H
X-Robots-Tag:noindex
X-PUBLISHED-TTL:PT1H
BEGIN:VTIMEZONE
TZID:America/Los_Angeles
BEGIN:DAYLIGHT
TZOFFSETFROM:-0800
TZOFFSETTO:-0700
TZNAME:PDT
DTSTART:20240310T100000
END:DAYLIGHT
BEGIN:STANDARD
TZOFFSETFROM:-0700
TZOFFSETTO:-0800
TZNAME:PST
DTSTART:20241103T090000
END:STANDARD
BEGIN:DAYLIGHT
TZOFFSETFROM:-0800
TZOFFSETTO:-0700
TZNAME:PDT
DTSTART:20250309T100000
END:DAYLIGHT
BEGIN:STANDARD
TZOFFSETFROM:-0700
TZOFFSETTO:-0800
TZNAME:PST
DTSTART:20251102T090000
END:STANDARD
BEGIN:DAYLIGHT
TZOFFSETFROM:-0800
TZOFFSETTO:-0700
TZNAME:PDT
DTSTART:20260308T100000
END:DAYLIGHT
BEGIN:STANDARD
TZOFFSETFROM:-0700
TZOFFSETTO:-0800
TZNAME:PST
DTSTART:20261101T090000
END:STANDARD
END:VTIMEZONE
BEGIN:VEVENT
DTSTART;TZID=America/Los_Angeles:20250917T100000
DTEND;TZID=America/Los_Angeles:20250917T120000
DTSTAMP:20260423T044255
CREATED:20250818T194737Z
LAST-MODIFIED:20250818T195246Z
UID:10000076-1758103200-1758110400@bcoregon.org
SUMMARY:Café y Comunidad – presentando a The Arc del Condado de Jackson / Café y Comunidad – featuring The Arc Jackson County
DESCRIPTION:Café y Comunidad – presentando a The Arc del Condado de Jackson \n📅 17 de Septiembre de 2025\n🕙 10:00 a. m. a 12:00 p. m.\n📍 Bridging Communities \n¡Únase a nuestro grupo mensual de apoyo para padres\, Café y Comunidad! Este mes\, nos complace dar la bienvenida a Miriam de The Arc del Condado de Jackson como nuestra invitada especial. \n☕ Durante la primera hora (10:00 a.m. a 11:00 a.m.)\, nos reuniremos como de costumbre para disfrutar de un café y pan\, y para conectar con otros padres y cuidadores. Comparta historias\, haga preguntas y siéntase apoyado. \n📣 En la segunda hora (11:00 p. m. a 12:00 p. m.)\, Miriam hablará sobre los programas y servicios que The Arc del Condado de Jackson ofrece para personas con discapacidades intelectuales y del desarrollo y sus familias. Tendrá la oportunidad de hacer preguntas y obtener más información sobre cómo The Arc puede apoyar a su familia. \n🎉 Hay cuidado de niños disponible a solicitud; envíenos un correo electrónico a brittany@bcoregon.org. Ven a conectar\, aprender y crecer juntos. ¡Nos encantaría verte allí! \n\nCafé y Comunidad – featuring The Arc Jackson County\n \n📅 September 17\, 2025\n 🕙 10:00 AM – 12:00 PM\n 📍 Bridging Communities \nJoin us for our monthly parent support group\, Cafe y Comunidad! This month\, we’re excited to welcome Miriam from The Arc Jackson County as our special guest. \n☕ During the first hour (10–11 AM)\, we’ll gather as usual to enjoy cafe and pan\, and time to connect with other parents and caregivers. Share stories\, ask questions\, and feel supported. \n📣 In the second hour (11–12 PM)\, Miriam will share about the programs and services The Arc Jackson County offers for individuals with intellectual and developmental disabilities and their families. You’ll have a chance to ask questions and learn more about how The Arc can support your family. \n🗣️ This support group and resource presentation will be conducted entirely in Spanish. \n🎉 Childcare is available upon request —please send us an email to brittany@bcoregon.org. \nCome connect\, learn\, and grow together. We’d love to see you there!
URL:https://bcoregon.org/event/cafe-y-comunidad-presentando-a-the-arc-del-condado-de-jackson-cafe-y-comunidad-featuring-the-arc-jackson-county/
LOCATION:Bridging Communities\, 1017 N Riverside Ave\, Medford\, OR\, 97501\, United States
END:VEVENT
END:VCALENDAR