BEGIN:VCALENDAR
VERSION:2.0
PRODID:-//Bridging Communities - ECPv6.15.20//NONSGML v1.0//EN
CALSCALE:GREGORIAN
METHOD:PUBLISH
X-ORIGINAL-URL:https://bcoregon.org
X-WR-CALDESC:Events for Bridging Communities
REFRESH-INTERVAL;VALUE=DURATION:PT1H
X-Robots-Tag:noindex
X-PUBLISHED-TTL:PT1H
BEGIN:VTIMEZONE
TZID:America/Los_Angeles
BEGIN:DAYLIGHT
TZOFFSETFROM:-0800
TZOFFSETTO:-0700
TZNAME:PDT
DTSTART:20240310T100000
END:DAYLIGHT
BEGIN:STANDARD
TZOFFSETFROM:-0700
TZOFFSETTO:-0800
TZNAME:PST
DTSTART:20241103T090000
END:STANDARD
BEGIN:DAYLIGHT
TZOFFSETFROM:-0800
TZOFFSETTO:-0700
TZNAME:PDT
DTSTART:20250309T100000
END:DAYLIGHT
BEGIN:STANDARD
TZOFFSETFROM:-0700
TZOFFSETTO:-0800
TZNAME:PST
DTSTART:20251102T090000
END:STANDARD
BEGIN:DAYLIGHT
TZOFFSETFROM:-0800
TZOFFSETTO:-0700
TZNAME:PDT
DTSTART:20260308T100000
END:DAYLIGHT
BEGIN:STANDARD
TZOFFSETFROM:-0700
TZOFFSETTO:-0800
TZNAME:PST
DTSTART:20261101T090000
END:STANDARD
END:VTIMEZONE
BEGIN:VEVENT
DTSTART;TZID=America/Los_Angeles:20250814T173000
DTEND;TZID=America/Los_Angeles:20250814T193000
DTSTAMP:20260423T092927
CREATED:20250730T023949Z
LAST-MODIFIED:20250730T023949Z
UID:10000074-1755192600-1755199800@bcoregon.org
SUMMARY:Ready\, Set\, Share! / ¡Preparados\, listos\, a compartir!
DESCRIPTION:Join us for a free\, hands-on workshop where you’ll create something meaningful to help others better understand and support your child. You’ll leave with a completed page that highlights your child’s strengths\, personality\, preferences\, and support needs—ready to share with teachers\, after-school staff\, coaches\, or community programs. \nThis event is designed as a follow-up to the helpful information shared by our partners at FACT Oregon and Central Oregon Disability Support Network (CODSN). We are proud to be partnering with CODSN to bring this opportunity to families in our community. \nTogether\, we’ll turn what you know about your child into a simple and powerful tool to help them thrive in every environment. \n🍎 Light snacks and refreshments will be provided🧸 Free child care available \n🔗 Register here: https://forms.gle/DqMWbmAedHAvVL6v8 \nSpace is limited and registration is required—don’t wait to save your spot! \n\nAcompáñenos en un taller práctico y gratuito donde creará algo significativo para ayudar a otros a comprender y apoyar mejor a su hijo. Saldrá con una página completa que destaca las fortalezas\, la personalidad\, las preferencias y las necesidades de apoyo de su hijo\, lista para compartir con maestros\, personal de actividades extraescolares\, entrenadores o programas comunitarios. \nEste evento está diseñado como seguimiento de la información útil compartida por nuestros socios de FACT Oregon y la Red de Apoyo para Discapacitados de Oregon Central (CODSN). Nos enorgullece colaborar con CODSN para brindar esta oportunidad a las familias de nuestra comunidad. \nJuntos\, convertiremos lo que sabe sobre su hijo en una herramienta sencilla y eficaz para ayudarlo a prosperar en cualquier entorno. \n🍎 Se ofrecerán refrigerios y bebidas\n🧸 Cuidado infantil gratuito disponible \n🔗 Regístrese aquí: https://forms.gle/DqMWbmAedHAvVL6v8 \nEl cupo es limitado y es necesario registrarse. ¡No espere para reservar su lugar!
URL:https://bcoregon.org/event/ready-set-share-preparados-listos-a-compartir/
LOCATION:Living Opportunities\, 1017 N Riverside Ave\, Medford\, OR\, 97501\, United States
END:VEVENT
END:VCALENDAR