BEGIN:VCALENDAR
VERSION:2.0
PRODID:-//Bridging Communities - ECPv6.15.20//NONSGML v1.0//EN
CALSCALE:GREGORIAN
METHOD:PUBLISH
X-ORIGINAL-URL:https://bcoregon.org
X-WR-CALDESC:Events for Bridging Communities
REFRESH-INTERVAL;VALUE=DURATION:PT1H
X-Robots-Tag:noindex
X-PUBLISHED-TTL:PT1H
BEGIN:VTIMEZONE
TZID:America/Los_Angeles
BEGIN:DAYLIGHT
TZOFFSETFROM:-0800
TZOFFSETTO:-0700
TZNAME:PDT
DTSTART:20240310T100000
END:DAYLIGHT
BEGIN:STANDARD
TZOFFSETFROM:-0700
TZOFFSETTO:-0800
TZNAME:PST
DTSTART:20241103T090000
END:STANDARD
BEGIN:DAYLIGHT
TZOFFSETFROM:-0800
TZOFFSETTO:-0700
TZNAME:PDT
DTSTART:20250309T100000
END:DAYLIGHT
BEGIN:STANDARD
TZOFFSETFROM:-0700
TZOFFSETTO:-0800
TZNAME:PST
DTSTART:20251102T090000
END:STANDARD
BEGIN:DAYLIGHT
TZOFFSETFROM:-0800
TZOFFSETTO:-0700
TZNAME:PDT
DTSTART:20260308T100000
END:DAYLIGHT
BEGIN:STANDARD
TZOFFSETFROM:-0700
TZOFFSETTO:-0800
TZNAME:PST
DTSTART:20261101T090000
END:STANDARD
END:VTIMEZONE
BEGIN:VEVENT
DTSTART;TZID=America/Los_Angeles:20250807T090000
DTEND;TZID=America/Los_Angeles:20250807T110000
DTSTAMP:20260423T092433
CREATED:20250708T034717Z
LAST-MODIFIED:20250708T034717Z
UID:10000067-1754557200-1754564400@bcoregon.org
SUMMARY:Parent Coffee / Café para padres
DESCRIPTION:☕️ Parent Coffee: Connect & Recharge! ☕️ \nNeed a break? Want to chat with other parents who share similar experiences? Looking for support and resources? Join us at Parent Coffee! \n🗓 When: 1st Thursday of every month\, 9am – 11am📍Where: Black Rock Coffee Bar\, Medford\, OR \nCome as you are! Whether you need a listening ear\, advice\, or just a warm cup of coffee\, we’re here for you. Let’s build community\, share experiences\, and support each other. ❤️ \n// \n☕️ Café para padres: ¡Conéctate y recarga energías! ☕️ \n¿Necesitas un descanso? ​​¿Quieres conversar con otros padres que comparten experiencias similares? ¿Buscas apoyo y recursos? ¡Únete a nosotros en el Café para padres! \n🗓 Cuándo: el primer jueves de cada mes\, de 9:00 a.m. a 11:00 a.m.\n📍Dónde: Black Rock Coffee Bar\, Medford\, OR \n¡Ven tal como eres! Ya sea que necesites que te escuchen\, un consejo o simplemente una taza de café caliente\, estamos aquí para ti. Construyamos una comunidad\, compartamos experiencias y apoyémonos mutuamente. ❤️
URL:https://bcoregon.org/event/parent-coffee-cafe-para-padres-6/
LOCATION:Black Rock Coffee Bar\, 151 Rossanley Dr. #101\, Medford\, OR\, 97501\, United States
END:VEVENT
BEGIN:VEVENT
DTSTART;TZID=America/Los_Angeles:20250807T190000
DTEND;TZID=America/Los_Angeles:20250807T200000
DTSTAMP:20260423T092433
CREATED:20250617T031944Z
LAST-MODIFIED:20250617T031944Z
UID:10000060-1754593200-1754596800@bcoregon.org
SUMMARY:Book Club: Being Heumann / Club de lectura: Being Heumann
DESCRIPTION:📚 Book Club: Being Heumann👥 Hosted by The Arc Jackson County & Bridging Communities \n🗓 Date: Thursday\, August 7\, 2025⏰ Time: 7:00 PM📍 Location: Online via Zoom \nIn honor of Disability Pride Month 🧡♿\, join us for a community book club as we read Being Heumann — the inspiring memoir of Judith Heumann\, a powerful disability rights advocate who helped spark a global movement for inclusion and accessibility. \nTogether\, we’ll explore Judy’s journey to advocacy and the ongoing fight for the civil rights of people with disabilities. This book club is open to all and includes both virtual and in-person participation options. For this session\, we’ll be meeting virtually on Zoom 💻. \n🌐 Please Note:Being Heumann is currently only available in English. We recognize the importance of language access and hope to offer future book club selections in additional languages to better reflect and serve our diverse community 💬🌎. \n📬 Questions?Email us at info@bcoregon.org or call (458) 278-0697. \nLet’s read\, reflect\, and connect — together! ✨📖💬 \n\n📚 Club de lectura: Being Heumann\n👥 Organizado por The Arc Jackson County y Bridging Communities \n🗓 Fecha: Jueves\, 7 de Agosto de 2025\n⏰ Hora: 7:00 p.m.\n📍 Lugar: En línea por Zoom \nEn honor al Mes del Orgullo por la Discapacidad 🧡♿\, únete a nuestro club de lectura comunitario y lee Being Heumann\, las inspiradoras memorias de Judith Heumann\, una influyente defensora de los derechos de las personas con discapacidad que impulsó un movimiento global por la inclusión y la accesibilidad. \nJuntos\, exploraremos la trayectoria de Judy en la defensa de los derechos civiles de las personas con discapacidad y su lucha continua por los derechos civiles. Este club de lectura está abierto a todos e incluye opciones de participación tanto virtuales como presenciales. Para esta sesión\, nos reuniremos virtualmente por Zoom 💻. \n🌐 Nota:\nBeing Heumann actualmente solo está disponible en Inglés. Reconocemos la importancia del acceso a idiomas y esperamos ofrecer futuras selecciones del club de lectura en otros idiomas para reflejar y servir mejor a nuestra diversa comunidad. 💬🌎. \n📬 ¿Preguntas?\nEnvíanos un correo electrónico a info@bcoregon.org o llama al (458) 278-0697. \n¡Leamos\, reflexionemos y conectemos juntos! ✨📖💬
URL:https://bcoregon.org/event/book-club-being-heumann-club-de-lectura-being-heumann-3/
LOCATION:OR
END:VEVENT
END:VCALENDAR