BEGIN:VCALENDAR
VERSION:2.0
PRODID:-//Bridging Communities - ECPv6.15.20//NONSGML v1.0//EN
CALSCALE:GREGORIAN
METHOD:PUBLISH
X-WR-CALNAME:Bridging Communities
X-ORIGINAL-URL:https://bcoregon.org
X-WR-CALDESC:Events for Bridging Communities
REFRESH-INTERVAL;VALUE=DURATION:PT1H
X-Robots-Tag:noindex
X-PUBLISHED-TTL:PT1H
BEGIN:VTIMEZONE
TZID:America/Los_Angeles
BEGIN:DAYLIGHT
TZOFFSETFROM:-0800
TZOFFSETTO:-0700
TZNAME:PDT
DTSTART:20240310T100000
END:DAYLIGHT
BEGIN:STANDARD
TZOFFSETFROM:-0700
TZOFFSETTO:-0800
TZNAME:PST
DTSTART:20241103T090000
END:STANDARD
BEGIN:DAYLIGHT
TZOFFSETFROM:-0800
TZOFFSETTO:-0700
TZNAME:PDT
DTSTART:20250309T100000
END:DAYLIGHT
BEGIN:STANDARD
TZOFFSETFROM:-0700
TZOFFSETTO:-0800
TZNAME:PST
DTSTART:20251102T090000
END:STANDARD
BEGIN:DAYLIGHT
TZOFFSETFROM:-0800
TZOFFSETTO:-0700
TZNAME:PDT
DTSTART:20260308T100000
END:DAYLIGHT
BEGIN:STANDARD
TZOFFSETFROM:-0700
TZOFFSETTO:-0800
TZNAME:PST
DTSTART:20261101T090000
END:STANDARD
END:VTIMEZONE
BEGIN:VEVENT
DTSTART;VALUE=DATE:20250620
DTEND;VALUE=DATE:20250621
DTSTAMP:20260423T180120
CREATED:20250603T032055Z
LAST-MODIFIED:20250603T032055Z
UID:10000051-1750377600-1750463999@bcoregon.org
SUMMARY:Book Club: Being Heumann / Club de lectura: Being Heumann
DESCRIPTION:Book Club: Being Heumann \nJoin The Arc Jackson County and Bridging Communities as we celebrate Disability Pride Month by reading Being Heumann — the inspiring memoir of Judy Heumann\, a fierce advocate who helped pave the way for the disability rights movement. \nTogether\, we’ll learn about her powerful journey to advocacy and the fight to protect the civil rights of people with disabilities. This book club is open to everyone and includes virtual and in-person options so you can join in the way that works best for you. \n📝 Register here by June 20:https://forms.gle/5a2FZZP93fU5a3vr9 \n🌍 Please note:Unfortunately\, Being Heumann is only available in English. We apologize for any inconvenience and hope to host a future book club with a title available in additional languages to better reflect and serve our diverse community. \n📬 Questions? Contact us at info@bcoregon.org or (458) 278-0697. \nLet’s read\, reflect\, and connect—together! 🌟 \n\nClub de lectura: Being Heumann \nÚnete a The Arc Jackson County y a Bridging Communities para celebrar el Mes del Orgullo por la Discapacidad leyendo Being Heumann\, las inspiradoras memorias de Judy Heumann\, una férrea defensora que ayudó a sentar las bases del movimiento por los derechos de las personas con discapacidad. \nJuntos\, aprenderemos sobre su poderosa trayectoria en la defensa de los derechos civiles de las personas con discapacidad. Este club de lectura está abierto a todos e incluye opciones virtuales y presenciales para que puedas unirte de la forma que mejor te convenga. \n📝 Regístrate aquí antes del 20 de Junio:\nhttps://forms.gle/5a2FZZP93fU5a3vr9 \n🌍 Nota:\nLamentablemente\, Being Heumann solo está disponible en Inglés. Disculpas por cualquier inconveniente y esperamos organizar un futuro club de lectura con un título disponible en otros idiomas para reflejar y servir mejor a nuestra diversa comunidad. \n📬 ¿Preguntas? Contáctanos en info@bcoregon.org o al (458) 278-0697. \n¡Leamos\, reflexionemos y conectemos juntos! 🌟
URL:https://bcoregon.org/event/book-club-being-heumann-club-de-lectura-being-heumann/
LOCATION:OR
END:VEVENT
END:VCALENDAR