BEGIN:VCALENDAR
VERSION:2.0
PRODID:-//Bridging Communities - ECPv6.15.20//NONSGML v1.0//EN
CALSCALE:GREGORIAN
METHOD:PUBLISH
X-ORIGINAL-URL:https://bcoregon.org
X-WR-CALDESC:Events for Bridging Communities
REFRESH-INTERVAL;VALUE=DURATION:PT1H
X-Robots-Tag:noindex
X-PUBLISHED-TTL:PT1H
BEGIN:VTIMEZONE
TZID:America/Los_Angeles
BEGIN:DAYLIGHT
TZOFFSETFROM:-0800
TZOFFSETTO:-0700
TZNAME:PDT
DTSTART:20240310T100000
END:DAYLIGHT
BEGIN:STANDARD
TZOFFSETFROM:-0700
TZOFFSETTO:-0800
TZNAME:PST
DTSTART:20241103T090000
END:STANDARD
BEGIN:DAYLIGHT
TZOFFSETFROM:-0800
TZOFFSETTO:-0700
TZNAME:PDT
DTSTART:20250309T100000
END:DAYLIGHT
BEGIN:STANDARD
TZOFFSETFROM:-0700
TZOFFSETTO:-0800
TZNAME:PST
DTSTART:20251102T090000
END:STANDARD
BEGIN:DAYLIGHT
TZOFFSETFROM:-0800
TZOFFSETTO:-0700
TZNAME:PDT
DTSTART:20260308T100000
END:DAYLIGHT
BEGIN:STANDARD
TZOFFSETFROM:-0700
TZOFFSETTO:-0800
TZNAME:PST
DTSTART:20261101T090000
END:STANDARD
END:VTIMEZONE
BEGIN:VEVENT
DTSTART;TZID=America/Los_Angeles:20250613T173000
DTEND;TZID=America/Los_Angeles:20250613T193000
DTSTAMP:20260423T180531
CREATED:20250515T194911Z
LAST-MODIFIED:20250515T194911Z
UID:10000045-1749835800-1749843000@bcoregon.org
SUMMARY:All In! Adapted Swimming Event / ¡Todo incluido! Evento de natación adaptada
DESCRIPTION:Join us for a fun-filled evening of swimming\, music\, and connection – made for people of all abilities! This is a FREE event\, and we’d love to see you there. \n\n Date: Friday\, June 13\, 2025 Time: 5:30 PM – 7:30 PM Location: Daniel Meyer Memorial Pool1705 Homes Avenue\, Ashland\, OR 97520\n\n What to expect: Live DJ Frozen treats Facilitated fun and games with pool staff\n\nPre-registration is requested to help us plan for a safe and inclusive experience. Register here: https://or-ashland.civicplus.com/…/Register-for-an…\n\nBring your swimsuit\, smiles\, and come enjoy a night of community fun! \n\nHosted by Ashland Parks & Rec\, Autism Society of Oregon\, and Bridging Communities.\n\nQuestions? Contact us at info@bcoregon.org.\n————————–\nAcompáñanos a una noche llena de diversión\, natación\, música y conexión\, ¡ideal para personas de todas las capacidades! Este evento es GRATUITO y nos encantaría verte allí. \n\n Fecha: Viernes\, 13 de Junio de 2025 Hora: 5:30 a 7:30 p.m. Ubicación: Piscina Daniel Meyer1705 Homes Avenue\, Ashland\, OR 97520\n\n Qué esperar: DJ en vivo Postres helados Diversión y juegos con el personal de la piscina\n\nSe requiere preinscripción para ayudarnos a planificar una experiencia segura e inclusiva.\n Regístrate aquí: https://or-ashland.civicplus.com/…/Register-for-an…\n\n¡Trae tu traje de baño\, sonrisas y ven a disfrutar de una noche de diversión en comunidad! \n\nOrganizado por Parques y Recreación de Ashland\, la Sociedad de Autismo de Oregón y Bridging Communities.\n\n¿Preguntas? Contáctanos en info@bcoregon.org
URL:https://bcoregon.org/event/all-in-adapted-swimming-event-todo-incluido-evento-de-natacion-adaptada/
LOCATION:OR
END:VEVENT
END:VCALENDAR