BEGIN:VCALENDAR
VERSION:2.0
PRODID:-//Bridging Communities - ECPv6.15.20//NONSGML v1.0//EN
CALSCALE:GREGORIAN
METHOD:PUBLISH
X-WR-CALNAME:Bridging Communities
X-ORIGINAL-URL:https://bcoregon.org
X-WR-CALDESC:Events for Bridging Communities
REFRESH-INTERVAL;VALUE=DURATION:PT1H
X-Robots-Tag:noindex
X-PUBLISHED-TTL:PT1H
BEGIN:VTIMEZONE
TZID:America/Los_Angeles
BEGIN:DAYLIGHT
TZOFFSETFROM:-0800
TZOFFSETTO:-0700
TZNAME:PDT
DTSTART:20240310T100000
END:DAYLIGHT
BEGIN:STANDARD
TZOFFSETFROM:-0700
TZOFFSETTO:-0800
TZNAME:PST
DTSTART:20241103T090000
END:STANDARD
BEGIN:DAYLIGHT
TZOFFSETFROM:-0800
TZOFFSETTO:-0700
TZNAME:PDT
DTSTART:20250309T100000
END:DAYLIGHT
BEGIN:STANDARD
TZOFFSETFROM:-0700
TZOFFSETTO:-0800
TZNAME:PST
DTSTART:20251102T090000
END:STANDARD
BEGIN:DAYLIGHT
TZOFFSETFROM:-0800
TZOFFSETTO:-0700
TZNAME:PDT
DTSTART:20260308T100000
END:DAYLIGHT
BEGIN:STANDARD
TZOFFSETFROM:-0700
TZOFFSETTO:-0800
TZNAME:PST
DTSTART:20261101T090000
END:STANDARD
END:VTIMEZONE
BEGIN:VEVENT
DTSTART;TZID=America/Los_Angeles:20250605T090000
DTEND;TZID=America/Los_Angeles:20250605T110000
DTSTAMP:20260423T180057
CREATED:20250327T190928Z
LAST-MODIFIED:20250327T190928Z
UID:10000020-1749114000-1749121200@bcoregon.org
SUMMARY:Parent Coffee / Café para padres
DESCRIPTION:☕️ Parent Coffee: Connect & Recharge! ☕️ \nNeed a break? Want to chat with other parents who share similar experiences? Looking for support and resources? Join us at Parent Coffee! \n🗓 When: 1st Thursday of every month\, 9am – 11am📍Where: Black Rock Coffee Bar\, Medford\, OR \nCome as you are! Whether you need a listening ear\, advice\, or just a warm cup of coffee\, we’re here for you. Let’s build community\, share experiences\, and support each other. ❤️ \n// \n☕️ Café para padres: ¡Conéctate y recarga energías! ☕️ \n¿Necesitas un descanso? ​​¿Quieres conversar con otros padres que comparten experiencias similares? ¿Buscas apoyo y recursos? ¡Únete a nosotros en el Café para padres! \n🗓 Cuándo: el primer jueves de cada mes\, de 9:00 a.m. a 11:00 a.m.\n📍Dónde: Black Rock Coffee Bar\, Medford\, OR \n¡Ven tal como eres! Ya sea que necesites que te escuchen\, un consejo o simplemente una taza de café caliente\, estamos aquí para ti. Construyamos una comunidad\, compartamos experiencias y apoyémonos mutuamente. ❤️
URL:https://bcoregon.org/event/parent-coffee-cafe-para-padres-4/
LOCATION:Black Rock Coffee Bar\, 151 Rossanley Dr. #101\, Medford\, OR\, 97501\, United States
END:VEVENT
BEGIN:VEVENT
DTSTART;TZID=America/Los_Angeles:20250605T180000
DTEND;TZID=America/Los_Angeles:20250605T193000
DTSTAMP:20260423T180057
CREATED:20250527T211833Z
LAST-MODIFIED:20250527T211833Z
UID:10000046-1749146400-1749151800@bcoregon.org
SUMMARY:Abogacía de la Atención Médica Y Más que una carta: Perfil de una Página para los Espacios Médicos  /  Healthcare Advocacy & More than a Chart: One Page Profiles for the Medical Setting in Spanish
DESCRIPTION: Capacitación gratuita en Español: Defensa de la salud y más que un cuadro: Perfiles de una página para el ámbito médico\nÚnase a Familias en Conexión\, The Arc Lane County\, OHSU y Bridging Communities para una capacitación gratuita y familiar\, diseñada para ayudarle a sentirse más seguro al abordar la atención médica de su hijo.\n\nEn esta sesión\, aprenderá: Cómo comunicarse con los proveedores y defender las necesidades de su hijo/a Cómo navegar por los sistemas de salud que utiliza su hijo/a Una herramienta útil: Perfiles de una página para entornos médicos: una forma positiva y respetuosa de presentar a su hijo/a y compartir información importante sobre su salud\n\n Cuándo: Jueves\, 5 de Junio de 2025 Hora: 6:00 – 7:30 p.m. Dónde: En Zoom (el enlace se enviará por correo electrónico antes del evento) Presentadora: Ana Brooks\, Centro de Información de Salud Familiar de Oregón\n Regístrate aquí: https://forms.gle/fDjHaz664duYH26Z9\n\nEsta sesión se presentará en Español.\n\n¿Preguntas? Contáctenos en info@bcoregon.org o al (458) 278-0697.\n\n¡Esperamos su participación! \n//\n Free Training in Spanish: Healthcare Advocacy & More Than a Chart – One Page Profiles for the Medical Setting\nJoin Familias en Conexión\, The Arc Lane County\, OHSU\, and Bridging Communities for a free\, family-friendly training designed to help you feel more confident navigating your child’s healthcare journey.\n\n In this session\, you’ll learn: How to communicate with providers and advocate for your child’s needs How to navigate the healthcare systems your child uses A helpful tool: One Page Profiles for medical settings – a positive and respectful way to introduce your child and share important healthcare information\n\n When: Thursday\, June 5\, 2025 Time: 6:00 PM – 7:30 PM Where: On Zoom (link will be sent by email before the event) Presenter: Ana Brooks\, Oregon Family to Family Health Information Center\n Register here: https://forms.gle/fDjHaz664duYH26Z9\n\nThis session will be presented in Spanish.\n\n Questions? Contact us at info@bcoregon.org or (458) 278-0697.\n\nWe hope you’ll join us! 
URL:https://bcoregon.org/event/abogacia-de-la-atencion-medica-y-mas-que-una-carta-perfil-de-una-pagina-para-los-espacios-medicos-healthcare-advocacy-more-than-a-chart-one-page-profiles-for-the-medical-setting-in-spanish/
LOCATION:OR
END:VEVENT
END:VCALENDAR