BEGIN:VCALENDAR
VERSION:2.0
PRODID:-//Bridging Communities - ECPv6.15.20//NONSGML v1.0//EN
CALSCALE:GREGORIAN
METHOD:PUBLISH
X-WR-CALNAME:Bridging Communities
X-ORIGINAL-URL:https://bcoregon.org
X-WR-CALDESC:Events for Bridging Communities
REFRESH-INTERVAL;VALUE=DURATION:PT1H
X-Robots-Tag:noindex
X-PUBLISHED-TTL:PT1H
BEGIN:VTIMEZONE
TZID:America/Los_Angeles
BEGIN:DAYLIGHT
TZOFFSETFROM:-0800
TZOFFSETTO:-0700
TZNAME:PDT
DTSTART:20240310T100000
END:DAYLIGHT
BEGIN:STANDARD
TZOFFSETFROM:-0700
TZOFFSETTO:-0800
TZNAME:PST
DTSTART:20241103T090000
END:STANDARD
BEGIN:DAYLIGHT
TZOFFSETFROM:-0800
TZOFFSETTO:-0700
TZNAME:PDT
DTSTART:20250309T100000
END:DAYLIGHT
BEGIN:STANDARD
TZOFFSETFROM:-0700
TZOFFSETTO:-0800
TZNAME:PST
DTSTART:20251102T090000
END:STANDARD
BEGIN:DAYLIGHT
TZOFFSETFROM:-0800
TZOFFSETTO:-0700
TZNAME:PDT
DTSTART:20260308T100000
END:DAYLIGHT
BEGIN:STANDARD
TZOFFSETFROM:-0700
TZOFFSETTO:-0800
TZNAME:PST
DTSTART:20261101T090000
END:STANDARD
END:VTIMEZONE
BEGIN:VEVENT
DTSTART;TZID=America/Los_Angeles:20250429T180000
DTEND;TZID=America/Los_Angeles:20250429T200000
DTSTAMP:20260423T191517
CREATED:20250327T201534Z
LAST-MODIFIED:20250402T012038Z
UID:10000036-1745949600-1745956800@bcoregon.org
SUMMARY:Preguntale A Susana en español / Ask Susana in Spanish
DESCRIPTION:📢 Únase a Bridging Communities y Susana Ramírez para una capacitación comprensiva y acogedora que le brindará información valiosa sobre los servicios de educación especial. 💙📚 Esta sesión se centrará en empoderar a los padres para que defiendan los derechos de sus hijos y naveguen el proceso de educación especial con confianza. ✨ \n📌 Temas a cubrir:✅ Por qué es más importante que nunca ejercer nuestros derechos y los de nuestros hijos.✅ Cómo los padres son los mejores defensores a largo plazo de sus hijos\, incluso mejores que un abogado o defensor.✅ Preguntas y respuestas sobre el proceso de educación especial. \n🗓️ Cuándo:📅 Sesión #2: Martes 29 de Abril de 2025\, 6:00 – 8:00 pm \n📍 Dónde:💻 Zoom (el enlace se enviará por correo electrónico antes del evento) \n🎤 Presentador:👩‍🏫 Susana Ramírez: Madre y defensora de la educación especial \n✍️ Inscripción obligatoria:🔗 https://forms.gle/26dRGLuS2C23xZ6F7Formulario de inscripción \n📞 Para más información\, comuníquese con Bridging Communities:📩 info@bcoregon.org | 📱 (458) 278-0697 \n// \n📢 Join Bridging Communities and Susana Ramírez for a supportive and welcoming training that will provide valuable information on special education services. 💙📚 This session will focus on empowering parents to advocate for their children’s rights and navigate the special education process with confidence. ✨ \n📌 Topics covered include:✅ Why it’s important now more than ever to exercise our rights and those of our children.✅ How parents are their children’s best long-term advocates\, even better than a lawyer or advocate.✅ Questions and answers about the special education process. \n🗓️ When:📅 Session #2: Tuesday\, April 29\, 2025\, 6:00 pm – 8:00 pm \n📍 Where:💻 Zoom (link will be sent via email prior to the event) \n🎤 Presenter:👩‍🏫 Susana Ramirez: Mother and Special Education Advocate \n✍️ Registration required:🔗 https://forms.gle/26dRGLuS2C23xZ6F7Register here \n📞 For more information\, contact Bridging Communities:📩 info@bcoregon.org | 📱 (458) 278-0697
URL:https://bcoregon.org/event/preguntale-a-susana-en-espanol-ask-susana-in-spanish-2/
LOCATION:OR
END:VEVENT
END:VCALENDAR