BEGIN:VCALENDAR
VERSION:2.0
PRODID:-//Bridging Communities - ECPv6.15.20//NONSGML v1.0//EN
CALSCALE:GREGORIAN
METHOD:PUBLISH
X-ORIGINAL-URL:https://bcoregon.org
X-WR-CALDESC:Events for Bridging Communities
REFRESH-INTERVAL;VALUE=DURATION:PT1H
X-Robots-Tag:noindex
X-PUBLISHED-TTL:PT1H
BEGIN:VTIMEZONE
TZID:America/Los_Angeles
BEGIN:DAYLIGHT
TZOFFSETFROM:-0800
TZOFFSETTO:-0700
TZNAME:PDT
DTSTART:20240310T100000
END:DAYLIGHT
BEGIN:STANDARD
TZOFFSETFROM:-0700
TZOFFSETTO:-0800
TZNAME:PST
DTSTART:20241103T090000
END:STANDARD
BEGIN:DAYLIGHT
TZOFFSETFROM:-0800
TZOFFSETTO:-0700
TZNAME:PDT
DTSTART:20250309T100000
END:DAYLIGHT
BEGIN:STANDARD
TZOFFSETFROM:-0700
TZOFFSETTO:-0800
TZNAME:PST
DTSTART:20251102T090000
END:STANDARD
BEGIN:DAYLIGHT
TZOFFSETFROM:-0800
TZOFFSETTO:-0700
TZNAME:PDT
DTSTART:20260308T100000
END:DAYLIGHT
BEGIN:STANDARD
TZOFFSETFROM:-0700
TZOFFSETTO:-0800
TZNAME:PST
DTSTART:20261101T090000
END:STANDARD
END:VTIMEZONE
BEGIN:VEVENT
DTSTART;TZID=America/Los_Angeles:20250419T100000
DTEND;TZID=America/Los_Angeles:20250419T120000
DTSTAMP:20260423T204704
CREATED:20250314T203214Z
LAST-MODIFIED:20250401T052729Z
UID:10000016-1745056800-1745064000@bcoregon.org
SUMMARY:Family Film Fun / Diversion Familiar de Película
DESCRIPTION:***Registration is now closed\, but we’d love to add you to our waitlist. Please email us at info@bcoregon.org to let us know you’re interested. ***\n\n Family Film Fun: A Special Minecraft Movie Experience! \n\nGet ready for a fun-filled morning at the movies! Join Bridging Communities for a private\, family-friendly screening of Minecraft on the big screen. This event is designed to be comfortable\, inclusive\, and welcoming for all families—so you can relax\, enjoy\, and make memories together.\n\n Date: Saturday\, April 19\, 2025 Time: 10:00 AM (Lobby opens at 9:30 AM) Location: Cinemark Tinseltown – 651 Medford Ctr\, Medford\, OR 97504\n\n What to Expect: A private movie experience in a supportive environment No trailers—the movie starts right at 10:00 AM Concessions available for purchase at full price FREE admission for families!\n\n Questions? Contact Bridging Communities at info@bcoregon.org or (458) 278-0697.\n\n//\n\n***La inscripción ya está cerrada\, pero nos encantaría agregarte a nuestra lista de espera. Envíanos un correo electrónico a info@bcoregon.org para informarnos que estás interesado.***\n\n Cine en Familia: ¡Una Experiencia Especial de Minecraft! \n\n¡Prepárense para una mañana llena de diversión en el cine! Únanse a Bridging Communities para una proyección privada y familiar de Minecraft en pantalla grande. Este evento está diseñado para ser cómodo\, inclusivo y acogedor para todas las familias\, para que puedan relajarse\, disfrutar y crear recuerdos juntos.\n\n Fecha: Sábado\, 19 de Abril de 2025 Hora: 10:00 a. m. (El vestíbulo abre a las 9:30 a. m.) Ubicación: Cinemark Tinseltown – 651 Medford Ctr\, Medford\, OR 97504\n\n Qué esperar: Una experiencia de cine privada en un ambiente acogedor Sin tráilers: la película comienza a las 10:00 a.m. Concesiones disponibles a precio completo ¡Entrada gratuita para familias!\n\n ¿Tienes preguntas? Contacta con Bridging Communities en info@bcoregon.org o al (458) 278-0697.
URL:https://bcoregon.org/event/family-film-fun-diversion-familiar-de-pelicula/
LOCATION:OR
END:VEVENT
BEGIN:VEVENT
DTSTART;TZID=America/Los_Angeles:20250419T180000
DTEND;TZID=America/Los_Angeles:20250419T193000
DTSTAMP:20260423T204704
CREATED:20250401T005307Z
LAST-MODIFIED:20250401T005307Z
UID:10000039-1745085600-1745091000@bcoregon.org
SUMMARY:Book Club: Deaf Utopia - Book End Pizza Party
DESCRIPTION:Join us for the final gathering of our Deaf Utopia Book Club! We’ve journeyed through Nyle DiMarco’s powerful memoir\, celebrating Deaf culture and the unique experiences of the Deaf community. Now it’s time to reflect and connect one last time as we wrap up the book and celebrate together! \n🗓️ Book End Pizza Party\n📍 Wild River Brewing and Pizza Co. in Medford\n🕕 April 19\, 2025 at 6:00 PM \nThis event is family-friendly\, and everyone is welcome! We encourage parents of Deaf or Hard of Hearing children to join\, but all are invited to participate. \nFacilitated by: Lauren White\, Southern Oregon Parent Guide of Hands & Voices of Oregon\, in partnership with Bridging Communities. \nHave questions? Contact Lauren at Lauren@handsandvoicesor.org or text/call at (541) 261-0823. \nLet’s celebrate Deaf culture\, the Deaf experience\, and the connections we’ve made along the way! 🙌
URL:https://bcoregon.org/event/book-club-deaf-utopia-book-end-pizza-party/
LOCATION:Wild River Pizza\, 2684 N. Pacific Hwy\, Medford\, OR\, 97501\, United States
END:VEVENT
END:VCALENDAR