BEGIN:VCALENDAR
VERSION:2.0
PRODID:-//Bridging Communities - ECPv6.15.20//NONSGML v1.0//EN
CALSCALE:GREGORIAN
METHOD:PUBLISH
X-ORIGINAL-URL:https://bcoregon.org
X-WR-CALDESC:Events for Bridging Communities
REFRESH-INTERVAL;VALUE=DURATION:PT1H
X-Robots-Tag:noindex
X-PUBLISHED-TTL:PT1H
BEGIN:VTIMEZONE
TZID:America/Los_Angeles
BEGIN:DAYLIGHT
TZOFFSETFROM:-0800
TZOFFSETTO:-0700
TZNAME:PDT
DTSTART:20240310T100000
END:DAYLIGHT
BEGIN:STANDARD
TZOFFSETFROM:-0700
TZOFFSETTO:-0800
TZNAME:PST
DTSTART:20241103T090000
END:STANDARD
BEGIN:DAYLIGHT
TZOFFSETFROM:-0800
TZOFFSETTO:-0700
TZNAME:PDT
DTSTART:20250309T100000
END:DAYLIGHT
BEGIN:STANDARD
TZOFFSETFROM:-0700
TZOFFSETTO:-0800
TZNAME:PST
DTSTART:20251102T090000
END:STANDARD
BEGIN:DAYLIGHT
TZOFFSETFROM:-0800
TZOFFSETTO:-0700
TZNAME:PDT
DTSTART:20260308T100000
END:DAYLIGHT
BEGIN:STANDARD
TZOFFSETFROM:-0700
TZOFFSETTO:-0800
TZNAME:PST
DTSTART:20261101T090000
END:STANDARD
END:VTIMEZONE
BEGIN:VEVENT
DTSTART;TZID=America/Los_Angeles:20250417T170000
DTEND;TZID=America/Los_Angeles:20250417T190000
DTSTAMP:20260423T204535
CREATED:20250327T193613Z
LAST-MODIFIED:20250416T190056Z
UID:10000026-1744909200-1744916400@bcoregon.org
SUMMARY:Ashland Learning Differences Parent Support Group / Ashland Diferencias de Aprendizaje - Grupo de apoyo para padres
DESCRIPTION:Parent Support Group – New Time & Location This Month!\n\n\n\nThis Thursday at 5:00 PM\, join us at Rogue Valley Roasting Co. for our monthly Parent Support Group!\n\n\n\nAre you raising a neurodivergent child? Come meet other parents\, share your experiences\, and build community in a safe and welcoming space.\n\n\n\n We usually meet the third Thursday of each month from 6:00 – 8:00 PM\, but this month’s group will meet an hour earlier – at 5:00 PM.\n\n\n\n Spanish support is available upon request.\n\n Learn more about our parent leader Kelly: kellyawdale.wixsite.com/ashlandldsg\n\n\n\n//\n\nGrupo de Apoyo para Padres – Nuevo Horario y Lugar este Mes\n\n\n\nEste jueves a las 5:00 PM\, acompáñenos en Rogue Valley Roasting Co. para nuestro grupo mensual de apoyo para padres.\n\n\n\n¿Está criando a un niño neurodivergente? Conéctese con otros padres\, comparta sus experiencias y encuentre apoyo en un espacio seguro y amigable.\n\n\n\n Normalmente nos reunimos el tercer jueves de cada mes de 6:00 a 8:00 PM\, pero este mes nos reuniremos una hora antes – a las 5:00 PM.\n\n\n\n Apoyo en español disponible bajo petición.\n\n Más sobre nuestra líder de padres Kelly: kellyawdale.wixsite.com/ashlandldsg
URL:https://bcoregon.org/event/ashland-learning-differences-parent-support-group-ashland-diferencias-de-aprendizaje-grupo-de-apoyo-para-padres-2/
LOCATION:Rogue Valley Roasting Co\, 917 E Main St\, Ashland\, 97520\, United States
CATEGORIES:Support Groups
END:VEVENT
BEGIN:VEVENT
DTSTART;TZID=America/Los_Angeles:20250417T190000
DTEND;TZID=America/Los_Angeles:20250417T200000
DTSTAMP:20260423T204535
CREATED:20250327T203631Z
LAST-MODIFIED:20250327T203631Z
UID:10000038-1744916400-1744920000@bcoregon.org
SUMMARY:Virtual Book Club - "Deaf Utopia" / Club de lectura virtual - "Deaf Utopía"
DESCRIPTION:🎉 Join us for an inspiring discussion of Deaf Utopia: A Memoir – and a Love Letter to a Way of Life by Nyle DiMarco. 🤟✨ This New York Times bestseller celebrates Deaf culture and offers a deeper understanding of the Deaf experience. 🌎💙 \n📖 Virtual Meetings:🗓 April 17th⏰ 7:00 – 8:00 PM \n💬 These sessions are an opportunity to discuss sections of the book\, hear from special guests\, 📢 access resources\, and connect with other parents in the Deaf community. 🏡👨‍👩‍👧‍👦 \n⚠️ Unfortunately\, this book is only available in English. We apologize for any inconvenience and would love to host a future book club 📚 where the book is available in additional languages. \n🤝 Facilitated by: Lauren White (Southern Oregon Parent Guide\, Hands & Voices of Oregon) in partnership with Bridging Communities. \n📩 Questions? Contact Lauren at 📧 Lauren@handsandvoicesor.org or 📱 call/text (541) 261-0823. \n✨ Looking forward to connecting with you! 💛 \n// \n🎉 Únase a nosotros para una inspiradora charla sobre “Utopía Sorda: Memorias y Carta de Amor a una Forma de Vida” de Nyle DiMarco. 🤟✨ Este bestseller del New York Times celebra la cultura sorda y ofrece una comprensión más profunda de la experiencia de las personas sordas. 🌎💙 \n📖 Reuniones Virtuales:🗓 17 de Abril⏰ 7:00 – 8:00 p.m. \n💬 Este club de lectura es para padres de niños sordos o con dificultades auditivas\, ¡pero todos son bienvenidos! 🏡👨‍👩‍👧‍👦 Asistir a las reuniones es opcional; 📚 recibirá una copia gratuita del libro al registrarse. \n🚨 Lamentablemente\, este libro solo está disponible en inglés. ⚠️ Disculpen las molestias y nos encantaría organizar un club de lectura en el futuro 📖 donde el libro esté disponible en otros idiomas. \n🤝 Facilitado por: Lauren White (Guía para Padres del Sur de Oregón\, Manos y Voces de Oregón) en colaboración con Bridging Communities. \n📩 ¿Preguntas? Contacte a Lauren en 📧 Lauren@handsandvoicesor.org o 📱 llame/envíe un mensaje de texto al (541) 261-0823. \n✨ ¡Espero poder contactarte! 💛
URL:https://bcoregon.org/event/virtual-book-club-deaf-utopia-club-de-lectura-virtual-deaf-utopia-2/
LOCATION:OR
END:VEVENT
END:VCALENDAR