BEGIN:VCALENDAR
VERSION:2.0
PRODID:-//Bridging Communities - ECPv6.15.20//NONSGML v1.0//EN
CALSCALE:GREGORIAN
METHOD:PUBLISH
X-WR-CALNAME:Bridging Communities
X-ORIGINAL-URL:https://bcoregon.org
X-WR-CALDESC:Events for Bridging Communities
REFRESH-INTERVAL;VALUE=DURATION:PT1H
X-Robots-Tag:noindex
X-PUBLISHED-TTL:PT1H
BEGIN:VTIMEZONE
TZID:America/Los_Angeles
BEGIN:DAYLIGHT
TZOFFSETFROM:-0800
TZOFFSETTO:-0700
TZNAME:PDT
DTSTART:20240310T100000
END:DAYLIGHT
BEGIN:STANDARD
TZOFFSETFROM:-0700
TZOFFSETTO:-0800
TZNAME:PST
DTSTART:20241103T090000
END:STANDARD
BEGIN:DAYLIGHT
TZOFFSETFROM:-0800
TZOFFSETTO:-0700
TZNAME:PDT
DTSTART:20250309T100000
END:DAYLIGHT
BEGIN:STANDARD
TZOFFSETFROM:-0700
TZOFFSETTO:-0800
TZNAME:PST
DTSTART:20251102T090000
END:STANDARD
BEGIN:DAYLIGHT
TZOFFSETFROM:-0800
TZOFFSETTO:-0700
TZNAME:PDT
DTSTART:20260308T100000
END:DAYLIGHT
BEGIN:STANDARD
TZOFFSETFROM:-0700
TZOFFSETTO:-0800
TZNAME:PST
DTSTART:20261101T090000
END:STANDARD
END:VTIMEZONE
BEGIN:VEVENT
DTSTART;TZID=America/Los_Angeles:20250403T090000
DTEND;TZID=America/Los_Angeles:20250403T110000
DTSTAMP:20260423T204048
CREATED:20250327T190402Z
LAST-MODIFIED:20250327T190402Z
UID:10000018-1743670800-1743678000@bcoregon.org
SUMMARY:Parent Coffee / Café para padres
DESCRIPTION:☕️ Parent Coffee: Connect & Recharge! ☕️ \nNeed a break? Want to chat with other parents who share similar experiences? Looking for support and resources? Join us at Parent Coffee! \n🗓 When: 1st Thursday of every month\, 9am – 11am📍Where: Black Rock Coffee Bar\, Medford\, OR \nCome as you are! Whether you need a listening ear\, advice\, or just a warm cup of coffee\, we’re here for you. Let’s build community\, share experiences\, and support each other. ❤️ \n// \n☕️ Café para padres: ¡Conéctate y recarga energías! ☕️ \n¿Necesitas un descanso? ​​¿Quieres conversar con otros padres que comparten experiencias similares? ¿Buscas apoyo y recursos? ¡Únete a nosotros en el Café para padres! \n🗓 Cuándo: el primer jueves de cada mes\, de 9:00 a.m. a 11:00 a.m.\n📍Dónde: Black Rock Coffee Bar\, Medford\, OR \n¡Ven tal como eres! Ya sea que necesites que te escuchen\, un consejo o simplemente una taza de café caliente\, estamos aquí para ti. Construyamos una comunidad\, compartamos experiencias y apoyémonos mutuamente. ❤️
URL:https://bcoregon.org/event/parent-coffee-cafe-para-padres-2/
LOCATION:Black Rock Coffee Bar\, 151 Rossanley Dr. #101\, Medford\, OR\, 97501\, United States
CATEGORIES:Support Groups
END:VEVENT
BEGIN:VEVENT
DTSTART;TZID=America/Los_Angeles:20250403T190000
DTEND;TZID=America/Los_Angeles:20250403T200000
DTSTAMP:20260423T204048
CREATED:20250327T203505Z
LAST-MODIFIED:20250327T203505Z
UID:10000037-1743706800-1743710400@bcoregon.org
SUMMARY:Virtual Book Club - "Deaf Utopia" / Club de lectura virtual - "Deaf Utopía"
DESCRIPTION:🎉 Join us for an inspiring discussion of Deaf Utopia: A Memoir – and a Love Letter to a Way of Life by Nyle DiMarco. 🤟✨ This New York Times bestseller celebrates Deaf culture and offers a deeper understanding of the Deaf experience. 🌎💙 \n📖 Virtual Meetings:🗓 April 3rd | 🗓 April 17th⏰ 7:00 – 8:00 PM \n💬 These sessions are an opportunity to discuss sections of the book\, hear from special guests\, 📢 access resources\, and connect with other parents in the Deaf community. 🏡👨‍👩‍👧‍👦 \n⚠️ Unfortunately\, this book is only available in English. We apologize for any inconvenience and would love to host a future book club 📚 where the book is available in additional languages. \n🤝 Facilitated by: Lauren White (Southern Oregon Parent Guide\, Hands & Voices of Oregon) in partnership with Bridging Communities. \n📩 Questions? Contact Lauren at 📧 Lauren@handsandvoicesor.org or 📱 call/text (541) 261-0823. \n✨ Looking forward to connecting with you! 💛 \n// \n🎉 Únase a nosotros para una inspiradora charla sobre “Utopía Sorda: Memorias y Carta de Amor a una Forma de Vida” de Nyle DiMarco. 🤟✨ Este bestseller del New York Times celebra la cultura sorda y ofrece una comprensión más profunda de la experiencia de las personas sordas. 🌎💙 \n📖 Reuniones Virtuales:🗓 3 de Abril | 🗓 17 de Abril⏰ 7:00 – 8:00 p.m. \n💬 Este club de lectura es para padres de niños sordos o con dificultades auditivas\, ¡pero todos son bienvenidos! 🏡👨‍👩‍👧‍👦 Asistir a las reuniones es opcional; 📚 recibirá una copia gratuita del libro al registrarse. \n🚨 Lamentablemente\, este libro solo está disponible en inglés. ⚠️ Disculpen las molestias y nos encantaría organizar un club de lectura en el futuro 📖 donde el libro esté disponible en otros idiomas. \n🤝 Facilitado por: Lauren White (Guía para Padres del Sur de Oregón\, Manos y Voces de Oregón) en colaboración con Bridging Communities. \n📩 ¿Preguntas? Contacte a Lauren en 📧 Lauren@handsandvoicesor.org o 📱 llame/envíe un mensaje de texto al (541) 261-0823. \n✨ ¡Espero poder contactarte! 💛
URL:https://bcoregon.org/event/virtual-book-club-deaf-utopia-club-de-lectura-virtual-deaf-utopia/
LOCATION:OR
END:VEVENT
END:VCALENDAR