BEGIN:VCALENDAR
VERSION:2.0
PRODID:-//Bridging Communities - ECPv6.15.20//NONSGML v1.0//EN
CALSCALE:GREGORIAN
METHOD:PUBLISH
X-WR-CALNAME:Bridging Communities
X-ORIGINAL-URL:https://bcoregon.org
X-WR-CALDESC:Events for Bridging Communities
REFRESH-INTERVAL;VALUE=DURATION:PT1H
X-Robots-Tag:noindex
X-PUBLISHED-TTL:PT1H
BEGIN:VTIMEZONE
TZID:America/Los_Angeles
BEGIN:DAYLIGHT
TZOFFSETFROM:-0800
TZOFFSETTO:-0700
TZNAME:PDT
DTSTART:20240310T100000
END:DAYLIGHT
BEGIN:STANDARD
TZOFFSETFROM:-0700
TZOFFSETTO:-0800
TZNAME:PST
DTSTART:20241103T090000
END:STANDARD
BEGIN:DAYLIGHT
TZOFFSETFROM:-0800
TZOFFSETTO:-0700
TZNAME:PDT
DTSTART:20250309T100000
END:DAYLIGHT
BEGIN:STANDARD
TZOFFSETFROM:-0700
TZOFFSETTO:-0800
TZNAME:PST
DTSTART:20251102T090000
END:STANDARD
BEGIN:DAYLIGHT
TZOFFSETFROM:-0800
TZOFFSETTO:-0700
TZNAME:PDT
DTSTART:20260308T100000
END:DAYLIGHT
BEGIN:STANDARD
TZOFFSETFROM:-0700
TZOFFSETTO:-0800
TZNAME:PST
DTSTART:20261101T090000
END:STANDARD
END:VTIMEZONE
BEGIN:VEVENT
DTSTART;TZID=America/Los_Angeles:20250321T163000
DTEND;TZID=America/Los_Angeles:20250321T183000
DTSTAMP:20260423T220902
CREATED:20250314T204038Z
LAST-MODIFIED:20250314T204754Z
UID:10000017-1742574600-1742581800@bcoregon.org
SUMMARY:2nd Annual World Down Syndrome Day Celebration / 2nd Celebración Anual del Día Mundial del Síndrome de Down
DESCRIPTION: Rock Your Socks at Our 2nd Annual World Down Syndrome Day Celebration! \n\nWe’re excited to invite you to our “Rock Your Socks” Sock Hop on Friday\, March 21st\, 2025\, from 4:30 to 6:30 pm at The Square Dance Hall in Medford\, OR!\n\nThis FREE event is all about bringing people of all ages together to connect\, celebrate\, and build an inclusive community while breaking stereotypes and celebrating abilities. Whether you have a loved one with Down syndrome\, are a supporter\, or simply want to join in the fun\neveryone is welcome!\n\n Enjoy: Dancing to fun tunes Tasty refreshments Meaningful connections with other families\n Dress Code: Wear your brightest\, silliest\, or favorite socks to show your support for World Down Syndrome Day!\n\n Event Details: Date: Friday\, March 21st\, 2025 Time: 4:30 – 6:30 pm Location: The Square Dance Hall\, 3377 Table Rock Rd\, Medford\, OR\n\nRegister HERE  https://forms.gle/rp45vequrPa2767S9\n\nFor questions\, contact us at info@bcoregon.org or (458) 278-0697.\n\n//\n ¡Luce tus calcetines en nuestra 2nd celebración anual del Día Mundial del Síndrome de Down! \n\n¡Estamos encantados de invitarte a nuestro evento de calcetines “Luce tus calcetines” el viernes 21 de Marzo de 2025\, de 4:30 a 6:30 p.m. en The Square Dance Hall en Medford\, OR!\n\nEste evento GRATUITO tiene como objetivo reunir a personas de todas las edades para conectarse\, celebrar y construir una comunidad inclusiva mientras rompemos estereotipos y celebramos habilidades. Ya sea que tengas un ser querido con síndrome de Down\, seas un partidario o simplemente quieras unirte a la diversión\, ¡todos son bienvenidos!\n\n Disfruta de: Bailar con melodías divertidas Refrigerios sabrosos Conexiones significativas con otras familias\n Código de vestimenta: ¡Usa tus calcetines más brillantes\, más divertidos o favoritos para mostrar tu apoyo al Día Mundial del Síndrome de Down!\n\n Detalles del evento: Fecha: viernes 21 de Marzo de 2025 Hora: 4:30 a 6:30 p. m. Ubicación: The Square Dance Hall\, 3377 Table Rock Rd\, Medford\, OR\n\nRegístrate AQUÍ  https://forms.gle/rp45vequrPa2767S9\n\nSi tienes preguntas\, contáctanos en info@bcoregon.org o al (458) 278-0697.
URL:https://bcoregon.org/event/2nd-annual-world-down-syndrome-day-celebration-2nd-celebracion-anual-del-dia-mundial-del-sindrome-de-down/
LOCATION:3377 Table Rock Rd Medford\, Oregon\, 3377 Table Rock Rd\, Medford\, OR\, 97501\, United States
END:VEVENT
END:VCALENDAR