BEGIN:VCALENDAR
VERSION:2.0
PRODID:-//Bridging Communities - ECPv6.15.20//NONSGML v1.0//EN
CALSCALE:GREGORIAN
METHOD:PUBLISH
X-WR-CALNAME:Bridging Communities
X-ORIGINAL-URL:https://bcoregon.org
X-WR-CALDESC:Events for Bridging Communities
REFRESH-INTERVAL;VALUE=DURATION:PT1H
X-Robots-Tag:noindex
X-PUBLISHED-TTL:PT1H
BEGIN:VTIMEZONE
TZID:America/Los_Angeles
BEGIN:DAYLIGHT
TZOFFSETFROM:-0800
TZOFFSETTO:-0700
TZNAME:PDT
DTSTART:20240310T100000
END:DAYLIGHT
BEGIN:STANDARD
TZOFFSETFROM:-0700
TZOFFSETTO:-0800
TZNAME:PST
DTSTART:20241103T090000
END:STANDARD
BEGIN:DAYLIGHT
TZOFFSETFROM:-0800
TZOFFSETTO:-0700
TZNAME:PDT
DTSTART:20250309T100000
END:DAYLIGHT
BEGIN:STANDARD
TZOFFSETFROM:-0700
TZOFFSETTO:-0800
TZNAME:PST
DTSTART:20251102T090000
END:STANDARD
BEGIN:DAYLIGHT
TZOFFSETFROM:-0800
TZOFFSETTO:-0700
TZNAME:PDT
DTSTART:20260308T100000
END:DAYLIGHT
BEGIN:STANDARD
TZOFFSETFROM:-0700
TZOFFSETTO:-0800
TZNAME:PST
DTSTART:20261101T090000
END:STANDARD
END:VTIMEZONE
BEGIN:VEVENT
DTSTART;TZID=America/Los_Angeles:20250318T180000
DTEND;TZID=America/Los_Angeles:20250318T193000
DTSTAMP:20260423T220729
CREATED:20250314T202526Z
LAST-MODIFIED:20250314T204823Z
UID:10000015-1742320800-1742326200@bcoregon.org
SUMMARY:Activating EMS For A Loved One  /   Activando EMS para un Ser Querido
DESCRIPTION:🚨 Join Us for a Supportive & Informative Roundtable! 🗣️💙 \nJoin us for a supportive and informative roundtable discussion dedicated to helping parents of children with disabilities and mental health challenges safely and effectively activate emergency medical services (EMS) 🚑 for their loved ones. \n✨ This event will provide valuable strategies\, share experiences\, and foster meaningful conversations aimed at improving safety and communication during emergencies. Don’t miss this opportunity to connect with other families and gain insightful knowledge! 🍽️ Dinner will be provided! \n📌 Additional Resources:\n📖 We will provide information on how to register for HERO Kids and share social stories 📚 to help children understand their interactions with police 🚔\, fire department 🚒\, and paramedics 🚑. These resources aim to improve safety and communication during emergencies. \n✅ Registration Required: https://forms.gle/NtJoBxbx8ybJPTkCA \n📞 Contact Information:\nFor any questions\, please reach out to Bridging Communities:\n📧 Email: info@bcoregon.org\n📲 Phone: (458) 278-0697 \n⚠️ Limited Spanish translation may be provided if requested more than three days in advance. \n\n🚨 ¡Únase a Nosotros para una Mesa Redonda Informativa y de Apoyo! 🗣️💙 \n¡Únase a nosotros para una mesa redonda informativa y de apoyo dedicada a ayudar a los padres de niños con discapacidades y problemas de salud mental a activar de manera segura y eficaz los servicios médicos de emergencia (EMS) 🚑 para sus seres queridos! \n✨ Este evento proporcionará estrategias valiosas\, permitirá compartir experiencias y fomentará conversaciones significativas dirigidas a mejorar la seguridad y la comunicación durante emergencias. ¡No pierda la oportunidad de conectarse con otras familias y obtener conocimientos valiosos! 🍽️ ¡Se proporcionará la cena! \n📌 Recursos Adicionales:\n📖 Proporcionaremos información sobre cómo registrarse en HERO Kids y compartiremos historias sociales 📚 para ayudar a los niños a entender sus interacciones con la policía 🚔\, el departamento de bomberos 🚒 y los paramédicos 🚑. Estos recursos tienen como objetivo mejorar la seguridad y la comunicación durante emergencias. \n✅ Registro Requerido: https://forms.gle/NtJoBxbx8ybJPTkCA \n📞 Información de Contacto:\nPara cualquier pregunta\, comuníquese con Bridging Communities:\n📧 Correo Electrónico: info@bcoregon.org\n📲 Teléfono: (458) 278-0697 \n⚠️ Se puede proporcionar una traducción limitada al español si se solicita con más de tres días de anticipación.
URL:https://bcoregon.org/event/activating-ems-for-a-loved-one-activando-ems-para-un-ser-querido/
LOCATION:Living Opportunities\, 1017 N Riverside Ave\, Medford\, OR\, 97501\, United States
END:VEVENT
END:VCALENDAR