BEGIN:VCALENDAR
VERSION:2.0
PRODID:-//Bridging Communities - ECPv6.15.20//NONSGML v1.0//EN
CALSCALE:GREGORIAN
METHOD:PUBLISH
X-ORIGINAL-URL:https://bcoregon.org
X-WR-CALDESC:Events for Bridging Communities
REFRESH-INTERVAL;VALUE=DURATION:PT1H
X-Robots-Tag:noindex
X-PUBLISHED-TTL:PT1H
BEGIN:VTIMEZONE
TZID:America/Los_Angeles
BEGIN:DAYLIGHT
TZOFFSETFROM:-0800
TZOFFSETTO:-0700
TZNAME:PDT
DTSTART:20240310T100000
END:DAYLIGHT
BEGIN:STANDARD
TZOFFSETFROM:-0700
TZOFFSETTO:-0800
TZNAME:PST
DTSTART:20241103T090000
END:STANDARD
BEGIN:DAYLIGHT
TZOFFSETFROM:-0800
TZOFFSETTO:-0700
TZNAME:PDT
DTSTART:20250309T100000
END:DAYLIGHT
BEGIN:STANDARD
TZOFFSETFROM:-0700
TZOFFSETTO:-0800
TZNAME:PST
DTSTART:20251102T090000
END:STANDARD
BEGIN:DAYLIGHT
TZOFFSETFROM:-0800
TZOFFSETTO:-0700
TZNAME:PDT
DTSTART:20260308T100000
END:DAYLIGHT
BEGIN:STANDARD
TZOFFSETFROM:-0700
TZOFFSETTO:-0800
TZNAME:PST
DTSTART:20261101T090000
END:STANDARD
END:VTIMEZONE
BEGIN:VEVENT
DTSTART;TZID=America/Los_Angeles:20250304T180000
DTEND;TZID=America/Los_Angeles:20250304T200000
DTSTAMP:20260423T221103
CREATED:20250222T061731Z
LAST-MODIFIED:20250222T061804Z
UID:10000012-1741111200-1741118400@bcoregon.org
SUMMARY:Explorando comportamientos desde la perspectiva de los padres  /  Exploring Behaviors from a Parent's Perspective in Spanish
DESCRIPTION:  \n🌟 Explorando comportamientos desde la perspectiva de los padres (en Español) 🌟 \n📅 Cuándo: martes 4 de Marzo de 2025 | 6:00 p. m. a 8:00 p. m.\n📍 Dónde: en línea a través de Zoom (se enviará el enlace antes del evento) \n🎤 Presentadoras: Maria Rangel y Britania Vazquez\, especialistas en programas bilingües en FACT Oregon \nÚnase a Bridging Communities y FACT Oregon para una entrenamiento de apoyo y bienvenida diseñada para ayudar a los padres a comprender y abordar mejor los comportamientos de sus hijos. \nEste taller brindará estrategias prácticas\, conocimientos y apoyo compasivo para ayudarlo a fortalecer su conexión con su hijo y abordar los desafíos con confianza. \n💡 Lo que aprenderás:\n✔ Por qué ocurren los comportamientos y cómo responder de manera efectiva\n✔ Estrategias para manejar los comportamientos con comprensión y apoyo\n✔ Maneras de fortalecer la conexión entre padres e hijos \n⚠️ Importante: Esta capacitación se realizará completamente en Español y no habrá interpretación al Inglés disponible. \n✨ Este es un evento gratuito\, ¡pero es necesario registrarse! No pierdas esta oportunidad de aprender y conectarte con otros padres en un espacio de apoyo. \n📌 Regístrate ahora: https://forms.gle/n89Kxo8CkEqUjTsA7 \n// \n🌟 Exploring Behaviors from a Parent’s Perspective (In Spanish) 🌟 \n📅 When: Tuesday\, March 4\, 2025 | 6:00 PM – 8:00 PM\n📍 Where: Online via Zoom (link will be sent before the event) \n🎤 Presenters: Maria Rangel & Britania Vazquez\, Bilingual Program Specialists at FACT Oregon \nJoin Bridging Communities and FACT Oregon for a supportive and welcoming training designed to help parents better understand and navigate their child’s behaviors. \nThis workshop will provide practical strategies\, insights\, and compassionate support to help you strengthen your connection with your child and approach challenges with confidence. \n💡 What you’ll learn:\n✔ Why behaviors happen and how to respond effectively\n✔ Strategies for managing behaviors with understanding and support\n✔ Ways to strengthen your parent-child connection \n⚠️ Important: This training will be conducted entirely in Spanish\, and English interpretation will not be available. \n✨ This is a free event\, but registration is required! Don’t miss this opportunity to learn and connect with other parents in a supportive space. \n📌 Register now: https://forms.gle/UY85iEbk3mXVT9yU6
URL:https://bcoregon.org/event/3501/
LOCATION:OR
END:VEVENT
END:VCALENDAR