BEGIN:VCALENDAR
VERSION:2.0
PRODID:-//Bridging Communities - ECPv6.15.20//NONSGML v1.0//EN
CALSCALE:GREGORIAN
METHOD:PUBLISH
X-WR-CALNAME:Bridging Communities
X-ORIGINAL-URL:https://bcoregon.org
X-WR-CALDESC:Events for Bridging Communities
REFRESH-INTERVAL;VALUE=DURATION:PT1H
X-Robots-Tag:noindex
X-PUBLISHED-TTL:PT1H
BEGIN:VTIMEZONE
TZID:America/Los_Angeles
BEGIN:DAYLIGHT
TZOFFSETFROM:-0800
TZOFFSETTO:-0700
TZNAME:PDT
DTSTART:20240310T100000
END:DAYLIGHT
BEGIN:STANDARD
TZOFFSETFROM:-0700
TZOFFSETTO:-0800
TZNAME:PST
DTSTART:20241103T090000
END:STANDARD
BEGIN:DAYLIGHT
TZOFFSETFROM:-0800
TZOFFSETTO:-0700
TZNAME:PDT
DTSTART:20250309T100000
END:DAYLIGHT
BEGIN:STANDARD
TZOFFSETFROM:-0700
TZOFFSETTO:-0800
TZNAME:PST
DTSTART:20251102T090000
END:STANDARD
BEGIN:DAYLIGHT
TZOFFSETFROM:-0800
TZOFFSETTO:-0700
TZNAME:PDT
DTSTART:20260308T100000
END:DAYLIGHT
BEGIN:STANDARD
TZOFFSETFROM:-0700
TZOFFSETTO:-0800
TZNAME:PST
DTSTART:20261101T090000
END:STANDARD
END:VTIMEZONE
BEGIN:VEVENT
DTSTART;TZID=America/Los_Angeles:20250301T100000
DTEND;TZID=America/Los_Angeles:20250301T130000
DTSTAMP:20260423T220728
CREATED:20250222T063154Z
LAST-MODIFIED:20250222T063154Z
UID:10000013-1740823200-1740834000@bcoregon.org
SUMMARY:Dr Seuss's Birthday Party / Fiesta de cumpleaños del Dr. Seuss
DESCRIPTION:  \n  \n  \n  \n  \n🎉📚 You’re Invited to Dr. Seuss’s Birthday Party! 📚🎉 \nJoin us on Saturday\, March 1st\, from 10am to 1pm for a fun-filled celebration of Dr. Seuss’s birthday! \n🎨 Enjoy:📖 Storytime with beloved Dr. Seuss tales🎲 Crafts and games for little ones🍿 Yummy snacks🎁 Goodie bags to take home \nThis event is designed for children ages 0 to 5 and their families. We welcome everyone to join in the fun\, connect with other families\, and make new friends! \n👉 Mark your calendar and bring your smiles—this is a party you won’t want to miss! \n// \n🎉📚 ¡Estás invitado a la fiesta de cumpleaños del Dr. Seuss! 📚🎉 \n¡Únete a nosotros el Sábado 1 de Marzo\, de 10 a.m. a 1 p.m.\, para una celebración llena de diversión del cumpleaños del Dr. Seuss! \n🎨 Disfruta de:\n📖 La hora del cuento con los queridos cuentos del Dr. Seuss\n🎲 Manualidades y juegos para los más pequeños\n🍿 Bocadillos deliciosos\n🎁 Bolsas de regalos para llevar a casa \nEste evento está diseñado para niños de 0 a 5 años y sus familias. ¡Invitamos a todos a unirse a la diversión\, conectarse con otras familias y hacer nuevos amigos! \n👉 ¡Marca tu calendario y trae tus sonrisas: esta es una fiesta que no querrás perderte!
URL:https://bcoregon.org/event/dr-seusss-birthday-party-fiesta-de-cumpleanos-del-dr-seuss/
LOCATION:Growing Together\, 310 SW H Street\, Grants Pass\, OR\, 97526\, United States
END:VEVENT
END:VCALENDAR